BEGIN:VCALENDAR
VERSION:2.0
PRODID:-//RA MA LIFE - ECPv6.15.15//NONSGML v1.0//EN
CALSCALE:GREGORIAN
METHOD:PUBLISH
X-WR-CALNAME:RA MA LIFE
X-ORIGINAL-URL:https://ramayogainstitute.com
X-WR-CALDESC:Events for RA MA LIFE
REFRESH-INTERVAL;VALUE=DURATION:PT1H
X-Robots-Tag:noindex
X-PUBLISHED-TTL:PT1H
BEGIN:VTIMEZONE
TZID:America/Los_Angeles
BEGIN:DAYLIGHT
TZOFFSETFROM:-0800
TZOFFSETTO:-0700
TZNAME:PDT
DTSTART:20210314T100000
END:DAYLIGHT
BEGIN:STANDARD
TZOFFSETFROM:-0700
TZOFFSETTO:-0800
TZNAME:PST
DTSTART:20211107T090000
END:STANDARD
BEGIN:DAYLIGHT
TZOFFSETFROM:-0800
TZOFFSETTO:-0700
TZNAME:PDT
DTSTART:20220313T100000
END:DAYLIGHT
BEGIN:STANDARD
TZOFFSETFROM:-0700
TZOFFSETTO:-0800
TZNAME:PST
DTSTART:20221106T090000
END:STANDARD
BEGIN:DAYLIGHT
TZOFFSETFROM:-0800
TZOFFSETTO:-0700
TZNAME:PDT
DTSTART:20230312T100000
END:DAYLIGHT
BEGIN:STANDARD
TZOFFSETFROM:-0700
TZOFFSETTO:-0800
TZNAME:PST
DTSTART:20231105T090000
END:STANDARD
END:VTIMEZONE
BEGIN:VEVENT
DTSTART;TZID=America/Los_Angeles:20220421T174500
DTEND;TZID=America/Los_Angeles:20220421T184500
DTSTAMP:20260425T092549
CREATED:20210813T162922Z
LAST-MODIFIED:20220416T025516Z
UID:1693113-1650563100-1650566700@ramayogainstitute.com
SUMMARY:Kundalini Yoga & Meditation with RA MA Crew
DESCRIPTION:Learn More & Tune In
URL:https://ramayogainstitute.com/event/kundalini-yoga-meditation-with-jen-saltiel-2-2021-12-07-2021-12-09-2022-01-06-2022-02-24-2022-04-21/
LOCATION:Online
CATEGORIES:In Person,RA MA TV Live
ATTACH;FMTTYPE=image/jpeg:https://ramayogainstitute.com/wp-content/uploads/2021/12/Students-Training-Los-Angeles.jpg
END:VEVENT
BEGIN:VEVENT
DTSTART;TZID=America/Los_Angeles:20220419T190000
DTEND;TZID=America/Los_Angeles:20220419T203000
DTSTAMP:20260425T092549
CREATED:20220416T023930Z
LAST-MODIFIED:20220419T025134Z
UID:1703802-1650394800-1650400200@ramayogainstitute.com
SUMMARY:Celebrating RA MA's 9th Birthday with Harijiwan
DESCRIPTION:Kundalini Yoga\, Meditation & Gong Class \nHarijiwan has been teaching Kundalini Yoga since 1975. He is the founder of the GRAMMY® Award Winning Band\, White Sun. \nWith over 45 years of experience in the science of Kundalini Yoga and Humanology\, Harijiwan incorporates  vast knowledge of various methodologies and training into his practice\, including face reading and the parapsychology of moving thought forms. His application of this technology is unique offering the participant a chance to fully benefit from the multiple aspects of these ancient\, yet timely teachings. \n  \nFor many years Harijiwan directly served his teacher\, Yogi Bhajan\, while extensively traveling the world with him. This opportunity to study with and observe a living master provided Harijiwan with invaluable insight into the nature of consciousness and the human condition\, as well as a thorough understanding of the impact\, interplay\, and significance of the various planetary and inter-planetary energy fields. \n  \nToday\, and throughout his years as a teacher and healer\, Harijiwan remains committed to expanding his knowledge and experience to provide his students with the most progressive\, effective\, self-empowering approaches that increase over-all joy and wholeness within the context of everyday experiences. \n\n$22\, Complimentary for RA MA TV Live Members \nSign Up \n 
URL:https://ramayogainstitute.com/event/celebrating-ra-mas-9th-birthday-with-harijiwan/
LOCATION:Online
CATEGORIES:In Person,Pay Per View Workshops,RA MA TV Live
ATTACH;FMTTYPE=image/jpeg:https://ramayogainstitute.com/wp-content/uploads/2022/02/Harijiwan-Los-Angeles-e1658611328102.jpg
END:VEVENT
BEGIN:VEVENT
DTSTART;TZID=America/Los_Angeles:20220419T110000
DTEND;TZID=America/Los_Angeles:20220419T120000
DTSTAMP:20260425T092549
CREATED:20210813T162003Z
LAST-MODIFIED:20220419T021848Z
UID:1676803-1650366000-1650369600@ramayogainstitute.com
SUMMARY:Prosperity Hour with Malyvahn
DESCRIPTION:Join us for this special new series “Prosperity Hour.” These practices will brighten your day and expand the aura in all directions unlocking your hidden treasures. Invest an hour to charge up and experience your power to set a projection that lasts. Health\, Wealth\, Happiness. Thank you. \nMalyvahn studied with Tej & Harijiwan. Kundalini Yoga and Meditation was a lighting fast practice for her self growth and healing. An entrepreneur at heart. Her goal is to hold a healing space\, guided by the teachings\, where each student can reach their highest bliss of prosperity! \nLearn More & Tune In
URL:https://ramayogainstitute.com/event/malyvahn-12-14-21-2022-04-19/
LOCATION:Online
CATEGORIES:Community Content,In Person,RA MA TV Live
ATTACH;FMTTYPE=image/png:https://ramayogainstitute.com/wp-content/uploads/2021/12/Malyvahn-cal-icon.png
END:VEVENT
BEGIN:VEVENT
DTSTART;TZID=America/Los_Angeles:20220419T090000
DTEND;TZID=America/Los_Angeles:20220419T103000
DTSTAMP:20260425T092549
CREATED:20211028T002901Z
LAST-MODIFIED:20220419T021841Z
UID:1661345-1650358800-1650364200@ramayogainstitute.com
SUMMARY:Nurturing a New Era with Gurujas
DESCRIPTION:Gurujas teaches that Kundalini Yoga is an experientially-based system–a science of joy\, fulfillment and love. She also believes that happiness is a vibrational frequency\, and can be an enduring state of being. Gurujas is the lead singer of the Grammy Award winning group White Sun. \nLearn More & Tune In
URL:https://ramayogainstitute.com/event/kundalini-yoga-meditation-with-gurujas-11-2021-12-05-2022-01-09-2022-02-27-2022-04-19/
LOCATION:Online
CATEGORIES:Community Content,In Person,RA MA TV Live
ATTACH;FMTTYPE=image/jpeg:https://ramayogainstitute.com/wp-content/uploads/2021/10/Gurujas-7.jpg
END:VEVENT
BEGIN:VEVENT
DTSTART;TZID=America/Los_Angeles:20220417T110000
DTEND;TZID=America/Los_Angeles:20220417T123000
DTSTAMP:20260425T092549
CREATED:20211111T221625Z
LAST-MODIFIED:20220416T022129Z
UID:1665958-1650193200-1650198600@ramayogainstitute.com
SUMMARY:Wholly Being with Mikal Vega
DESCRIPTION:Mikal Vega\, is a former Navy SEAL and 22-year combat veteran who walked the road from trauma to recovery. It wasn’t until several years after returning home that he realized the extent of his “invisible injuries.” He decided to follow his instinct toward alternative approaches. After exploring a variety of options in his own community\, Mikal found Kundalini Yoga which helped him to restore balance in his own life. In the end\, he made a radical leap forward – from the depths of post-traumatic stress to feeling liberated from his symptoms. Mikal is committed to the development of an experiential based\, personalized process and daily practice in his students to facilitate true\, lasting change. Harnessing the lessons learned during his experientially developed philosophies\, it’s his vision to help others dismantle perceptual boundaries and to realize their own creative potential. Mikal embodies and broadcasts the warrior energy in his classes. His dedication to technical accuracy develops deep focus and powerful projection establishing balance of destructive energies through the cultivation of ones own creative force. \nLearn More & Tune In
URL:https://ramayogainstitute.com/event/vital-warrior-kundalini-11-21-21-2021-12-12-2021-12-26-2022-01-09-2022-01-16-2022-04-17/
LOCATION:Online
CATEGORIES:In Person,RA MA TV Live
ATTACH;FMTTYPE=image/jpeg:https://ramayogainstitute.com/wp-content/uploads/2021/07/mikal-vega-cal-icon.jpg
END:VEVENT
BEGIN:VEVENT
DTSTART;TZID=America/Los_Angeles:20220417T090000
DTEND;TZID=America/Los_Angeles:20220417T103000
DTSTAMP:20260425T092549
CREATED:20211028T002901Z
LAST-MODIFIED:20220416T024424Z
UID:1665796-1650186000-1650191400@ramayogainstitute.com
SUMMARY:The Great Tantric Sun: Wisdom Path with Gurujas
DESCRIPTION:Gurujas teaches that Kundalini Yoga is an experientially-based system–a science of joy\, fulfillment and love. She also believes that happiness is a vibrational frequency\, and can be an enduring state of being. Gurujas is the lead singer of the Grammy Award winning group White Sun. \nLearn More & Tune In
URL:https://ramayogainstitute.com/event/kundalini-yoga-meditation-with-gurujas-11-2021-12-05-2022-01-09-2022-02-27-2022-04-17/
LOCATION:Online
CATEGORIES:Community Content,In Person,RA MA TV Live
ATTACH;FMTTYPE=image/jpeg:https://ramayogainstitute.com/wp-content/uploads/2021/10/Gurujas-7.jpg
END:VEVENT
BEGIN:VEVENT
DTSTART;TZID=America/Los_Angeles:20220416T140000
DTEND;TZID=America/Los_Angeles:20220416T160000
DTSTAMP:20260425T092549
CREATED:20220411T223421Z
LAST-MODIFIED:20220416T013813Z
UID:1702608-1650117600-1650124800@ramayogainstitute.com
SUMMARY:Full Moon in Libra with Harijiwan
DESCRIPTION:Kundalini Yoga\, Meditation & Gong Workshop \nLive Workshop on RA MA TV + Infinite Replay \n$50 In Advance\, $55 Day of \nSign Up \nWatch Now
URL:https://ramayogainstitute.com/event/full-moon-in-libra-with-harijiwan/
LOCATION:Online
CATEGORIES:In Person,Pay Per View Workshops
ATTACH;FMTTYPE=image/jpeg:https://ramayogainstitute.com/wp-content/uploads/2022/03/Harijiwan-Los-Angeles.jpg
END:VEVENT
BEGIN:VEVENT
DTSTART;TZID=America/Los_Angeles:20220416T110000
DTEND;TZID=America/Los_Angeles:20220416T120000
DTSTAMP:20260425T092549
CREATED:20220106T175546Z
LAST-MODIFIED:20220416T012711Z
UID:1692214-1650106800-1650110400@ramayogainstitute.com
SUMMARY:Kundalini Yoga & Meditation with Marta Ulbricht
DESCRIPTION:Learn More & Tune In
URL:https://ramayogainstitute.com/event/kundalini-yoga-marta-1-15-21-2022-02-19-2022-04-16/
LOCATION:Online
CATEGORIES:In Person,RA MA TV Live
ATTACH;FMTTYPE=image/jpeg:https://ramayogainstitute.com/wp-content/uploads/2021/12/Marta-Ulbricht.jpg
END:VEVENT
BEGIN:VEVENT
DTSTART;TZID=America/Los_Angeles:20220416T090000
DTEND;TZID=America/Los_Angeles:20220416T103000
DTSTAMP:20260425T092549
CREATED:20211209T010530Z
LAST-MODIFIED:20220414T053909Z
UID:1685621-1650099600-1650105000@ramayogainstitute.com
SUMMARY:Balancing Act with Shabadpreet
DESCRIPTION:Shabadpreet is a teacher trained in Yogi Bhajan’s healing technologies and various other subtle and physical healing modalities. Since her first encounter with Kundalini Yoga and Meditation in 2008 Shabadpreet has since studied with her teacher Guru Jagat. Kundalini Yoga and Mediation is a lightning fast practice for directly re-connecting with who you are\, cutting through anxiety\, depression\, and other low frequency states\, and freeing up your abundant natural energy. \nLearn More & Tune In
URL:https://ramayogainstitute.com/event/shabadpreet-kundalini-12-11-21-2022-01-08-2022-01-15-2022-04-16/
LOCATION:Online
CATEGORIES:Community Content,In Person,RA MA TV Live
ATTACH;FMTTYPE=image/jpeg:https://ramayogainstitute.com/wp-content/uploads/2021/12/Shabadpreet.jpg
END:VEVENT
BEGIN:VEVENT
DTSTART;TZID=America/Los_Angeles:20220414T174500
DTEND;TZID=America/Los_Angeles:20220414T184500
DTSTAMP:20260425T092549
CREATED:20210813T162922Z
LAST-MODIFIED:20220414T045824Z
UID:1693112-1649958300-1649961900@ramayogainstitute.com
SUMMARY:Kundalini Yoga & Meditation with Gabrielle Goss
DESCRIPTION:Learn More & Tune In
URL:https://ramayogainstitute.com/event/kundalini-yoga-meditation-with-jen-saltiel-2-2021-12-07-2021-12-09-2022-01-06-2022-02-24-2022-04-14/
LOCATION:Online
CATEGORIES:In Person,RA MA TV Live
ATTACH;FMTTYPE=image/jpeg:https://ramayogainstitute.com/wp-content/uploads/2021/08/Gabrielle-Goss.jpg
END:VEVENT
BEGIN:VEVENT
DTSTART;TZID=America/Los_Angeles:20220412T183000
DTEND;TZID=America/Los_Angeles:20220412T203000
DTSTAMP:20260425T092549
CREATED:20220411T064758Z
LAST-MODIFIED:20220412T004354Z
UID:1702470-1649788200-1649795400@ramayogainstitute.com
SUMMARY:Jupiter Neptune Conjunct Workshop with Harijiwan
DESCRIPTION:Kundalini Yoga\, Meditation & Gong Workshop \nSign Up \nWatch Now
URL:https://ramayogainstitute.com/event/jupiter-neptune-conjunct-workshop-with-harijiwan-april-12-2022/
LOCATION:Online
CATEGORIES:In Person,Pay Per View Workshops
ATTACH;FMTTYPE=image/jpeg:https://ramayogainstitute.com/wp-content/uploads/2021/09/Mallorca-Yatra-2017-283JW_Harijiwan_v1.jpg
END:VEVENT
BEGIN:VEVENT
DTSTART;TZID=America/Los_Angeles:20220412T090000
DTEND;TZID=America/Los_Angeles:20220412T103000
DTSTAMP:20260425T092549
CREATED:20211028T002901Z
LAST-MODIFIED:20220819T192654Z
UID:1661343-1649754000-1649759400@ramayogainstitute.com
SUMMARY:Kundalini Yoga & Meditation with Mandev
DESCRIPTION:  \nLearn More & Tune In
URL:https://ramayogainstitute.com/event/kundalini-yoga-meditation-with-gurujas-11-2021-12-05-2022-01-09-2022-02-27-2022-04-12/
LOCATION:Online
CATEGORIES:In Person,RA MA TV Live
ATTACH;FMTTYPE=image/jpeg:https://ramayogainstitute.com/wp-content/uploads/2021/08/Mandev-2.jpg
END:VEVENT
BEGIN:VEVENT
DTSTART;TZID=America/Los_Angeles:20220410T090000
DTEND;TZID=America/Los_Angeles:20220410T103000
DTSTAMP:20260425T092549
CREATED:20211028T002901Z
LAST-MODIFIED:20220409T195707Z
UID:1665794-1649581200-1649586600@ramayogainstitute.com
SUMMARY:Kundalini Yoga & Meditation with Raj Harprem
DESCRIPTION:Learn More & Tune In
URL:https://ramayogainstitute.com/event/kundalini-yoga-meditation-with-gurujas-11-2021-12-05-2022-01-09-2022-02-27-2022-04-10/
LOCATION:Online
CATEGORIES:In Person,RA MA TV Live
ATTACH;FMTTYPE=image/jpeg:https://ramayogainstitute.com/wp-content/uploads/2021/12/Guillermo-Madrid-cal-icon.jpg
END:VEVENT
BEGIN:VEVENT
DTSTART;TZID=America/Los_Angeles:20220409T110000
DTEND;TZID=America/Los_Angeles:20220409T120000
DTSTAMP:20260425T092549
CREATED:20220106T175546Z
LAST-MODIFIED:20220404T025501Z
UID:1692213-1649502000-1649505600@ramayogainstitute.com
SUMMARY:Kundalini Yoga & Meditation with Guillermo Madrid
DESCRIPTION:Learn More & Tune In
URL:https://ramayogainstitute.com/event/kundalini-yoga-marta-1-15-21-2022-02-19-2022-04-09/
LOCATION:Online
CATEGORIES:In Person,RA MA TV Live
ATTACH;FMTTYPE=image/jpeg:https://ramayogainstitute.com/wp-content/uploads/2021/12/Guillermo-Madrid-cal-icon.jpg
END:VEVENT
BEGIN:VEVENT
DTSTART;VALUE=DATE:20220407
DTEND;VALUE=DATE:20220411
DTSTAMP:20260425T092549
CREATED:20210608T174343Z
LAST-MODIFIED:20220328T194804Z
UID:1622512-1649289600-1649635199@ramayogainstitute.com
SUMMARY:Camp Grace: Aura as Divine Power Source
DESCRIPTION:Camp Grace is a 3-night Women’s Camp experience. Recalibrate your system and clear your mind with Yoga & Meditation\, meet other inspiring women\, share moments of friendship old and new\, and experience the catalyst of change that’s possible when a group of women come together with the intention to uplift. \nUnlock your auric potential and discover how to become successful in the most complete sense of the word. \nApril 7 – 10\, 2022 in Idyllwild\, California \nramayogainstitute.com/camp-grace \nLearn More & Sign Up
URL:https://ramayogainstitute.com/event/camp-grace-west-coast-aura-as-divine-source/
LOCATION:Idyllwild\, California\, Idyllwild\, CA\, 90018\, United States
CATEGORIES:In Person,RA MA TV Live
ATTACH;FMTTYPE=image/jpeg:https://ramayogainstitute.com/wp-content/uploads/2019/04/HeroBanner_CampGraceAura.jpg
END:VEVENT
BEGIN:VEVENT
DTSTART;TZID=America/Los_Angeles:20220406T110000
DTEND;TZID=America/Los_Angeles:20220406T120000
DTSTAMP:20260425T092549
CREATED:20211217T191549Z
LAST-MODIFIED:20220404T023815Z
UID:1675905-1649242800-1649246400@ramayogainstitute.com
SUMMARY:Pranic Charge with Glaucia
DESCRIPTION:Learn More & Tune In
URL:https://ramayogainstitute.com/event/marta-ulbricht-kundalini-12-22-21-2022-04-06/
LOCATION:Online
CATEGORIES:In Person,RA MA TV Live
ATTACH;FMTTYPE=image/jpeg:https://ramayogainstitute.com/wp-content/uploads/2021/12/RA-MA-Los-Angeles-Students-Training.jpg
END:VEVENT
BEGIN:VEVENT
DTSTART;TZID=America/Los_Angeles:20220405T190000
DTEND;TZID=America/Los_Angeles:20220405T203000
DTSTAMP:20260425T092549
CREATED:20220109T034919Z
LAST-MODIFIED:20220406T010339Z
UID:1683162-1649185200-1649190600@ramayogainstitute.com
SUMMARY:Kundalini Yoga & Meditation with Damanpreet
DESCRIPTION:Tune In
URL:https://ramayogainstitute.com/event/kundalini-yoga-meditation-with-shabadpreet-9-2022-04-05/
LOCATION:Online
CATEGORIES:In Person,RA MA TV Live
ATTACH;FMTTYPE=image/jpeg:https://ramayogainstitute.com/wp-content/uploads/2021/10/Damanpreet.jpg
END:VEVENT
BEGIN:VEVENT
DTSTART;TZID=America/Los_Angeles:20220401T170000
DTEND;TZID=America/Los_Angeles:20220401T190000
DTSTAMP:20260425T092549
CREATED:20220327T002833Z
LAST-MODIFIED:20220401T045206Z
UID:1700301-1648832400-1648839600@ramayogainstitute.com
SUMMARY:Asankh Nav Workshop with Harijiwan
DESCRIPTION:Lecture\, Explanation\, Recitation \nLive Workshop on RA MA TV + on Infinite Replay \n$50 Advance / $55 Day Of \nSign Up \nWatch Now
URL:https://ramayogainstitute.com/event/asankh-nav-workshop-with-harijiwan/
LOCATION:Online
CATEGORIES:In Person,Pay Per View Workshops
ATTACH;FMTTYPE=image/jpeg:https://ramayogainstitute.com/wp-content/uploads/2022/03/Harijiwan-Los-Angeles.jpg
END:VEVENT
BEGIN:VEVENT
DTSTART;TZID=America/Los_Angeles:20220401T090000
DTEND;TZID=America/Los_Angeles:20220401T103000
DTSTAMP:20260425T092549
CREATED:20220326T233512Z
LAST-MODIFIED:20220819T192404Z
UID:1700209-1648803600-1648809000@ramayogainstitute.com
SUMMARY:Heal the Heart with Mandev
DESCRIPTION:Mandev Khalsa is an award-winning filmmaker and creator of My Moon Map™\, an IOS mobile app to track your moods and behavior pattern using the ancient yogic science of the moon centers. For years\, Mandev has deeply researched esoteric energetic structures in women’s teachings to discover energy and power. Her App and upcoming film\, “The Moon Centers\,” reveal the unique relationship women have to the moon and how they can unlock and access these infinite lunar powers. \nTune In
URL:https://ramayogainstitute.com/event/kundalini-yoga-meditation-with-mandev-6-2022-04-01/
LOCATION:Online
CATEGORIES:In Person,RA MA TV Live
ATTACH;FMTTYPE=image/jpeg:https://ramayogainstitute.com/wp-content/uploads/2021/08/Mandev-2.jpg
END:VEVENT
BEGIN:VEVENT
DTSTART;TZID=America/Los_Angeles:20220331T170000
DTEND;TZID=America/Los_Angeles:20220331T190000
DTSTAMP:20260425T092549
CREATED:20220327T001746Z
LAST-MODIFIED:20220331T151327Z
UID:1700291-1648746000-1648753200@ramayogainstitute.com
SUMMARY:New Moon in Aries with Harijiwan
DESCRIPTION:Kundalini Yoga\, Meditation\, & Gong Workshop \nLive Workshop on RA MA TV + on Infinite Replay \n$50 Advance / $55 Day Of \nSign Up \nWatch Now
URL:https://ramayogainstitute.com/event/new-moon-in-aries-with-harijiwan-2/
LOCATION:Online
CATEGORIES:In Person,Pay Per View Workshops
ATTACH;FMTTYPE=image/jpeg:https://ramayogainstitute.com/wp-content/uploads/2022/03/Harijiwan-Los-Angeles.jpg
END:VEVENT
BEGIN:VEVENT
DTSTART;TZID=America/Los_Angeles:20220331T090000
DTEND;TZID=America/Los_Angeles:20220331T103000
DTSTAMP:20260425T092549
CREATED:20220326T233512Z
LAST-MODIFIED:20220819T192404Z
UID:1700208-1648717200-1648722600@ramayogainstitute.com
SUMMARY:Heal the Heart with Mandev
DESCRIPTION:Mandev Khalsa is an award-winning filmmaker and creator of My Moon Map™\, an IOS mobile app to track your moods and behavior pattern using the ancient yogic science of the moon centers. For years\, Mandev has deeply researched esoteric energetic structures in women’s teachings to discover energy and power. Her App and upcoming film\, “The Moon Centers\,” reveal the unique relationship women have to the moon and how they can unlock and access these infinite lunar powers. \nTune In
URL:https://ramayogainstitute.com/event/kundalini-yoga-meditation-with-mandev-6-2022-03-31/
LOCATION:Online
CATEGORIES:In Person,RA MA TV Live
ATTACH;FMTTYPE=image/jpeg:https://ramayogainstitute.com/wp-content/uploads/2021/08/Mandev-2.jpg
END:VEVENT
BEGIN:VEVENT
DTSTART;TZID=America/Los_Angeles:20220329T174500
DTEND;TZID=America/Los_Angeles:20220329T184500
DTSTAMP:20260425T092549
CREATED:20211206T212443Z
LAST-MODIFIED:20220329T221323Z
UID:1693209-1648575900-1648579500@ramayogainstitute.com
SUMMARY:Kundalini Yoga & Meditation with Nathan Hirschaut
DESCRIPTION:Learn More & Tune In
URL:https://ramayogainstitute.com/event/iram-12-7-2021-2022-03-01-2022-03-29/
LOCATION:Online
CATEGORIES:In Person,RA MA TV Live
ATTACH;FMTTYPE=image/jpeg:https://ramayogainstitute.com/wp-content/uploads/2021/03/Nathan_Hirschaut.jpg
END:VEVENT
BEGIN:VEVENT
DTSTART;TZID=America/Los_Angeles:20220329T090000
DTEND;TZID=America/Los_Angeles:20220329T103000
DTSTAMP:20260425T092549
CREATED:20211028T002901Z
LAST-MODIFIED:20220329T013038Z
UID:1661339-1648544400-1648549800@ramayogainstitute.com
SUMMARY:Kundalini Yoga & Meditation with Shabadpreet
DESCRIPTION:  \nLearn More & Tune In
URL:https://ramayogainstitute.com/event/kundalini-yoga-meditation-with-gurujas-11-2021-12-05-2022-01-09-2022-02-27-2022-03-29/
LOCATION:Online
CATEGORIES:In Person,RA MA TV Live
ATTACH;FMTTYPE=image/jpeg:https://ramayogainstitute.com/wp-content/uploads/2022/03/Shabadpreet.jpg
END:VEVENT
BEGIN:VEVENT
DTSTART;TZID=America/Los_Angeles:20220327T090000
DTEND;TZID=America/Los_Angeles:20220327T103000
DTSTAMP:20260425T092549
CREATED:20211028T002901Z
LAST-MODIFIED:20220319T034249Z
UID:1665791-1648371600-1648377000@ramayogainstitute.com
SUMMARY:Relay Arts with Gurujas
DESCRIPTION:Gurujas teaches that Kundalini Yoga is an experientially-based system–a science of joy\, fulfillment and love. She also believes that happiness is a vibrational frequency\, and can be an enduring state of being. Gurujas is the lead singer of the Grammy Award winning group White Sun. \nLearn More & Tune In
URL:https://ramayogainstitute.com/event/kundalini-yoga-meditation-with-gurujas-11-2021-12-05-2022-01-09-2022-02-27-2022-03-27/
LOCATION:Online
CATEGORIES:In Person,RA MA TV Live
ATTACH;FMTTYPE=image/jpeg:https://ramayogainstitute.com/wp-content/uploads/2021/10/Gurujas-7.jpg
END:VEVENT
BEGIN:VEVENT
DTSTART;TZID=America/Los_Angeles:20220326T090000
DTEND;TZID=America/Los_Angeles:20220326T103000
DTSTAMP:20260425T092549
CREATED:20211209T010530Z
LAST-MODIFIED:20220326T042400Z
UID:1677282-1648285200-1648290600@ramayogainstitute.com
SUMMARY:Relay Arts with Shabadpreet
DESCRIPTION:Shabadpreet is a teacher trained in Yogi Bhajan’s healing technologies and various other subtle and physical healing modalities. Since her first encounter with Kundalini Yoga and Meditation in 2008 Shabadpreet has since studied with her teacher Guru Jagat. Kundalini Yoga and Mediation is a lightning fast practice for directly re-connecting with who you are\, cutting through anxiety\, depression\, and other low frequency states\, and freeing up your abundant natural energy. \nLearn More & Tune In
URL:https://ramayogainstitute.com/event/shabadpreet-kundalini-12-11-21-2022-01-08-2022-01-15-2022-03-26/
LOCATION:Online
CATEGORIES:In Person,RA MA TV Live
ATTACH;FMTTYPE=image/png:https://ramayogainstitute.com/wp-content/uploads/2021/11/Shabadpreet-November-23-2021.png
END:VEVENT
BEGIN:VEVENT
DTSTART;TZID=America/Los_Angeles:20220323T090000
DTEND;TZID=America/Los_Angeles:20220323T103000
DTSTAMP:20260425T092549
CREATED:20220319T033141Z
LAST-MODIFIED:20220819T192651Z
UID:1698828-1648026000-1648031400@ramayogainstitute.com
SUMMARY:Heal the Heart with Mandev
DESCRIPTION:Mandev Khalsa is an award-winning filmmaker and creator of My Moon Map™\, an IOS mobile app to track your moods and behavior pattern using the ancient yogic science of the moon centers. For years\, Mandev has deeply researched esoteric energetic structures in women’s teachings to discover energy and power. Her App and upcoming film\, “The Moon Centers”\, reveal the unique relationship women have to the moon and how to they can unlock and access these infinite lunar powers. \nLearn More & Tune In
URL:https://ramayogainstitute.com/event/heal-the-heart-with-mandev-3-23-22/2022-03-23/
LOCATION:Online
CATEGORIES:In Person,RA MA TV Live
ATTACH;FMTTYPE=image/jpeg:https://ramayogainstitute.com/wp-content/uploads/2021/08/mandev-cal-icon-2.jpg
END:VEVENT
BEGIN:VEVENT
DTSTART;TZID=America/Los_Angeles:20220322T090000
DTEND;TZID=America/Los_Angeles:20220322T103000
DTSTAMP:20260425T092549
CREATED:20211028T002901Z
LAST-MODIFIED:20220319T032004Z
UID:1661337-1647939600-1647945000@ramayogainstitute.com
SUMMARY:Accelerating the Women's Aura with Gurujas
DESCRIPTION:Gurujas teaches that Kundalini Yoga is an experientially-based system–a science of joy\, fulfillment and love. She also believes that happiness is a vibrational frequency\, and can be an enduring state of being. Gurujas is the lead singer of the Grammy Award winning group White Sun. \nLearn More & Tune In
URL:https://ramayogainstitute.com/event/kundalini-yoga-meditation-with-gurujas-11-2021-12-05-2022-01-09-2022-02-27-2022-03-22/
LOCATION:Online
CATEGORIES:In Person,RA MA TV Live
ATTACH;FMTTYPE=image/jpeg:https://ramayogainstitute.com/wp-content/uploads/2021/10/Gurujas-7.jpg
END:VEVENT
BEGIN:VEVENT
DTSTART;TZID=America/Los_Angeles:20220321T174500
DTEND;TZID=America/Los_Angeles:20220321T184500
DTSTAMP:20260425T092549
CREATED:20220319T030958Z
LAST-MODIFIED:20220319T030958Z
UID:1698818-1647884700-1647888300@ramayogainstitute.com
SUMMARY:Kundalini Yoga & Meditation with Damanpreet
DESCRIPTION:From her first exposure to Kundalini Yoga in 2011 and through traveling extensively around the world with her teacher Harijiwan\, Damanpreet’s intimate understanding of the ancient practices of Kundalini Yoga has grown exponentially from first-hand practice and experience. \nLearn More & Tune In
URL:https://ramayogainstitute.com/event/kundalini-yoga-damanpreet-3-21-22/
LOCATION:Online
CATEGORIES:In Person,RA MA TV Live
ATTACH;FMTTYPE=image/jpeg:https://ramayogainstitute.com/wp-content/uploads/2021/02/Damanpreet-cal-icon.jpg
END:VEVENT
BEGIN:VEVENT
DTSTART;TZID=America/Los_Angeles:20220320T160000
DTEND;TZID=America/Los_Angeles:20220320T173000
DTSTAMP:20260425T092549
CREATED:20211111T222113Z
LAST-MODIFIED:20220312T042701Z
UID:1670104-1647792000-1647797400@ramayogainstitute.com
SUMMARY:Spring into Happiness: The Equinox with Tej
DESCRIPTION:Tej Kaur Khalsa has been a student of traditional Kundalini for over 35 years. She is a Custodian of Kundalini knowledge\, and a recognized authority on the teachings. \nLearn More & Tune In
URL:https://ramayogainstitute.com/event/tej-equinox-3-20-22/
LOCATION:Online
CATEGORIES:In Person,RA MA TV Live
ATTACH;FMTTYPE=image/png:https://ramayogainstitute.com/wp-content/uploads/2021/05/tej-cal-icon.png
END:VEVENT
BEGIN:VEVENT
DTSTART;TZID=America/Los_Angeles:20220320T141500
DTEND;TZID=America/Los_Angeles:20220320T144500
DTSTAMP:20260425T092549
CREATED:20220312T043824Z
LAST-MODIFIED:20220312T043824Z
UID:1697692-1647785700-1647787500@ramayogainstitute.com
SUMMARY:Wealth Codes: Get Your Prosperity Flowing with Malyvahn
DESCRIPTION:Malyvahn has studied with Tej & Harijiwan. Kundalini Yoga and Meditation was a lighting fast practice for her self growth and healing. An entrepreneur at heart. Her goal is to hold a healing space\, guided by the teachings\, where each student can reach their highest bliss of prosperity! \nLearn More & Tune In
URL:https://ramayogainstitute.com/event/wealth-codes-malyvahn-3-20/
LOCATION:Online
CATEGORIES:In Person,RA MA TV Live
ATTACH;FMTTYPE=image/png:https://ramayogainstitute.com/wp-content/uploads/2021/12/Malyvahn-cal-icon.png
END:VEVENT
END:VCALENDAR