BEGIN:VCALENDAR
VERSION:2.0
PRODID:-//RA MA LIFE - ECPv6.15.15//NONSGML v1.0//EN
CALSCALE:GREGORIAN
METHOD:PUBLISH
X-ORIGINAL-URL:https://ramayogainstitute.com
X-WR-CALDESC:Events for RA MA LIFE
REFRESH-INTERVAL;VALUE=DURATION:PT1H
X-Robots-Tag:noindex
X-PUBLISHED-TTL:PT1H
BEGIN:VTIMEZONE
TZID:America/Los_Angeles
BEGIN:DAYLIGHT
TZOFFSETFROM:-0800
TZOFFSETTO:-0700
TZNAME:PDT
DTSTART:20210314T100000
END:DAYLIGHT
BEGIN:STANDARD
TZOFFSETFROM:-0700
TZOFFSETTO:-0800
TZNAME:PST
DTSTART:20211107T090000
END:STANDARD
BEGIN:DAYLIGHT
TZOFFSETFROM:-0800
TZOFFSETTO:-0700
TZNAME:PDT
DTSTART:20220313T100000
END:DAYLIGHT
BEGIN:STANDARD
TZOFFSETFROM:-0700
TZOFFSETTO:-0800
TZNAME:PST
DTSTART:20221106T090000
END:STANDARD
BEGIN:DAYLIGHT
TZOFFSETFROM:-0800
TZOFFSETTO:-0700
TZNAME:PDT
DTSTART:20230312T100000
END:DAYLIGHT
BEGIN:STANDARD
TZOFFSETFROM:-0700
TZOFFSETTO:-0800
TZNAME:PST
DTSTART:20231105T090000
END:STANDARD
END:VTIMEZONE
BEGIN:VEVENT
DTSTART;TZID=America/Los_Angeles:20220727T090000
DTEND;TZID=America/Los_Angeles:20220727T103000
DTSTAMP:20260425T080654
CREATED:20220723T030310Z
LAST-MODIFIED:20220723T031726Z
UID:1726249-1658912400-1658917800@ramayogainstitute.com
SUMMARY:Creative Field with Kim Krans
DESCRIPTION:TUNE IN
URL:https://ramayogainstitute.com/event/creative-field-with-kim-krans/2022-07-27/
LOCATION:Online
CATEGORIES:In Person,RA MA TV Live
ATTACH;FMTTYPE=image/jpeg:https://ramayogainstitute.com/wp-content/uploads/2022/07/Kim-Krans.jpg
END:VEVENT
BEGIN:VEVENT
DTSTART;TZID=America/Los_Angeles:20220727T110000
DTEND;TZID=America/Los_Angeles:20220727T120000
DTSTAMP:20260425T080654
CREATED:20211217T191549Z
LAST-MODIFIED:20220727T021012Z
UID:1721304-1658919600-1658923200@ramayogainstitute.com
SUMMARY:Kundalini Yoga & Meditation with Mary Margaret Skelly
DESCRIPTION:Learn More & Tune In
URL:https://ramayogainstitute.com/event/marta-ulbricht-kundalini-12-22-21-2022-07-27/
LOCATION:Online
CATEGORIES:In Person,RA MA TV Live
ATTACH;FMTTYPE=image/jpeg:https://ramayogainstitute.com/wp-content/uploads/2021/08/Mary-Margaret-Skelly.jpg
END:VEVENT
BEGIN:VEVENT
DTSTART;TZID=America/Los_Angeles:20220727T190000
DTEND;TZID=America/Los_Angeles:20220727T201500
DTSTAMP:20260425T080654
CREATED:20220723T025854Z
LAST-MODIFIED:20220723T025854Z
UID:1726247-1658948400-1658952900@ramayogainstitute.com
SUMMARY:Kundalini Yoga & Meditation with Teg Prakash
DESCRIPTION:TUNE IN
URL:https://ramayogainstitute.com/event/kundalini-yoga-meditation-with-teg-prakash/
LOCATION:Online
CATEGORIES:In Person,RA MA TV Live
ATTACH;FMTTYPE=image/jpeg:https://ramayogainstitute.com/wp-content/uploads/2022/06/Teg-Prakash-Looking-Up-Vimeo-Thumbnail.jpg
END:VEVENT
BEGIN:VEVENT
DTSTART;TZID=America/Los_Angeles:20220728T090000
DTEND;TZID=America/Los_Angeles:20220728T103000
DTSTAMP:20260425T080654
CREATED:20220723T030310Z
LAST-MODIFIED:20220723T031732Z
UID:1726252-1658998800-1659004200@ramayogainstitute.com
SUMMARY:Creative Field with Kim Krans
DESCRIPTION:TUNE IN
URL:https://ramayogainstitute.com/event/creative-field-with-kim-krans-2022-07-28/
LOCATION:Online
CATEGORIES:In Person,RA MA TV Live
ATTACH;FMTTYPE=image/jpeg:https://ramayogainstitute.com/wp-content/uploads/2022/07/Kim-Krans.jpg
END:VEVENT
BEGIN:VEVENT
DTSTART;TZID=America/Los_Angeles:20220728T150000
DTEND;TZID=America/Los_Angeles:20220728T160000
DTSTAMP:20260425T080654
CREATED:20220127T193106Z
LAST-MODIFIED:20220727T021131Z
UID:1703011-1659020400-1659024000@ramayogainstitute.com
SUMMARY:Kundalini Yoga & Meditation with Seva Jagat
DESCRIPTION:Tune In
URL:https://ramayogainstitute.com/event/kundalini-yoga-meditation-with-anya-2022-04-14-2022-07-28/
LOCATION:RA MA New York & Online
CATEGORIES:In Person,RA MA TV Live
ATTACH;FMTTYPE=image/jpeg:https://ramayogainstitute.com/wp-content/uploads/2021/11/Seva-Jagat_02.jpeg
END:VEVENT
BEGIN:VEVENT
DTSTART;TZID=America/Los_Angeles:20220730T090000
DTEND;TZID=America/Los_Angeles:20220730T103000
DTSTAMP:20260425T080654
CREATED:20211209T010530Z
LAST-MODIFIED:20220819T192652Z
UID:1711104-1659171600-1659177000@ramayogainstitute.com
SUMMARY:Arcline Technology with Mandev
DESCRIPTION:Women have 16x times the power of intuitive and creative faculties. In this Immense Grace class\, awaken your awareness to the precious structure of your arcline that holds you intuitive and creative capacities as well as your destiny. When you know how to amplify and consciously work with your arcline\, you can create what most people would only dream of. Discover how to amplify yourself as a true creator with Shabadpreet. \nShabadpreet is a teacher trained in Yogi Bhajan’s healing technologies and various other subtle and physical healing modalities. Since her first encounter with Kundalini Yoga and Meditation in 2008 Shabadpreet has since studied with her teacher Guru Jagat. Kundalini Yoga and Mediation is a lightning fast practice for directly re-connecting with who you are\, cutting through anxiety\, depression\, and other low frequency states\, and freeing up your abundant natural energy. \nLearn More & Tune In
URL:https://ramayogainstitute.com/event/shabadpreet-kundalini-12-11-21-2022-01-08-2022-01-15-2022-05-21-2022-07-30/
LOCATION:Online
CATEGORIES:Community Content,In Person,RA MA TV Live
ATTACH;FMTTYPE=image/jpeg:https://ramayogainstitute.com/wp-content/uploads/2021/12/Shabadpreet-1.jpg
END:VEVENT
BEGIN:VEVENT
DTSTART;TZID=America/Los_Angeles:20220801T110000
DTEND;TZID=America/Los_Angeles:20220801T120000
DTSTAMP:20260425T080654
CREATED:20211211T021739Z
LAST-MODIFIED:20220730T215607Z
UID:1722719-1659351600-1659355200@ramayogainstitute.com
SUMMARY:Golden Heart of Victory: Kundalini Yoga & the Cosmos with Teg Prakash
DESCRIPTION:Diving into the connections between deep yogic practice and evolutionary astrology to explore and take advantage of the prevailing cosmic movements. \nTeg Prakash is a Kundalini Yoga teacher\, astrologer\, and intuitive sound healer with a passionate curiosity for the teachings of Kundalini Yoga\, as taught by Yogi Bhajan\, and seeks to bring people to a true sense of their soul through astrology\, their personal power through yoga\, and their peace through the power of sound. \nLearn More & Tune In
URL:https://ramayogainstitute.com/event/teg-prakash-12-13-21-2022-01-03-2022-02-21-2022-07-11-2022-07-25-2022-08-01/
LOCATION:Online
CATEGORIES:Community Content,In Person,RA MA TV Live
ATTACH;FMTTYPE=image/jpeg:https://ramayogainstitute.com/wp-content/uploads/2022/06/Teg-Prakash-Looking-Up-Vimeo-Thumbnail.jpg
END:VEVENT
BEGIN:VEVENT
DTSTART;TZID=America/Los_Angeles:20220801T123000
DTEND;TZID=America/Los_Angeles:20220801T143000
DTSTAMP:20260425T080654
CREATED:20220730T214132Z
LAST-MODIFIED:20220730T215707Z
UID:1728016-1659357000-1659364200@ramayogainstitute.com
SUMMARY:With Love\, From the Golden Archives
DESCRIPTION:TUNE IN
URL:https://ramayogainstitute.com/event/with-love-from-the-golden-archives/2022-08-01/
LOCATION:Online on RA MA TV
CATEGORIES:Community Content,RA MA TV Live
ATTACH;FMTTYPE=image/jpeg:https://ramayogainstitute.com/wp-content/uploads/2022/02/Guru-Jagat-Camp-Grace-Malibu.jpg
END:VEVENT
BEGIN:VEVENT
DTSTART;TZID=America/Los_Angeles:20220803T190000
DTEND;TZID=America/Los_Angeles:20220803T201500
DTSTAMP:20260425T080654
CREATED:20220802T222824Z
LAST-MODIFIED:20220802T222824Z
UID:1728755-1659553200-1659557700@ramayogainstitute.com
SUMMARY:Kundalini Yoga & Meditation with Seda Askut
DESCRIPTION:Tune In
URL:https://ramayogainstitute.com/event/kundalini-yoga-meditation-with-seda-askut/
LOCATION:Online
CATEGORIES:In Person,RA MA TV Live
ATTACH;FMTTYPE=image/jpeg:https://ramayogainstitute.com/wp-content/uploads/2022/02/RA-MA-Los-Angeles_Archer-Pose.jpg
END:VEVENT
BEGIN:VEVENT
DTSTART;TZID=America/Los_Angeles:20220804T143000
DTEND;TZID=America/Los_Angeles:20220804T160000
DTSTAMP:20260425T080654
CREATED:20220127T193106Z
LAST-MODIFIED:20220803T194755Z
UID:1703013-1659623400-1659628800@ramayogainstitute.com
SUMMARY:Kundalini Yoga & The Wisdom of Relationship with Prem Navjeet & Special Guest Paolo Meregalli
DESCRIPTION:Tune In
URL:https://ramayogainstitute.com/event/kundalini-yoga-meditation-with-anya-2022-04-14-2022-08-04/
LOCATION:RA MA New York & Online
CATEGORIES:In Person,RA MA TV Live
ATTACH;FMTTYPE=image/jpeg:https://ramayogainstitute.com/wp-content/uploads/2022/05/Prem-Navjeet-Vimeo-Thumbnail.jpg
END:VEVENT
BEGIN:VEVENT
DTSTART;TZID=America/Los_Angeles:20220806T130000
DTEND;TZID=America/Los_Angeles:20220806T150000
DTSTAMP:20260425T080654
CREATED:20220803T200024Z
LAST-MODIFIED:20220806T043441Z
UID:1728886-1659790800-1659798000@ramayogainstitute.com
SUMMARY:Crystalline Mind: 10th Day of the Moon with Harijiwan
DESCRIPTION:10th Day of the Moon with Harijiwan\n\nEnter the Timeline of Prosperity\n\nKundalini Yoga\, Meditation & Gong Workshop with Harijiwan in the Auspicious 8/8/ Lion’s Gate Window\n\nSIGN UP\n\nWATCH NOW
URL:https://ramayogainstitute.com/event/crystalline-mind-harijiwan/
LOCATION:Online
CATEGORIES:In Person,Pay Per View Workshops
ATTACH;FMTTYPE=image/jpeg:https://ramayogainstitute.com/wp-content/uploads/2021/09/Harijiwan-Khalsa.jpg
END:VEVENT
BEGIN:VEVENT
DTSTART;TZID=America/Los_Angeles:20220807T130000
DTEND;TZID=America/Los_Angeles:20220807T150000
DTSTAMP:20260425T080654
CREATED:20220803T201551Z
LAST-MODIFIED:20220806T045944Z
UID:1728901-1659877200-1659884400@ramayogainstitute.com
SUMMARY:Parallel Unisonous: 11th Day of the Moon with Harijiwan
DESCRIPTION:Enter the Timeline of Prosperity\nKundalini Yoga\, Meditation & Gong Workshop with Harijiwan in the Auspicious 8/8/ Lion’s Gate Window\n\nSIGN UP\n\nWATCH NOW
URL:https://ramayogainstitute.com/event/parallel-unisoness-11th-day-of-the-moon-with-harijiwan-2/
LOCATION:Online
CATEGORIES:In Person,Pay Per View Workshops
ATTACH;FMTTYPE=image/jpeg:https://ramayogainstitute.com/wp-content/uploads/2021/08/harijiwan-cal-icon.jpg
END:VEVENT
BEGIN:VEVENT
DTSTART;TZID=America/Los_Angeles:20220810T110000
DTEND;TZID=America/Los_Angeles:20220810T120000
DTSTAMP:20260425T080654
CREATED:20211217T191549Z
LAST-MODIFIED:20220808T061414Z
UID:1721306-1660129200-1660132800@ramayogainstitute.com
SUMMARY:ENERGY with Marta Ulbricht
DESCRIPTION:Learn More & Tune In
URL:https://ramayogainstitute.com/event/marta-ulbricht-kundalini-12-22-21-2022-08-10/
LOCATION:Online
CATEGORIES:In Person,RA MA TV Live
ATTACH;FMTTYPE=image/jpeg:https://ramayogainstitute.com/wp-content/uploads/2021/12/Marta-Ulbricht.jpg
END:VEVENT
BEGIN:VEVENT
DTSTART;TZID=America/Los_Angeles:20220811T110000
DTEND;TZID=America/Los_Angeles:20220811T120000
DTSTAMP:20260425T080654
CREATED:20220730T013956Z
LAST-MODIFIED:20220808T064541Z
UID:1727760-1660215600-1660219200@ramayogainstitute.com
SUMMARY:Prosperity Hour with Malyvahn
DESCRIPTION:Expanding Your Prosperity\nCross Over to Prosperity with the Jupiter Energy with Malyvahn \nTUNE IN 
URL:https://ramayogainstitute.com/event/prosperity-hour-with-malyvahn-2022-08-11/
LOCATION:Online
CATEGORIES:In Person,RA MA TV Live
ATTACH;FMTTYPE=image/jpeg:https://ramayogainstitute.com/wp-content/uploads/2022/01/Malyvahn-6.jpg
END:VEVENT
BEGIN:VEVENT
DTSTART;TZID=America/Los_Angeles:20220811T170000
DTEND;TZID=America/Los_Angeles:20220811T190000
DTSTAMP:20260425T080654
CREATED:20220808T065301Z
LAST-MODIFIED:20220810T002844Z
UID:1729832-1660237200-1660244400@ramayogainstitute.com
SUMMARY:Moonlight Mind with Harijiwan
DESCRIPTION:Full Moon Kundalini Yoga\, Meditation & Gong Workshop with Harijiwan \nWorkshop on RA MA TV\, In Person @ RA MA Los Angeles \n$50 In Advance\, $55 Day of \nTUNE IN \nWATCH NOW
URL:https://ramayogainstitute.com/event/moonlight-mind-with-harijiwan/
LOCATION:Online
CATEGORIES:In Person,Pay Per View Workshops
ATTACH;FMTTYPE=image/jpeg:https://ramayogainstitute.com/wp-content/uploads/2022/03/Harijiwan-Los-Angeles.jpg
END:VEVENT
BEGIN:VEVENT
DTSTART;TZID=America/Los_Angeles:20220820T090000
DTEND;TZID=America/Los_Angeles:20220820T103000
DTSTAMP:20260425T080654
CREATED:20211209T010530Z
LAST-MODIFIED:20220819T214334Z
UID:1711107-1660986000-1660991400@ramayogainstitute.com
SUMMARY:The MA Force: Woman as Creator with Gurujas
DESCRIPTION:Learn More & Tune In
URL:https://ramayogainstitute.com/event/shabadpreet-kundalini-12-11-21-2022-01-08-2022-01-15-2022-05-21-2022-08-20/
LOCATION:Online
CATEGORIES:In Person,RA MA TV Live
ATTACH;FMTTYPE=image/jpeg:https://ramayogainstitute.com/wp-content/uploads/2021/10/Gurujas-7.jpg
END:VEVENT
BEGIN:VEVENT
DTSTART;TZID=America/Los_Angeles:20220821T090000
DTEND;TZID=America/Los_Angeles:20220821T103000
DTSTAMP:20260425T080654
CREATED:20211028T002901Z
LAST-MODIFIED:20220821T011640Z
UID:1693911-1661072400-1661077800@ramayogainstitute.com
SUMMARY:Kundalini Yoga & Meditation + 120th Day Celebrations with Gurujas
DESCRIPTION:TUNE IN  \nGurujas teaches that Kundalini Yoga is an experientially-based system–a science of joy\, fulfillment and love. She also believes that happiness is a vibrational frequency\, and can be an enduring state of being. Gurujas is the lead singer of the Grammy Award winning group White Sun.
URL:https://ramayogainstitute.com/event/kundalini-yoga-meditation-with-gurujas-11-2021-12-05-2022-01-09-2022-02-27-2022-04-19-2022-04-26-2022-08-21/
LOCATION:Online
CATEGORIES:Community Content,In Person,RA MA TV Live
ATTACH;FMTTYPE=image/jpeg:https://ramayogainstitute.com/wp-content/uploads/2021/10/Gurujas-7.jpg
END:VEVENT
BEGIN:VEVENT
DTSTART;TZID=America/Los_Angeles:20220821T130000
DTEND;TZID=America/Los_Angeles:20220821T150000
DTSTAMP:20260425T080654
CREATED:20220814T063111Z
LAST-MODIFIED:20220819T192332Z
UID:1731314-1661086800-1661094000@ramayogainstitute.com
SUMMARY:The Relationship of Love with Mandev
DESCRIPTION:SIGN UP  \nWATCH NOW \nThere are two frequencies that rule the planet\, we know them as fear and love. \nWhat is love?\nWhen you feel and experience selflessness within yourself and you can vibrate for someone\, then you are fulfilled with love. This is the highest state of individual consciousness; everything else is beautiful. \nYour third eye opens when you can see between lust and love. \nWe want to transcend this idea of transactional love. “I did that for you so I expect this in return.” We get frustrated with the people we love because we do something for them and they don’t do anything in return. That’s transactional. \nIn reality\, love is a one-way street.\nI express my love\, I am kind\, I give\, because I want to experience my generosity\, my kindness\, my love. \nWhen I smile at someone\, when I’m kind\, when I give them a hug\, when I buy them a juice\, it’s all an expression of my love. It starts with me. \nAll problems in relationships lie in that transactional expression of love. When you love without strings attached\, you can transcend any conflict. \nBy making that move in yourself\, you will take all of your relationships up to a quantumly higher frequency. \nExperience your love. Open the doors to another dimension \nVirtually on RA MA TV \n$50 In Advance\, $55 Day of
URL:https://ramayogainstitute.com/event/the-relationship-of-love-with-mandev/
LOCATION:Online
CATEGORIES:In Person,Pay Per View Workshops
ATTACH;FMTTYPE=image/jpeg:https://ramayogainstitute.com/wp-content/uploads/2022/07/Mandev-Equinox-Ra-Ma-2022-photo-by-Santosh-3-small.jpg
END:VEVENT
BEGIN:VEVENT
DTSTART;TZID=America/Los_Angeles:20220822T110000
DTEND;TZID=America/Los_Angeles:20220822T120000
DTSTAMP:20260425T080654
CREATED:20220821T003952Z
LAST-MODIFIED:20220821T004026Z
UID:1732867-1661166000-1661169600@ramayogainstitute.com
SUMMARY:Kundalini Yoga & Meditation with Gabrielle Goss
DESCRIPTION:TUNE IN 
URL:https://ramayogainstitute.com/event/kundalini-yoga-meditation-with-gabrielle-goss-2/
LOCATION:Online
CATEGORIES:In Person,RA MA TV Live
ATTACH;FMTTYPE=image/jpeg:https://ramayogainstitute.com/wp-content/uploads/2021/08/Gabrielle-Goss.jpg
END:VEVENT
BEGIN:VEVENT
DTSTART;TZID=America/Los_Angeles:20220824T080000
DTEND;TZID=America/Los_Angeles:20220824T090000
DTSTAMP:20260425T080654
CREATED:20220601T025754Z
LAST-MODIFIED:20220824T032149Z
UID:1714613-1661328000-1661331600@ramayogainstitute.com
SUMMARY:Kundalini Yoga & Meditation with Sher Kirtan
DESCRIPTION:Tune In
URL:https://ramayogainstitute.com/event/kundalini-yoga-meditation-with-anne-v-2022-07-13-2022-08-24/
LOCATION:RA MA New York & Online
CATEGORIES:In Person,RA MA TV Live
ATTACH;FMTTYPE=image/jpeg:https://ramayogainstitute.com/wp-content/uploads/2022/04/Sher-Kirtan-Pritam-Siri-Cal-Icon.jpg
END:VEVENT
BEGIN:VEVENT
DTSTART;TZID=America/Los_Angeles:20220826T120000
DTEND;TZID=America/Los_Angeles:20220826T123000
DTSTAMP:20260425T080654
CREATED:20220826T033045Z
LAST-MODIFIED:20220826T033045Z
UID:1734730-1661515200-1661517000@ramayogainstitute.com
SUMMARY:Screening of Love of Lineage
DESCRIPTION:In 2020 when her Kundalini yoga lineage was attacked filmmaker Mandev responded. The “Futile Flow of Fate”\, “The Golden Chain”\, “Reflective Energy”\, and now at the Winter Solstice\, “Love of Lineage”\, are four films that reveal a previously unknown energetic current existing in the lineage and explicate the mystic mystery of the sacred Golden Chain of Teachers. This is high-level spirituality using film to activate cosmically connected thought-forms. Deeply researched\, historically eye-opening\, Mandev weaves images in a mesmerizing Tantric formation and opens a portal of understanding that is as new as it is unique. Using the music of the Grammy award winning band White Sun\, the films create a dream space alive with form begetting form\, understanding deepening understanding\, knowledge becoming insight\, and clarity expanding\, growing\, becoming. A poetic mandala for traveling the spiritual path. Required viewing for anyone connected with the Kundalini yoga lineage and enlightening for anyone who has ever looked into the sky and wondered why. \n– by Harijiwan \nTUNE IN
URL:https://ramayogainstitute.com/event/screening-of-love-of-lineage/
LOCATION:Online on RA MA TV
CATEGORIES:RA MA TV Live
ATTACH;FMTTYPE=image/jpeg:https://ramayogainstitute.com/wp-content/uploads/2022/08/Mandev-Black-White-small.jpg
END:VEVENT
BEGIN:VEVENT
DTSTART;TZID=America/Los_Angeles:20220826T180000
DTEND;TZID=America/Los_Angeles:20220826T200000
DTSTAMP:20260425T080654
CREATED:20220819T230111Z
LAST-MODIFIED:20220823T230010Z
UID:1732620-1661536800-1661544000@ramayogainstitute.com
SUMMARY:Reflections of Infinity with Harijiwan
DESCRIPTION:A workshop celebrating the lineage of Kundalini Yoga and the birthday of Yogi Bhajan. \nSIGN UP \nTUNE IN
URL:https://ramayogainstitute.com/event/reflections-of-infinity-with-harijiwan/
LOCATION:Online
CATEGORIES:In Person,Pay Per View Workshops
ATTACH;FMTTYPE=image/jpeg:https://ramayogainstitute.com/wp-content/uploads/2022/07/Harijiwan-website-banner-1-e1717030585192.jpg
END:VEVENT
BEGIN:VEVENT
DTSTART;TZID=America/Los_Angeles:20220827T090000
DTEND;TZID=America/Los_Angeles:20220827T103000
DTSTAMP:20260425T080654
CREATED:20211209T010530Z
LAST-MODIFIED:20220821T001921Z
UID:1711108-1661590800-1661596200@ramayogainstitute.com
SUMMARY:Tapping Into A Higher Order with Shabadpreet
DESCRIPTION:Shabadpreet is a teacher trained in Yogi Bhajan’s healing technologies and various other subtle and physical healing modalities. Since her first encounter with Kundalini Yoga and Meditation in 2008 Shabadpreet has since studied with her teacher Guru Jagat. Kundalini Yoga and Mediation is a lightning fast practice for directly re-connecting with who you are\, cutting through anxiety\, depression\, and other low frequency states\, and freeing up your abundant natural energy. \nLearn More & Tune In
URL:https://ramayogainstitute.com/event/shabadpreet-kundalini-12-11-21-2022-01-08-2022-01-15-2022-05-21-2022-08-27/
LOCATION:Online
CATEGORIES:Community Content,In Person,RA MA TV Live
ATTACH;FMTTYPE=image/jpeg:https://ramayogainstitute.com/wp-content/uploads/2022/05/Shabadpreet-Calendar-Icon.jpg
END:VEVENT
BEGIN:VEVENT
DTSTART;TZID=America/Los_Angeles:20220827T130000
DTEND;TZID=America/Los_Angeles:20220827T150000
DTSTAMP:20260425T080654
CREATED:20220821T000827Z
LAST-MODIFIED:20220824T011647Z
UID:1732819-1661605200-1661612400@ramayogainstitute.com
SUMMARY:New Moon in Virgo with Harijiwan
DESCRIPTION:SIGN UP \nTUNE IN \nKundalini Yoga\, Meditation & Gong Workshop \n\nHarijiwan has been teaching Kundalini Yoga since 1975. He is the founder of the GRAMMY®-Award-Winning band\, White Sun. With over 44 years of experience in the science of Kundalini Yoga\, Harijiwan incorporates a vast knowledge of various methodologies and training into his practice. Today\, and throughout his years as a teacher and healer\, Harijiwan remains committed to expanding his knowledge and experience to provide his students with the most progressive\, effective\, self-empowering approaches that increase overall joy and wholeness within the context of everyday experiences. \n@harijiwan
URL:https://ramayogainstitute.com/event/new-moon-in-virgo-with-harijiwan/
LOCATION:Online
CATEGORIES:In Person,Pay Per View Workshops
ATTACH;FMTTYPE=image/jpeg:https://ramayogainstitute.com/wp-content/uploads/2022/03/Harijiwan-Los-Angeles.jpg
END:VEVENT
BEGIN:VEVENT
DTSTART;TZID=America/Los_Angeles:20220827T160000
DTEND;TZID=America/Los_Angeles:20220827T180000
DTSTAMP:20260425T080654
CREATED:20220821T001101Z
LAST-MODIFIED:20220821T001958Z
UID:1732821-1661616000-1661623200@ramayogainstitute.com
SUMMARY:New Moon in Virgo: Rhythm of Success with Pritam Siri
DESCRIPTION:A Purifying & Energizing Kundalini Yoga\, Meditation & New Moon Intention Setting Workshop with Pritam Siri \nThe Virgo is an angel\, not fallen\, but landed with boots on the ground\, an ethos of cosmic perfection and inclination for enlightenment. The Virgo archetype in us all is brilliant\, sharp and ready to service humanity. \nComplimentary for RA MA TV Live Members. \nTUNE IN
URL:https://ramayogainstitute.com/event/new-moon-in-virgo-rhythm-of-success-with-pritam-siri/
LOCATION:RA MA New York & Online
CATEGORIES:In Person,RA MA TV Live
ATTACH;FMTTYPE=image/jpeg:https://ramayogainstitute.com/wp-content/uploads/2022/01/Pritam-Siri-1-e1686282951826.jpg
END:VEVENT
BEGIN:VEVENT
DTSTART;TZID=America/Los_Angeles:20220827T183000
DTEND;TZID=America/Los_Angeles:20220827T203000
DTSTAMP:20260425T080654
CREATED:20220821T001640Z
LAST-MODIFIED:20220827T184157Z
UID:1732823-1661625000-1661632200@ramayogainstitute.com
SUMMARY:Quantum Harmonix with Torkom Ji
DESCRIPTION:SIGN UP  \nTUNE IN  \nQUANTUM HARMONIX by Torkom Ji is a unique sound-based meditative and healing technology. The powerful tones produced incorporate natural fluidity & movement\, and have been shown to have profound effects on the mind\, body\, and consciousness of an individual. \nQ.H. sounds are designed to lead one through an effortless and powerfully restorative meditation experience invoking relaxation\, and expanded creativity\, while improving sleep quality and productivity\, while decreasing stress. \nThe music is layered live and explores acoustical phenomena\, white/pink noise\, low-mid-high range frequencies; all folded into a tapestry of real time musical compositions. \nTorkom is a sound healer\, meditation guide\, and creator of Quantum Harmonix; a unique frequency healing modality. This listening experience is designed to deeply drop one into a relaxed and therapeutic state by incorporating a variety of techniques and tones that have been shown to effectively calm the body and mind. The total experience typically lasts 1 hour and requires no prior experience with meditation. \nSaturday\, August 27\, 2022 from 6:30 – 8:30pm PDT\nLive at RA MA Los Angeles and Virtually on RA MA TV with infinite replay \nPrice:\n$22 Virtual | $33 In Person \n*All purchases are non-transferable and non-refundable.
URL:https://ramayogainstitute.com/event/quantum-harmonix-with-torkom-ji-2/
LOCATION:Online
CATEGORIES:In Person,Pay Per View Workshops,RA MA TV Live
ATTACH;FMTTYPE=image/jpeg:https://ramayogainstitute.com/wp-content/uploads/2022/06/Torkom-Ji.jpg
END:VEVENT
BEGIN:VEVENT
DTSTART;TZID=America/Los_Angeles:20220829T160000
DTEND;TZID=America/Los_Angeles:20220829T173000
DTSTAMP:20260425T080654
CREATED:20220124T232939Z
LAST-MODIFIED:20220828T000835Z
UID:1726217-1661788800-1661794200@ramayogainstitute.com
SUMMARY:The Healing Power of the Mind with Sher Kirtan
DESCRIPTION:A series on the integrity of the entire being. Integrity as a vibration means far more than just holding fast to your values. It is actually a deeply physical attribute—a function of your immune system in maintaining the strength within your bodies. \nSher Kirtan is based in New York\, New York and his classes are appropriate for all levels and designed with attention toward the particularity of the environment\, zeitgeist\, and astrological terrain of the moment. His classes are for students seeking to further investigate and crystallize their authentic selves\, while finding inner-strength and creativity in an encouraging\, non-judgmental environment. \nTUNE IN
URL:https://ramayogainstitute.com/event/kundalini-yoga-meditation-with-siri-rishi-2022-07-18-2022-08-15-2022-08-29/
LOCATION:RA MA New York & Online
CATEGORIES:RA MA TV Live
ATTACH;FMTTYPE=image/jpeg:https://ramayogainstitute.com/wp-content/uploads/2022/07/Sher-Kirtan-New-York-Rooftop-e1717029211938.jpg
END:VEVENT
BEGIN:VEVENT
DTSTART;TZID=America/Los_Angeles:20220830T090000
DTEND;TZID=America/Los_Angeles:20220830T103000
DTSTAMP:20260425T080654
CREATED:20211028T002901Z
LAST-MODIFIED:20220827T235435Z
UID:1703177-1661850000-1661855400@ramayogainstitute.com
SUMMARY:Kundalini Yoga & Meditation with Gurujas
DESCRIPTION:Join us in celebrating the life\, legacy\, and birthday of Guru Jagat. \nGurujas teaches that Kundalini Yoga is an experientially-based system–a science of joy\, fulfillment and love. She also believes that happiness is a vibrational frequency\, and can be an enduring state of being. Gurujas is the lead singer of the Grammy Award winning group White Sun. \nLearn More & Tune In
URL:https://ramayogainstitute.com/event/kundalini-yoga-meditation-with-gurujas-11-2021-12-05-2022-01-09-2022-02-27-2022-04-19-2022-04-26-2022-08-30/
LOCATION:Online
CATEGORIES:Community Content,In Person,RA MA TV Live
ATTACH;FMTTYPE=image/jpeg:https://ramayogainstitute.com/wp-content/uploads/2021/10/Gurujas-7.jpg
END:VEVENT
BEGIN:VEVENT
DTSTART;TZID=America/Los_Angeles:20220830T120000
DTEND;TZID=America/Los_Angeles:20220830T124500
DTSTAMP:20260425T080654
CREATED:20220827T235215Z
LAST-MODIFIED:20220827T235403Z
UID:1735376-1661860800-1661863500@ramayogainstitute.com
SUMMARY:Guru Jagat: A Film by Mandev
DESCRIPTION:TUNE IN\n\nGURU JAGAT A FILM BY MANDEV is a Los Angeles Film Awards @lafilmawards Winner for “Best Inspirational Film”\n\n\n\n“GURU JAGAT – A FILM BY MANDEV” beautifully illustrates the precious yogic teaching of the “Journey of the Privileged Soul” through the life\, death\, and legacy of famed yoga teacher Guru Jagat. Since bursting onto the yoga scene in the early 2000’s\, Guru Jagat’s rebellious spirit and punk rock persona broke down spiritual barriers between hidden yogic adepts and the householder. She showed that anyone\, regardless of experience or background\, can reach the highest levels of spiritual attainment.\n\n\n\nIn “GURU JAGAT – A FILM BY MANDEV\,” Guru Jagat is our guide through her final weeks before her unexpected death\, leaving behind important teachings on life and death. The film’s sound design and mesmerizing imagery shows Guru Jagat’s immense impact. The film’s ingenious combination of music\, scored by the GRAMMY®-Award winning band White Sun\, and stunning hypnotic imagery creates a powerfully dramatic relationship that is a multi-dimensional\, thought-provoking\, and deeply moving experience.\n\n\n\nUltimately\, her unexpected death left thousands of students throughout the world shaken to their core. Award-winning filmmaker Mandev Khalsa gives tantalizing glimpses into the fascinating life of Guru Jagat and uncovers her last messages and final goodbyes\, while simultaneously illustrating the ancient yogic teaching of the “Journey of the Privileged Soul.”
URL:https://ramayogainstitute.com/event/guru-jagat-a-film-by-mandev/
LOCATION:Online
CATEGORIES:Community Content,RA MA TV Live
ATTACH;FMTTYPE=image/jpeg:https://ramayogainstitute.com/wp-content/uploads/2022/08/Guru-Jagat-a-Film-by-Mandev.jpg
END:VEVENT
BEGIN:VEVENT
DTSTART;TZID=America/Los_Angeles:20220830T170000
DTEND;TZID=America/Los_Angeles:20220830T190000
DTSTAMP:20260425T080654
CREATED:20220827T234108Z
LAST-MODIFIED:20220827T234108Z
UID:1735373-1661878800-1661886000@ramayogainstitute.com
SUMMARY:With Love From the Golden Archives
DESCRIPTION:A hand-selected favorite class with Guru Jagat from the Golden Archives. \nTUNE IN
URL:https://ramayogainstitute.com/event/with-love-from-the-golden-archives-2/
LOCATION:Online
CATEGORIES:Community Content,In Person,RA MA TV Live
ATTACH;FMTTYPE=image/jpeg:https://ramayogainstitute.com/wp-content/uploads/2022/08/Guru-Jagat-Beach-Mexico.jpg
END:VEVENT
END:VCALENDAR