BEGIN:VCALENDAR
VERSION:2.0
PRODID:-//RA MA LIFE - ECPv6.15.15//NONSGML v1.0//EN
CALSCALE:GREGORIAN
METHOD:PUBLISH
X-WR-CALNAME:RA MA LIFE
X-ORIGINAL-URL:https://ramayogainstitute.com
X-WR-CALDESC:Events for RA MA LIFE
REFRESH-INTERVAL;VALUE=DURATION:PT1H
X-Robots-Tag:noindex
X-PUBLISHED-TTL:PT1H
BEGIN:VTIMEZONE
TZID:America/Los_Angeles
BEGIN:DAYLIGHT
TZOFFSETFROM:-0800
TZOFFSETTO:-0700
TZNAME:PDT
DTSTART:20220313T100000
END:DAYLIGHT
BEGIN:STANDARD
TZOFFSETFROM:-0700
TZOFFSETTO:-0800
TZNAME:PST
DTSTART:20221106T090000
END:STANDARD
BEGIN:DAYLIGHT
TZOFFSETFROM:-0800
TZOFFSETTO:-0700
TZNAME:PDT
DTSTART:20230312T100000
END:DAYLIGHT
BEGIN:STANDARD
TZOFFSETFROM:-0700
TZOFFSETTO:-0800
TZNAME:PST
DTSTART:20231105T090000
END:STANDARD
BEGIN:DAYLIGHT
TZOFFSETFROM:-0800
TZOFFSETTO:-0700
TZNAME:PDT
DTSTART:20240310T100000
END:DAYLIGHT
BEGIN:STANDARD
TZOFFSETFROM:-0700
TZOFFSETTO:-0800
TZNAME:PST
DTSTART:20241103T090000
END:STANDARD
END:VTIMEZONE
BEGIN:VEVENT
DTSTART;TZID=America/Los_Angeles:20231005T074500
DTEND;TZID=America/Los_Angeles:20231005T083000
DTSTAMP:20260423T010800
CREATED:20221023T082553Z
LAST-MODIFIED:20231002T201947Z
UID:1824469-1696491900-1696494600@ramayogainstitute.com
SUMMARY:Long Life Meditation
DESCRIPTION:TUNE IN\nGenerate & project positive healing energy in this daily meditation for Harijiwan.
URL:https://ramayogainstitute.com/event/long-life-meditation-with-santosh-2022-12-25-2023-10-05/
LOCATION:Online on RA MA TV
CATEGORIES:Community Content,RA MA TV Live
ATTACH;FMTTYPE=image/jpeg:https://ramayogainstitute.com/wp-content/uploads/2021/12/Students-Training-Los-Angeles.jpg
END:VEVENT
BEGIN:VEVENT
DTSTART;TZID=America/Los_Angeles:20231005T083000
DTEND;TZID=America/Los_Angeles:20231005T090000
DTSTAMP:20260423T010800
CREATED:20230520T040744Z
LAST-MODIFIED:20231002T202805Z
UID:1801195-1696494600-1696496400@ramayogainstitute.com
SUMMARY:Global Meditations
DESCRIPTION:TUNE IN \n4 Essential Meditations: \n\nFists of Anger\nAddiction Meditation\nArd Katchari\nIntelligence Meditation\n\n 
URL:https://ramayogainstitute.com/event/global-meditations-2023-2023-09-25-2023-10-05/
LOCATION:Online on RA MA TV
CATEGORIES:Community Content,RA MA TV Live
ATTACH;FMTTYPE=image/jpeg:https://ramayogainstitute.com/wp-content/uploads/2023/01/RA-MA-New-York-Meditation.jpg
END:VEVENT
BEGIN:VEVENT
DTSTART;TZID=America/Los_Angeles:20231006T074500
DTEND;TZID=America/Los_Angeles:20231006T083000
DTSTAMP:20260423T010800
CREATED:20221023T082553Z
LAST-MODIFIED:20231003T004410Z
UID:1824470-1696578300-1696581000@ramayogainstitute.com
SUMMARY:Long Life Meditation
DESCRIPTION:TUNE IN\nGenerate & project positive healing energy in this daily meditation for Harijiwan.
URL:https://ramayogainstitute.com/event/long-life-meditation-with-santosh-2022-12-25-2023-10-06/
LOCATION:Online
CATEGORIES:Community Content,In Person,RA MA TV Live
ATTACH;FMTTYPE=image/jpeg:https://ramayogainstitute.com/wp-content/uploads/2021/12/Students-Training-Los-Angeles.jpg
END:VEVENT
BEGIN:VEVENT
DTSTART;TZID=America/Los_Angeles:20231006T083000
DTEND;TZID=America/Los_Angeles:20231006T090000
DTSTAMP:20260423T010800
CREATED:20230520T040744Z
LAST-MODIFIED:20231003T004433Z
UID:1801196-1696581000-1696582800@ramayogainstitute.com
SUMMARY:Global Meditations
DESCRIPTION:TUNE IN \n4 Essential Meditations: \n\nFists of Anger\nAddiction Meditation\nArd Katchari\nIntelligence Meditation\n\n 
URL:https://ramayogainstitute.com/event/global-meditations-2023-2023-09-25-2023-10-06/
LOCATION:Online
CATEGORIES:Community Content,In Person,RA MA TV Live
ATTACH;FMTTYPE=image/jpeg:https://ramayogainstitute.com/wp-content/uploads/2023/01/RA-MA-New-York-Meditation.jpg
END:VEVENT
BEGIN:VEVENT
DTSTART;TZID=America/Los_Angeles:20231006T143000
DTEND;TZID=America/Los_Angeles:20231006T153000
DTSTAMP:20260423T010800
CREATED:20230930T191835Z
LAST-MODIFIED:20231004T052803Z
UID:1856062-1696602600-1696606200@ramayogainstitute.com
SUMMARY:Zero to Zenith| Yogi Bhajan Remembrance Day Special Class with Pritam Siri
DESCRIPTION:TUNE IN\nPritam Siri is an artist and yogi based in New York City. She has dedicated her time to studying\, working\, and traveling with Guru Jagat from 2016 until her passing in 2021. She is an active student of Kundalini Yoga and Meditation as Taught by Yogi Bhajan and is committed to practicing and sharing kundalini yoga technology.\nHer classes are open and welcome to beginners and seasoned practitioners. \n@pritamsiri
URL:https://ramayogainstitute.com/event/zero-to-zenith-yogi-bhajan-remembrance-day-special-class-with-pritam-siri/
LOCATION:RA MA Intitute New York and online
CATEGORIES:In Person,RA MA TV Live
ATTACH;FMTTYPE=image/jpeg:https://ramayogainstitute.com/wp-content/uploads/2023/08/B41A7038.jpg
END:VEVENT
BEGIN:VEVENT
DTSTART;TZID=America/Los_Angeles:20231006T170000
DTEND;TZID=America/Los_Angeles:20231006T190000
DTSTAMP:20260423T010800
CREATED:20230929T212532Z
LAST-MODIFIED:20230929T212532Z
UID:1855095-1696611600-1696618800@ramayogainstitute.com
SUMMARY:Yogi Bhajan Remembance Day with Gurujas
DESCRIPTION:SIGN UP\nTUNE IN\nYogi Bhajan Remembrance Day\nKundalini Yoga\, Meditation\, & Gong Workshop with Gurujas\nFriday\, October 6\, 2023\n5:00pm-7:00pm PDT \nRA MA TV\nRA MA Los Angeles\n$50 In Advance| $55 Day of
URL:https://ramayogainstitute.com/event/yogi-bhajan-remembance-day-with-gurujas/
LOCATION:Online
CATEGORIES:In Person,Pay Per View Workshops
ATTACH;FMTTYPE=image/jpeg:https://ramayogainstitute.com/wp-content/uploads/2021/07/GURUJAS-cal-icon.jpg
END:VEVENT
BEGIN:VEVENT
DTSTART;TZID=America/Los_Angeles:20231006T193000
DTEND;TZID=America/Los_Angeles:20231006T203000
DTSTAMP:20260423T010800
CREATED:20210917T211121Z
LAST-MODIFIED:20231006T181023Z
UID:1835206-1696620600-1696624200@ramayogainstitute.com
SUMMARY:Kundalini Gong Bath with Teg Prakash
DESCRIPTION:TUNE IN\nTeg Prakash is a Kundalini Yoga teacher\, astrologer\, and intuitive sound healer with a passionate curiosity for the teachings of Kundalini Yoga\, as taught by Yogi Bhajan\, and seeks to bring people to a true sense of their soul through astrology\, their personal power through yoga\, and their peace through the power of sound. \n 
URL:https://ramayogainstitute.com/event/gong-bath-teg-prakash-2021-12-17-2023-10-06/
LOCATION:Online
CATEGORIES:In Person,RA MA TV Live
ATTACH;FMTTYPE=image/jpeg:https://ramayogainstitute.com/wp-content/uploads/2022/05/Screen-Shot-2022-05-06-at-9.15.31-PM.jpg
END:VEVENT
BEGIN:VEVENT
DTSTART;TZID=America/Los_Angeles:20231007T074500
DTEND;TZID=America/Los_Angeles:20231007T083000
DTSTAMP:20260423T010800
CREATED:20221023T082553Z
LAST-MODIFIED:20231003T002217Z
UID:1824471-1696664700-1696667400@ramayogainstitute.com
SUMMARY:Long Life Meditation
DESCRIPTION:TUNE IN\nGenerate & project positive healing energy in this daily meditation for Harijiwan.
URL:https://ramayogainstitute.com/event/long-life-meditation-with-santosh-2022-12-25-2023-10-07/
LOCATION:Online on RA MA TV
CATEGORIES:Community Content,RA MA TV Live
ATTACH;FMTTYPE=image/jpeg:https://ramayogainstitute.com/wp-content/uploads/2021/12/Students-Training-Los-Angeles.jpg
END:VEVENT
BEGIN:VEVENT
DTSTART;TZID=America/Los_Angeles:20231007T083000
DTEND;TZID=America/Los_Angeles:20231007T090000
DTSTAMP:20260423T010800
CREATED:20230520T040744Z
LAST-MODIFIED:20231003T002407Z
UID:1801197-1696667400-1696669200@ramayogainstitute.com
SUMMARY:Global Meditations
DESCRIPTION:TUNE IN \n4 Essential Meditations: \n\nFists of Anger\nAddiction Meditation\nArd Katchari\nIntelligence Meditation\n\n 
URL:https://ramayogainstitute.com/event/global-meditations-2023-2023-09-25-2023-10-07/
LOCATION:Online on RA MA TV
CATEGORIES:Community Content,RA MA TV Live
ATTACH;FMTTYPE=image/jpeg:https://ramayogainstitute.com/wp-content/uploads/2023/01/RA-MA-New-York-Meditation.jpg
END:VEVENT
BEGIN:VEVENT
DTSTART;TZID=America/Los_Angeles:20231007T110000
DTEND;TZID=America/Los_Angeles:20231007T123000
DTSTAMP:20260423T010800
CREATED:20231007T041118Z
LAST-MODIFIED:20231007T041118Z
UID:1859349-1696676400-1696681800@ramayogainstitute.com
SUMMARY:Kundalini Yoga & Meditation with Mandev
DESCRIPTION:TUNE IN\nMandev Khalsa is an award-winning filmmaker and creator of My Moon Map™\, an IOS mobile app to track your moods and behavior pattern using the ancient yogic science of the Moon Centers. For years\, Mandev has deeply researched esoteric energetic structures in yogic teachings to discover energy and power. \nMandev teaches at RA MA Institute. Her classes feature deep breathing\, mantra\, meditation\, and gong relaxation. She seamlessly guides the class through a mandala of yogic postures\, pranayam\, and meditation with an emphasis on conscious breathing\, proper posture\, applying precise techniques to open an infinite flow of energy in you.
URL:https://ramayogainstitute.com/event/kundalini-yoga-meditation-with-mandev-6/
LOCATION:Online on RA MA TV
CATEGORIES:RA MA TV Live
ATTACH;FMTTYPE=image/jpeg:https://ramayogainstitute.com/wp-content/uploads/2023/10/Mandev-Celstial-photoshoot-2-Photo-by-Santosh-SMALL.jpg
END:VEVENT
BEGIN:VEVENT
DTSTART;TZID=America/Los_Angeles:20231008T074500
DTEND;TZID=America/Los_Angeles:20231008T083000
DTSTAMP:20260423T010800
CREATED:20221023T082553Z
LAST-MODIFIED:20231003T002851Z
UID:1854853-1696751100-1696753800@ramayogainstitute.com
SUMMARY:Long Life Meditation
DESCRIPTION:TUNE IN
URL:https://ramayogainstitute.com/event/long-life-meditation-with-santosh-2023-10-08/
LOCATION:Online on RA MA TV
CATEGORIES:Community Content,RA MA TV Live
ATTACH;FMTTYPE=image/jpeg:https://ramayogainstitute.com/wp-content/uploads/2023/02/RA-MA-Los-Angeles-Yoga-Archer-Pose-Banner.jpg
END:VEVENT
BEGIN:VEVENT
DTSTART;TZID=America/Los_Angeles:20231008T080000
DTEND;TZID=America/Los_Angeles:20231008T093000
DTSTAMP:20260423T010800
CREATED:20231002T184922Z
LAST-MODIFIED:20231002T184922Z
UID:1857390-1696752000-1696757400@ramayogainstitute.com
SUMMARY:Kundalini Yoga  & Meditation with Pritam Siri
DESCRIPTION:TUNE IN\nPritam Siri is an artist and yogi based in New York City. She has dedicated her time to studying\, working\, and traveling with Guru Jagat from 2016 until her passing in 2021. She is an active student of Kundalini Yoga and Meditation as Taught by Yogi Bhajan and is committed to practicing and sharing kundalini yoga technology.\nHer classes are open and welcome to beginners and seasoned practitioners.
URL:https://ramayogainstitute.com/event/kundalini-yoga-meditation-with-pritam-siri-14/
LOCATION:RA MA Intitute New York and online
CATEGORIES:In Person,RA MA TV Live
ATTACH;FMTTYPE=image/jpeg:https://ramayogainstitute.com/wp-content/uploads/2023/09/Pritam-Siri-Thumbnail-014.jpg
END:VEVENT
BEGIN:VEVENT
DTSTART;TZID=America/Los_Angeles:20231008T083000
DTEND;TZID=America/Los_Angeles:20231008T090000
DTSTAMP:20260423T010800
CREATED:20230520T040744Z
LAST-MODIFIED:20231003T003004Z
UID:1801198-1696753800-1696755600@ramayogainstitute.com
SUMMARY:Global Meditations
DESCRIPTION:TUNE IN \n4 Essential Meditations: \n\nFists of Anger\nAddiction Meditation\nArd Katchari\nIntelligence Meditation\n\n 
URL:https://ramayogainstitute.com/event/global-meditations-2023-2023-09-25-2023-10-08/
LOCATION:Online on RA MA TV
CATEGORIES:Community Content,RA MA TV Live
ATTACH;FMTTYPE=image/jpeg:https://ramayogainstitute.com/wp-content/uploads/2023/01/RA-MA-New-York-Meditation.jpg
END:VEVENT
BEGIN:VEVENT
DTSTART;TZID=America/Los_Angeles:20231008T090000
DTEND;TZID=America/Los_Angeles:20231008T103000
DTSTAMP:20260423T010800
CREATED:20231007T040808Z
LAST-MODIFIED:20231007T040808Z
UID:1859346-1696755600-1696761000@ramayogainstitute.com
SUMMARY:Kundalini Yoga & Meditation with Gurujas
DESCRIPTION:TUNE IN\nGurujas is a kundalini yoga teacher and a singer\, songwriter\, and musician. She has gained a worldwide reputation as the lead singer of White Sun\, a Grammy-award winning band\, and a Billboard #1 artist. Gurujas’ kundalini practice began in 2005\, when she met her teacher\, Harijiwan\, who is also the founder of White Sun. \nAs a kundalini yoga teacher\, she is known as being intensely devoted to the accuracy of the teachings\, as well as incorporating contemporary science and practical every-day applications. As a singer\, she is known for her distinctive vocals\, her ethereal live performances\, and her ability to heal through song. She spends her time creating music\, teaching kundalini yoga\, working with clients\, and raising her two young daughters.
URL:https://ramayogainstitute.com/event/kundalini-yoga-meditation-with-gurujas/
LOCATION:Online on RA MA TV
CATEGORIES:RA MA TV Live
ATTACH;FMTTYPE=image/jpeg:https://ramayogainstitute.com/wp-content/uploads/2022/09/Gurujas.jpg
END:VEVENT
BEGIN:VEVENT
DTSTART;TZID=America/Los_Angeles:20231009T074500
DTEND;TZID=America/Los_Angeles:20231009T083000
DTSTAMP:20260423T010800
CREATED:20221023T082553Z
LAST-MODIFIED:20231010T163208Z
UID:1824468-1696837500-1696840200@ramayogainstitute.com
SUMMARY:Long Life Meditation
DESCRIPTION:TUNE IN\nGenerate & project positive healing energy in this daily meditation for Harijiwan.
URL:https://ramayogainstitute.com/event/long-life-meditation-with-santosh-2022-12-25-2023-10-04/
LOCATION:Online on RA MA TV
CATEGORIES:Community Content,RA MA TV Live
ATTACH;FMTTYPE=image/jpeg:https://ramayogainstitute.com/wp-content/uploads/2021/12/Students-Training-Los-Angeles.jpg
END:VEVENT
BEGIN:VEVENT
DTSTART;TZID=America/Los_Angeles:20231009T090000
DTEND;TZID=America/Los_Angeles:20231009T103000
DTSTAMP:20260423T010800
CREATED:20231003T224824Z
LAST-MODIFIED:20231009T022918Z
UID:1858200-1696842000-1696847400@ramayogainstitute.com
SUMMARY:Kundalini Yoga & Meditation+ Long Mul Mantra with Atma Santokh
DESCRIPTION:TUNE IN\nSpending time with Atma Santokh is an invitation into joyful integration of the vast perfection of Spirit into this faceted human vehicle\, arriving home in rich and rising expression Me. Experience challenging mudras\, deep mantra selections\, and transformative meditation experiences with practical\, engaging\, and down-to-earth verbiage to express the deep love he has for\, and practical application of\, the Kundalini Yoga teachings and techniques.
URL:https://ramayogainstitute.com/event/kundalini-yoga-meditation-mul-mantra-with-atma-santokh/
LOCATION:Online
CATEGORIES:In Person,RA MA TV Live
ATTACH;FMTTYPE=image/jpeg:https://ramayogainstitute.com/wp-content/uploads/2022/05/Screen-Shot-2022-05-06-at-9.09.24-PM.jpg
END:VEVENT
BEGIN:VEVENT
DTSTART;TZID=America/Los_Angeles:20231009T110000
DTEND;TZID=America/Los_Angeles:20231009T121500
DTSTAMP:20260423T010800
CREATED:20211211T021739Z
LAST-MODIFIED:20231003T223654Z
UID:1787748-1696849200-1696853700@ramayogainstitute.com
SUMMARY:Kundalini Yoga and Meditation with Jai Inder
DESCRIPTION:TUNE IN\nMONDAY|11:00 AM-12:15 PM PDT\nVirtually on RA MA TV Live\nIn Person @ RA MA Los Angeles \nAbout Jai Inder \nJai Inder teaches kundalini yoga classes that will connect you to your spirit. Kriyas\, pranayam and meditations as taught by Yogi Bhajan are all incorporated into classes that will calm your nervous system and help you access your best self. \n“This hocus pocus of an outside God\, finding God is over. We are here to find our God within ourselves.” \n“If it is not devotional\, it is not yoga\, it is just exercise. In every posture\, you have a chance to experience devotion. That’s what postures are real about. Worship the God in you and marvel at the beautiful engineering of your own body.” Yogi Bhajan \n 
URL:https://ramayogainstitute.com/event/teg-prakash-12-13-21-2022-01-03-2022-02-21-2022-07-11-2022-07-25-2023-10-09/
LOCATION:Online
CATEGORIES:In Person,RA MA TV Live
ATTACH;FMTTYPE=image/jpeg:https://ramayogainstitute.com/wp-content/uploads/2022/02/Jai-Inder.jpg
END:VEVENT
BEGIN:VEVENT
DTSTART;TZID=America/Los_Angeles:20231009T143000
DTEND;TZID=America/Los_Angeles:20231009T153000
DTSTAMP:20260423T010800
CREATED:20230924T235557Z
LAST-MODIFIED:20231009T031714Z
UID:1854661-1696861800-1696865400@ramayogainstitute.com
SUMMARY:Kundalini Yoga & Mediation with Seva Jagat
DESCRIPTION:TUNE IN VIRTUALLY\nOR \nIN PERSON\nMONDAYS  | 5:30-6:30 EDT\nVirtually on RA MA TV Live\nIn Person @ RA MA New York \nAbout Seva Jagat \nSeva Jagat is an Independent Photographer from Puerto Rico\, he worked and travelled with Guru Jagat and the RA MA Global Crew since he arrived to Venice\, California. Becoming Guru Jagat’s Iconic and personal photographer\, her passion for the Kundalini Technology and the Teachings of Yogi Bhajan\, promptly had him teaching in both English and Spanish\, launching You Tube Channels and traveling the World as private teacher for celebrities. \nWhen he is not teaching or filming at the RA MA New York Studio you can catch him surfing\, skating or at an art gallery where probably some of his Photographs are part of it. \n@sevajagat
URL:https://ramayogainstitute.com/event/kundalini-yoga-mediation-with-seva-jagat-2-2023-10-09/
LOCATION:RA MA Intitute New York and online
CATEGORIES:In Person,RA MA TV Live
ATTACH;FMTTYPE=image/jpeg:https://ramayogainstitute.com/wp-content/uploads/2021/02/Seva-Jagat-3.jpg
END:VEVENT
BEGIN:VEVENT
DTSTART;TZID=America/Los_Angeles:20231009T170000
DTEND;TZID=America/Los_Angeles:20231009T190000
DTSTAMP:20260423T010800
CREATED:20230929T211855Z
LAST-MODIFIED:20230929T212003Z
UID:1855091-1696870800-1696878000@ramayogainstitute.com
SUMMARY:Guru Ram Das Birthday with Gurujas
DESCRIPTION:SIGN UP\nTUNE IN\nThe House of Miracles with Gurujas\nKundalini Yoga & Meditation on Guru Ram Das’ Birthday\nMonday. October 9\, 2023\n5:00pm-7:00pm PDT \nRA MA TV\nRA MA Los Angeles\n$50 In Advance| $55 Day of
URL:https://ramayogainstitute.com/event/guru-ram-das-birthday-with-gurujas/
LOCATION:Online
CATEGORIES:In Person,Pay Per View Workshops
ATTACH;FMTTYPE=image/jpeg:https://ramayogainstitute.com/wp-content/uploads/2021/10/Gurujas-7.jpg
END:VEVENT
BEGIN:VEVENT
DTSTART;TZID=America/Los_Angeles:20231009T193000
DTEND;TZID=America/Los_Angeles:20231009T203000
DTSTAMP:20260423T010800
CREATED:20231003T225822Z
LAST-MODIFIED:20231003T225822Z
UID:1858205-1696879800-1696883400@ramayogainstitute.com
SUMMARY:Gong Bath With Julian Schwartz
DESCRIPTION:TUNE IN \nIntroduced to Kundalini Yoga in 2004\, Julian completed his teacher training with Harijiwan and Tej in 2013. Julian holds a BSc. in Human Physiology from McGill University in Montreal\, and a BA in Music and Theater from Naropa University in Boulder CO where he immersed himself in the study and practice of Tai Chi Chuan and Tibetan Buddhism. \nJulian spent many years in the entertainment industry working as a producer of music for film and TV. He is the co-creator with Guru Jagat of RA MA TV. \n 
URL:https://ramayogainstitute.com/event/gong-bath-with-julian-schwartz/
LOCATION:Online
CATEGORIES:In Person,RA MA TV Live
ATTACH;FMTTYPE=image/jpeg:https://ramayogainstitute.com/wp-content/uploads/2021/09/Julian-Schwartz.jpg
END:VEVENT
BEGIN:VEVENT
DTSTART;TZID=America/Los_Angeles:20231010T090000
DTEND;TZID=America/Los_Angeles:20231010T103000
DTSTAMP:20260423T010800
CREATED:20231006T163708Z
LAST-MODIFIED:20231009T023912Z
UID:1859173-1696928400-1696933800@ramayogainstitute.com
SUMMARY:Kundalini Yoga & Meditation with Kim Krans
DESCRIPTION:TUNE IN\nArtist Kim Krans brings her creative sensibility to her Kundalini Yoga and meditation classes. Using breathwork\, physical posture\, mantra and mudra\, you will activate your own creative force and experience radical transformation.
URL:https://ramayogainstitute.com/event/kundalini-yoga-meditation-with-kim-krans-7/
LOCATION:Online
CATEGORIES:In Person,RA MA TV Live
ATTACH;FMTTYPE=image/jpeg:https://ramayogainstitute.com/wp-content/uploads/2023/05/Kim-Krans-Balck-and-White-by-Seva-Jagat-2-e1688785694725.jpg
END:VEVENT
BEGIN:VEVENT
DTSTART;TZID=America/Los_Angeles:20231011T090000
DTEND;TZID=America/Los_Angeles:20231011T103000
DTSTAMP:20260423T010800
CREATED:20231006T163954Z
LAST-MODIFIED:20231006T163954Z
UID:1859176-1697014800-1697020200@ramayogainstitute.com
SUMMARY:Kundalini Yoga & Meditation with Kim Krans
DESCRIPTION:TUNE IN\nArtist Kim Krans brings her creative sensibility to her Kundalini Yoga and meditation classes. Using breathwork\, physical posture\, mantra and mudra\, you will activate your own creative force and experience radical transformation.
URL:https://ramayogainstitute.com/event/kundalini-yoga-meditation-with-kim-krans-8/
LOCATION:Online
CATEGORIES:In Person,RA MA TV Live
ATTACH;FMTTYPE=image/jpeg:https://ramayogainstitute.com/wp-content/uploads/2023/05/Kim-Krans-Balck-and-White-by-Seva-Jagat-2-e1688785694725.jpg
END:VEVENT
BEGIN:VEVENT
DTSTART;TZID=America/Los_Angeles:20231011T110000
DTEND;TZID=America/Los_Angeles:20231011T120000
DTSTAMP:20260423T010800
CREATED:20231003T233045Z
LAST-MODIFIED:20231010T003327Z
UID:1858219-1697022000-1697025600@ramayogainstitute.com
SUMMARY:Kundalini Yoga & Meditation with Alexis Di Salvo
DESCRIPTION:TUNE IN \nAbout Alexis \nAlexis met her teacher\, Harijiwan in 2012 and in 2013 took her first of many kundalini trainings with Harijiwan and Tej. She began teaching at the brand new RA MA Venice and has been practicing and using the Kundalini Yoga technology to upgrade and expand her potential ever since. \nAlexis is also a mother and successful working actress. She has appeared in several television shows and feature films such as THIS IS US\, GRACE AND FRANKIE\, THE RESIDENT\, JERSEY BOYS AND THE GET DOWN. She also teaches and coaches other actors through Lesly Kahn & Co Acting Studio. \nAlexis loves deepening her daily practice and continuing to study and learn from her teacher\, Harijiwan.
URL:https://ramayogainstitute.com/event/kundalini-yoga-meditation-with-alexis-di-salvo-5/
LOCATION:Online
CATEGORIES:In Person,RA MA TV Live
ATTACH;FMTTYPE=image/jpeg:https://ramayogainstitute.com/wp-content/uploads/2023/02/Alexis-Krause.jpg
END:VEVENT
BEGIN:VEVENT
DTSTART;TZID=America/Los_Angeles:20231011T160000
DTEND;TZID=America/Los_Angeles:20231011T173000
DTSTAMP:20260423T010800
CREATED:20231005T221755Z
LAST-MODIFIED:20231005T224810Z
UID:1858902-1697040000-1697045400@ramayogainstitute.com
SUMMARY:Beyond Fear: Yogic warrior Practices with Pritam Siri
DESCRIPTION:TUNE IN\nPritam Siri is an artist and yogi based in New York City. She has dedicated her time to studying\, working\, and traveling with Guru Jagat from 2016 until her passing in 2021. She is an active student of Kundalini Yoga and Meditation as Taught by Yogi Bhajan and is committed to practicing and sharing kundalini yoga technology.\nHer classes are open and welcome to beginners and seasoned practitioners.
URL:https://ramayogainstitute.com/event/kundalini-yoga-meditation-with-pritam-siri-15/
LOCATION:RA MA Intitute New York and online
CATEGORIES:In Person,RA MA TV Live
ATTACH;FMTTYPE=image/jpeg:https://ramayogainstitute.com/wp-content/uploads/2023/08/RAMA_PritamSiri_Kundalini_Header.jpg
END:VEVENT
BEGIN:VEVENT
DTSTART;TZID=America/Los_Angeles:20231011T173000
DTEND;TZID=America/Los_Angeles:20231011T184500
DTSTAMP:20260423T010800
CREATED:20230922T183101Z
LAST-MODIFIED:20231003T234653Z
UID:1846655-1697045400-1697049900@ramayogainstitute.com
SUMMARY:Kundalini Yoga & Meditation with Atma Santokh
DESCRIPTION:TUNE IN \nSpending time with Atma Santokh is an invitation into joyful integration of the vast perfection of Spirit into this faceted human vehicle\, arriving home in rich and rising expression Me. Experience challenging mudras\, deep mantra selections\, and transformative meditation experiences with practical\, engaging\, and down-to-earth verbiage to express the deep love he has for\, and practical application of\, the Kundalini Yoga teachings and techniques.
URL:https://ramayogainstitute.com/event/beam-kundalini-yoga-for-limitless-strength-2023-10-11/
LOCATION:Online
CATEGORIES:In Person,RA MA TV Live
ATTACH;FMTTYPE=image/jpeg:https://ramayogainstitute.com/wp-content/uploads/2022/05/Screen-Shot-2022-05-06-at-9.09.24-PM.jpg
END:VEVENT
BEGIN:VEVENT
DTSTART;TZID=America/Los_Angeles:20231011T190000
DTEND;TZID=America/Los_Angeles:20231011T203000
DTSTAMP:20260423T010800
CREATED:20231003T235153Z
LAST-MODIFIED:20231003T235153Z
UID:1858314-1697050800-1697056200@ramayogainstitute.com
SUMMARY:The DEEP Unwind with Harmanjot Kaur
DESCRIPTION:TUNE IN\nAbout Harmanjot \nHarmanjot is an originating teacher at RA MA Institute. She is the director of curriculum for RA MA Global\, editor for RA MA Press\, the host of Reality Riffing Presents\, and the founder of Infinity MA – a full spectrum motherhood and family class series and six-month course. With a sense of humor and by the book application of the teachings\, students in Harmanjot’s classes include Academy Award winners\, music industry veterans\, executives\, artists\, fashion makers\, influencers\, and individuals of all backgrounds. Harmanjot has been married for seven years and is a mother of two young children. Therefore\, when she is not teaching\, Harmanjot is picking up toys and reading bedtime stories.
URL:https://ramayogainstitute.com/event/the-deep-unwind-with-harmanjot-kaur/
LOCATION:Online
CATEGORIES:In Person,RA MA TV Live
ATTACH;FMTTYPE=image/jpeg:https://ramayogainstitute.com/wp-content/uploads/2021/10/Harmanjot-11.jpg
END:VEVENT
BEGIN:VEVENT
DTSTART;TZID=America/Los_Angeles:20231012T074500
DTEND;TZID=America/Los_Angeles:20231012T083000
DTSTAMP:20260423T010800
CREATED:20221023T082553Z
LAST-MODIFIED:20231012T030546Z
UID:1860275-1697096700-1697099400@ramayogainstitute.com
SUMMARY:Long Life Meditation
DESCRIPTION:TUNE IN\nGenerate & project positive healing energy in this daily meditation for Harijiwan.
URL:https://ramayogainstitute.com/event/long-life-meditation-with-santosh-2022-12-25-2023-10-04-2023-10-10/2023-10-12/
LOCATION:Online
CATEGORIES:Community Content,In Person,RA MA TV Live
ATTACH;FMTTYPE=image/jpeg:https://ramayogainstitute.com/wp-content/uploads/2021/12/Students-Training-Los-Angeles.jpg
END:VEVENT
BEGIN:VEVENT
DTSTART;TZID=America/Los_Angeles:20231012T080000
DTEND;TZID=America/Los_Angeles:20231012T170000
DTSTAMP:20260423T010800
CREATED:20231013T033727Z
LAST-MODIFIED:20231013T034130Z
UID:1860874-1697097600-1697130000@ramayogainstitute.com
SUMMARY:Sounds of resilience: Mantra and the Golden Shield
DESCRIPTION:TUNE IN
URL:https://ramayogainstitute.com/event/sounds-of-resilience-mantra-and-the-golden-shield/
LOCATION:RA MA Intitute New York and online
ATTACH;FMTTYPE=image/jpeg:https://ramayogainstitute.com/wp-content/uploads/2023/10/RAMA_Kundalini_DesireePais_Header.jpg
END:VEVENT
BEGIN:VEVENT
DTSTART;TZID=America/Los_Angeles:20231012T090000
DTEND;TZID=America/Los_Angeles:20231012T103000
DTSTAMP:20260423T010800
CREATED:20231011T190619Z
LAST-MODIFIED:20231011T191201Z
UID:1860531-1697101200-1697106600@ramayogainstitute.com
SUMMARY:Kundalini Yoga and Meditation with Jot Gianpreet
DESCRIPTION:TUNE IN\nJot Gianpreet is a writer\, Holistic Chef\, dancer and artist\, part of the RA MA Community since 2016\, combining a strong background in different yoga lineages and Somatic Dance. Her classes are an invitation to use the Kundalini Technology as healing tools to reach our highest potential and Destiny. With Masters Degree in Political Sciences and Educational Psychology\, Jot Gianpreet has a special sensitivity to guide her students into a devotional exploration of the SELF\, in a fun and creative way.
URL:https://ramayogainstitute.com/event/kundalini-yoga-and-meditation-with-jot-gianpreet-2/
LOCATION:Online
CATEGORIES:In Person,RA MA TV Live
ATTACH;FMTTYPE=image/jpeg:https://ramayogainstitute.com/wp-content/uploads/2023/04/Jot-Gianpreet.jpeg
END:VEVENT
BEGIN:VEVENT
DTSTART;TZID=America/Los_Angeles:20231012T160000
DTEND;TZID=America/Los_Angeles:20231012T173000
DTSTAMP:20260423T010800
CREATED:20231005T222525Z
LAST-MODIFIED:20231005T223458Z
UID:1858905-1697126400-1697131800@ramayogainstitute.com
SUMMARY:Beyond Fear: Yogic Warrior Practices with Pritam Siri
DESCRIPTION:TUNE IN\nPritam Siri is an artist and yogi based in New York City. She has dedicated her time to studying\, working\, and traveling with Guru Jagat from 2016 until her passing in 2021. She is an active student of Kundalini Yoga and Meditation as Taught by Yogi Bhajan and is committed to practicing and sharing kundalini yoga technology.\nHer classes are open and welcome to beginners and seasoned practitioners.
URL:https://ramayogainstitute.com/event/kundalini-yoga-meditation-with-pritam-siri-16/2023-10-12/
LOCATION:RA MA Intitute New York and online
CATEGORIES:In Person,RA MA TV Live
ATTACH;FMTTYPE=image/jpeg:https://ramayogainstitute.com/wp-content/uploads/2023/08/RAMA_PritamSiri_Kundalini_Header.jpg
END:VEVENT
END:VCALENDAR