BEGIN:VCALENDAR
VERSION:2.0
PRODID:-//RA MA LIFE - ECPv6.15.15//NONSGML v1.0//EN
CALSCALE:GREGORIAN
METHOD:PUBLISH
X-WR-CALNAME:RA MA LIFE
X-ORIGINAL-URL:https://ramayogainstitute.com
X-WR-CALDESC:Events for RA MA LIFE
REFRESH-INTERVAL;VALUE=DURATION:PT1H
X-Robots-Tag:noindex
X-PUBLISHED-TTL:PT1H
BEGIN:VTIMEZONE
TZID:America/Los_Angeles
BEGIN:DAYLIGHT
TZOFFSETFROM:-0800
TZOFFSETTO:-0700
TZNAME:PDT
DTSTART:20210314T100000
END:DAYLIGHT
BEGIN:STANDARD
TZOFFSETFROM:-0700
TZOFFSETTO:-0800
TZNAME:PST
DTSTART:20211107T090000
END:STANDARD
BEGIN:DAYLIGHT
TZOFFSETFROM:-0800
TZOFFSETTO:-0700
TZNAME:PDT
DTSTART:20220313T100000
END:DAYLIGHT
BEGIN:STANDARD
TZOFFSETFROM:-0700
TZOFFSETTO:-0800
TZNAME:PST
DTSTART:20221106T090000
END:STANDARD
BEGIN:DAYLIGHT
TZOFFSETFROM:-0800
TZOFFSETTO:-0700
TZNAME:PDT
DTSTART:20230312T100000
END:DAYLIGHT
BEGIN:STANDARD
TZOFFSETFROM:-0700
TZOFFSETTO:-0800
TZNAME:PST
DTSTART:20231105T090000
END:STANDARD
END:VTIMEZONE
BEGIN:VEVENT
DTSTART;TZID=America/Los_Angeles:20220713T090000
DTEND;TZID=America/Los_Angeles:20220713T110000
DTSTAMP:20260425T084732
CREATED:20220711T225934Z
LAST-MODIFIED:20220712T221600Z
UID:1722867-1657702800-1657710000@ramayogainstitute.com
SUMMARY:Mystic Moon: Supermoon in Capricorn with Harijiwan
DESCRIPTION:Kundalini Yoga\, Meditation & Gong Workshop with Harijiwan \nLive from Mallorca \n$50 In Advance\, $55 Day of \nSIGN UP \nWATCH NOW
URL:https://ramayogainstitute.com/event/mystic-moon-supermoon-in-capricorn-with-harijiwan/
LOCATION:RA MA Mallorca & Online
CATEGORIES:In Person,Pay Per View Workshops
ATTACH;FMTTYPE=image/jpeg:https://ramayogainstitute.com/wp-content/uploads/2021/09/Mallorca-Yatra-2017-283JW_Harijiwan_v1.jpg
END:VEVENT
BEGIN:VEVENT
DTSTART;TZID=America/Los_Angeles:20220713T090000
DTEND;TZID=America/Los_Angeles:20220713T103000
DTSTAMP:20260425T084732
CREATED:20220711T222419Z
LAST-MODIFIED:20220711T222419Z
UID:1722865-1657702800-1657708200@ramayogainstitute.com
SUMMARY:Deep and Noble Human Being
DESCRIPTION:Full Moon in Capricorn Kundalini Yoga with Mary Margaret Skelly\, Creator of Work Like a Human \nTune In
URL:https://ramayogainstitute.com/event/deep-and-noble-human-being/
LOCATION:Online
CATEGORIES:In Person,RA MA TV Live
ATTACH;FMTTYPE=image/jpeg:https://ramayogainstitute.com/wp-content/uploads/2021/08/Mary-Margaret-Skelly.jpg
END:VEVENT
BEGIN:VEVENT
DTSTART;TZID=America/Los_Angeles:20220711T190000
DTEND;TZID=America/Los_Angeles:20220711T201500
DTSTAMP:20260425T084732
CREATED:20220711T221751Z
LAST-MODIFIED:20220711T221751Z
UID:1722860-1657566000-1657570500@ramayogainstitute.com
SUMMARY:Kundalini Yoga & Meditation with Gabrielle Goss
DESCRIPTION:Tune In Live
URL:https://ramayogainstitute.com/event/kundalini-yoga-meditation-with-gabrielle-goss/
LOCATION:Online
CATEGORIES:In Person,RA MA TV Live
ATTACH;FMTTYPE=image/jpeg:https://ramayogainstitute.com/wp-content/uploads/2021/08/Gabrielle-Goss.jpg
END:VEVENT
BEGIN:VEVENT
DTSTART;TZID=America/Los_Angeles:20220711T160000
DTEND;TZID=America/Los_Angeles:20220711T173000
DTSTAMP:20260425T084732
CREATED:20220124T232939Z
LAST-MODIFIED:20220711T221634Z
UID:1686415-1657555200-1657560600@ramayogainstitute.com
SUMMARY:Kundalini Yoga & Meditation with Grace
DESCRIPTION:Tune In Live
URL:https://ramayogainstitute.com/event/kundalini-yoga-meditation-with-siri-rishi-2022-07-11/
LOCATION:RA MA New York & Online
CATEGORIES:RA MA TV Live
ATTACH;FMTTYPE=image/jpeg:https://ramayogainstitute.com/wp-content/uploads/2022/01/Grace-Adriana.jpg
END:VEVENT
BEGIN:VEVENT
DTSTART;TZID=America/Los_Angeles:20220711T090000
DTEND;TZID=America/Los_Angeles:20220711T103000
DTSTAMP:20260425T084732
CREATED:20220326T233049Z
LAST-MODIFIED:20220708T015930Z
UID:1700170-1657530000-1657535400@ramayogainstitute.com
SUMMARY:Kundalini Yoga and Meditation with Jai Inder
DESCRIPTION:Tune In
URL:https://ramayogainstitute.com/event/kundalini-yoga-and-meditation-long-mul-mantra-with-mandev-2022-05-23-2022-07-11/
LOCATION:Online
CATEGORIES:In Person,RA MA TV Live
ATTACH;FMTTYPE=image/jpeg:https://ramayogainstitute.com/wp-content/uploads/2022/02/Jai-Inder.jpg
END:VEVENT
BEGIN:VEVENT
DTSTART;TZID=America/Los_Angeles:20220709T183000
DTEND;TZID=America/Los_Angeles:20220709T203000
DTSTAMP:20260425T084732
CREATED:20220623T185853Z
LAST-MODIFIED:20220628T220949Z
UID:1719221-1657391400-1657398600@ramayogainstitute.com
SUMMARY:Shamanic Sacred Bowl Healing with Shaman Durek
DESCRIPTION:Shamanic Bowl Healing\, an ancient practice that comes from Africa\, is a powerful way to attune your system and activate powerful energies for overall health and wellness. Used to clear out toxins\, strengthen the immune system\, and create a stronger sense of self. \nIn this workshop with Shaman Durek\, you will learn: \n\nWhat the shamanic bowl is and the physical passages needed to clear the bowl\nWhy it needs to be cleansed and how it supports the overall health in your system\nHealing techniques to work on other people\, and how to do self-healing on yourself\nAbout sacred energy channels known as the root\, as well as breathing exercises to empower the bowl.\n\nThis is a hands-on class that requires you to dress comfortably. Bring a mat\, notepad\, blanket\, and pillow. Join us as we are back for LIVE workshops with Shaman Durek at RAMA. \nSee you there tribe! \nPrice: $75 \nIn-person at RA MA Los Angeles and live on RA MA TV with infinite replay. \n*Your purchase is non-transferable and non-refundable \n  \nSIGN UP  \nWATCH NOW
URL:https://ramayogainstitute.com/event/shamanic-sacred-bowl-healing-with-shaman-durek/
LOCATION:Online
CATEGORIES:In Person,Pay Per View Workshops
ATTACH;FMTTYPE=image/jpeg:https://ramayogainstitute.com/wp-content/uploads/2019/06/shamandurek.jpg
END:VEVENT
BEGIN:VEVENT
DTSTART;TZID=America/Los_Angeles:20220708T180000
DTEND;TZID=America/Los_Angeles:20220708T200000
DTSTAMP:20260425T084732
CREATED:20220701T051144Z
LAST-MODIFIED:20220701T051145Z
UID:1720839-1657303200-1657310400@ramayogainstitute.com
SUMMARY:Alchemy Deck Launch Party
DESCRIPTION:Tune In
URL:https://ramayogainstitute.com/event/alchemy-deck-launch-party/
LOCATION:Online
CATEGORIES:Community Content,In Person,RA MA TV Live
ATTACH;FMTTYPE=image/jpeg:https://ramayogainstitute.com/wp-content/uploads/2022/06/Kim-Krans.jpg
END:VEVENT
BEGIN:VEVENT
DTSTART;TZID=America/Los_Angeles:20220708T110000
DTEND;TZID=America/Los_Angeles:20220708T120000
DTSTAMP:20260425T084732
CREATED:20220703T010035Z
LAST-MODIFIED:20220808T062553Z
UID:1721354-1657278000-1657281600@ramayogainstitute.com
SUMMARY:Artist Rising with Kim Krans
DESCRIPTION:In this four-part series\, artist and author Kim Krans shares her favorite practices for building creative vision\, confidence\, and follow-through. Each week is an exploration of one of the four phases in the creative process: DECIDE\, REPEAT\, DISSOLVE\, TRANSMIT. All levels welcome\, bring pen and paper. Strengthen the artist within. \n What you will learn: \n\nwhy your creativity matters\nhow to stoke the creative fire\nbreath and mantra especially suited for artists\nmovement and kriyas to support your creative vision\nhow to utilize creative downloads\n\nTUNE IN
URL:https://ramayogainstitute.com/event/artist-rising-with-kim-krans/2022-07-08/
LOCATION:Online
CATEGORIES:In Person,RA MA TV Live
ATTACH;FMTTYPE=image/jpeg:https://ramayogainstitute.com/wp-content/uploads/2022/07/Kim-Krans.jpg
END:VEVENT
BEGIN:VEVENT
DTSTART;TZID=America/Los_Angeles:20220708T090000
DTEND;TZID=America/Los_Angeles:20220708T103000
DTSTAMP:20260425T084732
CREATED:20220326T233512Z
LAST-MODIFIED:20220703T005204Z
UID:1700251-1657270800-1657276200@ramayogainstitute.com
SUMMARY:Kundalini Yoga & Meditation with Teg Prakash
DESCRIPTION:Teg Prakash is a Kundalini Yoga teacher\, astrologer\, and intuitive sound healer with a passionate curiosity for the teachings of Kundalini Yoga\, as taught by Yogi Bhajan\, and seeks to bring people to a true sense of their soul through astrology\, their personal power through yoga\, and their peace through the power of sound. \nTune In
URL:https://ramayogainstitute.com/event/kundalini-yoga-meditation-with-mandev-6-2022-05-12-2022-05-19-2022-07-08/
LOCATION:Online
CATEGORIES:In Person,RA MA TV Live
ATTACH;FMTTYPE=image/jpeg:https://ramayogainstitute.com/wp-content/uploads/2022/06/Teg-Prakash-Looking-Up-Vimeo-Thumbnail.jpg
END:VEVENT
BEGIN:VEVENT
DTSTART;TZID=America/Los_Angeles:20220707T090000
DTEND;TZID=America/Los_Angeles:20220707T103000
DTSTAMP:20260425T084732
CREATED:20220326T233512Z
LAST-MODIFIED:20220703T005032Z
UID:1700250-1657184400-1657189800@ramayogainstitute.com
SUMMARY:Kundalini Yoga & Meditation with Teg Prakash
DESCRIPTION:Teg Prakash is a Kundalini Yoga teacher\, astrologer\, and intuitive sound healer with a passionate curiosity for the teachings of Kundalini Yoga\, as taught by Yogi Bhajan\, and seeks to bring people to a true sense of their soul through astrology\, their personal power through yoga\, and their peace through the power of sound. \nTune In
URL:https://ramayogainstitute.com/event/kundalini-yoga-meditation-with-mandev-6-2022-05-12-2022-05-19-2022-07-07/
LOCATION:Online
CATEGORIES:In Person,RA MA TV Live
ATTACH;FMTTYPE=image/jpeg:https://ramayogainstitute.com/wp-content/uploads/2022/06/Teg-Prakash-Looking-Up-Vimeo-Thumbnail.jpg
END:VEVENT
BEGIN:VEVENT
DTSTART;TZID=America/Los_Angeles:20220706T160000
DTEND;TZID=America/Los_Angeles:20220706T173000
DTSTAMP:20260425T084732
CREATED:20220703T004844Z
LAST-MODIFIED:20220718T024719Z
UID:1721348-1657123200-1657128600@ramayogainstitute.com
SUMMARY:How to Relax with Seva Jagat
DESCRIPTION:Kundalini Yoga & Meditation to train and strengthen your nervous system so you can truly relax\, de-stress\, or be alert by command.
URL:https://ramayogainstitute.com/event/how-to-relax-with-seva-jagat/2022-07-06/
LOCATION:RA MA New York & Online
CATEGORIES:In Person,RA MA TV Live
ATTACH;FMTTYPE=image/jpeg:https://ramayogainstitute.com/wp-content/uploads/2022/05/Seva-Jagat.jpg
END:VEVENT
BEGIN:VEVENT
DTSTART;TZID=America/Los_Angeles:20220706T090000
DTEND;TZID=America/Los_Angeles:20220706T103000
DTSTAMP:20260425T084732
CREATED:20220326T233512Z
LAST-MODIFIED:20220705T004053Z
UID:1700249-1657098000-1657103400@ramayogainstitute.com
SUMMARY:Kundalini Yoga & Meditation with Nathan Hirschaut
DESCRIPTION:Artist. Helping you live an explosively creative\, conscious\, and embodied life. Dancer • Yogi • Coach • Filmmaker• Practitioner \nTune In
URL:https://ramayogainstitute.com/event/kundalini-yoga-meditation-with-mandev-6-2022-05-12-2022-05-19-2022-07-06/
LOCATION:Online
CATEGORIES:In Person,RA MA TV Live
ATTACH;FMTTYPE=image/jpeg:https://ramayogainstitute.com/wp-content/uploads/2022/03/Nathan-Hirschaut.jpg
END:VEVENT
BEGIN:VEVENT
DTSTART;TZID=America/Los_Angeles:20220705T130000
DTEND;TZID=America/Los_Angeles:20220705T140000
DTSTAMP:20260425T084732
CREATED:20220705T004900Z
LAST-MODIFIED:20220705T005646Z
UID:1721558-1657026000-1657029600@ramayogainstitute.com
SUMMARY:Summer Mallorca Residency Q&A Call
DESCRIPTION:Join Harijiwan for a live complimentary Q&A Zoom call to learn more about the upcoming events happening on Mallorca this July. \nKundalini Training: Becoming a Teacher\nFriday\, July 15-Tuesday\, July 19\, 2022 \nRA MA Mystery School: The Knights of Templar\nThursday\, July 21-Sunday\, July 24\, 2022 \nBring your questions or come to listen. \nTUNE IN
URL:https://ramayogainstitute.com/event/summer-mallorca-residency-qa-call/
LOCATION:Online on Zoom
CATEGORIES:Community Content,RA MA TV Live
ATTACH;FMTTYPE=image/jpeg:https://ramayogainstitute.com/wp-content/uploads/2022/07/Mallorca.jpg
END:VEVENT
BEGIN:VEVENT
DTSTART;TZID=America/Los_Angeles:20220704T110000
DTEND;TZID=America/Los_Angeles:20220704T123000
DTSTAMP:20260425T084732
CREATED:20220630T044220Z
LAST-MODIFIED:20220630T044221Z
UID:1720589-1656932400-1656937800@ramayogainstitute.com
SUMMARY:Sovereign Mind with Harijiwan
DESCRIPTION:Kundalini Yoga\, Deep Meditation & Gong\nA Special Independence Day Class with Harijiwan \nSIGN UP \nWATCH NOW (LIVE MEMBERS)  \n  \n 
URL:https://ramayogainstitute.com/event/sovereign-mind-harijiwan-07-04-2022/
LOCATION:Online
CATEGORIES:In Person,Pay Per View Workshops,RA MA TV Live
ATTACH;FMTTYPE=image/jpeg:https://ramayogainstitute.com/wp-content/uploads/2022/06/Harijiwan-Solstice.jpg
END:VEVENT
BEGIN:VEVENT
DTSTART;TZID=America/Los_Angeles:20220702T110000
DTEND;TZID=America/Los_Angeles:20220702T120000
DTSTAMP:20260425T084732
CREATED:20220106T175546Z
LAST-MODIFIED:20220630T043250Z
UID:1692225-1656759600-1656763200@ramayogainstitute.com
SUMMARY:Kundalini Yoga & Meditation with Mary Margaret Skelly
DESCRIPTION:Learn More & Tune In
URL:https://ramayogainstitute.com/event/kundalini-yoga-marta-1-15-21-2022-02-19-2022-07-02/
LOCATION:Online
CATEGORIES:In Person,RA MA TV Live
ATTACH;FMTTYPE=image/jpeg:https://ramayogainstitute.com/wp-content/uploads/2021/08/Mary-Margaret-Skelly.jpg
END:VEVENT
BEGIN:VEVENT
DTSTART;TZID=America/Los_Angeles:20220630T110000
DTEND;TZID=America/Los_Angeles:20220630T120000
DTSTAMP:20260425T084732
CREATED:20210813T162003Z
LAST-MODIFIED:20220630T042742Z
UID:1680900-1656586800-1656590400@ramayogainstitute.com
SUMMARY:Prosperity Hour with Mary Margaret Skelly
DESCRIPTION:Join us for this special new series “Prosperity Hour.” These practices will brighten your day and expand the aura in all directions unlocking your hidden treasures. Invest an hour to charge up and experience your power to set a projection that lasts. Health\, Wealth\, Happiness. Thank you. \nLearn More & Tune In
URL:https://ramayogainstitute.com/event/malyvahn-12-14-21-2022-04-19-2022-05-17-2022-06-30/
LOCATION:Online
CATEGORIES:In Person,RA MA TV Live
ATTACH;FMTTYPE=image/jpeg:https://ramayogainstitute.com/wp-content/uploads/2021/08/Mary-Margaret-Skelly.jpg
END:VEVENT
BEGIN:VEVENT
DTSTART;TZID=America/Los_Angeles:20220628T190000
DTEND;TZID=America/Los_Angeles:20220628T203000
DTSTAMP:20260425T084732
CREATED:20220109T034919Z
LAST-MODIFIED:20220628T002159Z
UID:1683174-1656442800-1656448200@ramayogainstitute.com
SUMMARY:Kundalini Yoga & Meditation with Shabadpreet
DESCRIPTION:Shabadpreet is a teacher trained in Yogi Bhajan’s healing technologies and various other subtle and physical healing modalities. Since her first encounter with Kundalini Yoga and Meditation in 2008 Shabadpreet has since studied with her teacher Guru Jagat. Kundalini Yoga and Mediation is a lightning fast practice for directly re-connecting with who you are\, cutting through anxiety\, depression\, and other low frequency states\, and freeing up your abundant natural energy. \nShabadpreet’s classes are fun\, meditative\, and deeply healing and provide a variety of tools that you can take into your daily life. \nTune In
URL:https://ramayogainstitute.com/event/kundalini-yoga-meditation-with-shabadpreet-9-2022-05-17-2022-06-28/
LOCATION:Online
CATEGORIES:In Person,RA MA TV Live
ATTACH;FMTTYPE=image/jpeg:https://ramayogainstitute.com/wp-content/uploads/2022/05/Shabadpreet-Calendar-Icon.jpg
END:VEVENT
BEGIN:VEVENT
DTSTART;TZID=America/Los_Angeles:20220626T160000
DTEND;TZID=America/Los_Angeles:20220626T173000
DTSTAMP:20260425T084732
CREATED:20211111T222113Z
LAST-MODIFIED:20220626T232401Z
UID:1678865-1656259200-1656264600@ramayogainstitute.com
SUMMARY:Kundalini Yoga & Meditation with Jai Gopal
DESCRIPTION:  \nLearn More & Tune In
URL:https://ramayogainstitute.com/event/kundalini-tej-11-20-21-2021-12-05-2022-01-09-2022-04-24-2022-05-01-2022-06-26/
LOCATION:Online
CATEGORIES:In Person,RA MA TV Live
ATTACH;FMTTYPE=image/jpeg:https://ramayogainstitute.com/wp-content/uploads/2019/07/Jai-Gopal-1.jpg
END:VEVENT
BEGIN:VEVENT
DTSTART;TZID=America/Los_Angeles:20220624T090000
DTEND;TZID=America/Los_Angeles:20220624T103000
DTSTAMP:20260425T084732
CREATED:20220326T233512Z
LAST-MODIFIED:20220622T004710Z
UID:1700245-1656061200-1656066600@ramayogainstitute.com
SUMMARY:Cosmic Healing with Teg Prakash
DESCRIPTION:Kundalini Yoga & Meditation to activate the healing forces of the cosmos. \nClass 3: Chiron and Threads of Fate “Our past lives and many of our current-life experiences place on us a psychological and spiritual weight; a karmic weight. Through working to clear that karma\, often one of humanities best attributes is discovered. We learn how to help others heal and escape the fateful circumstances holding them in place. This is where we find the Wounded Healer\, Chiron. \nTeg Prakash is a Kundalini Yoga teacher\, astrologer\, and intuitive sound healer with a passionate curiosity for the teachings of Kundalini Yoga\, as taught by Yogi Bhajan\, and seeks to bring people to a true sense of their soul through astrology\, their personal power through yoga\, and their peace through the power of sound. \n@theheavensareyours \nTune In
URL:https://ramayogainstitute.com/event/kundalini-yoga-meditation-with-mandev-6-2022-05-12-2022-05-19-2022-06-24/
LOCATION:Online
CATEGORIES:In Person,RA MA TV Live
ATTACH;FMTTYPE=image/jpeg:https://ramayogainstitute.com/wp-content/uploads/2021/11/Teg-Prakash-Talking-on-Stage.jpeg
END:VEVENT
BEGIN:VEVENT
DTSTART;TZID=America/Los_Angeles:20220623T090000
DTEND;TZID=America/Los_Angeles:20220623T103000
DTSTAMP:20260425T084732
CREATED:20220326T233512Z
LAST-MODIFIED:20220622T004417Z
UID:1700244-1655974800-1655980200@ramayogainstitute.com
SUMMARY:Cosmic Healing with Teg Prakash
DESCRIPTION:Kundalini Yoga & Meditation to activate the healing forces of the cosmos. \nClass 2: Rhapsodic Moon “Healing\, for our hearts and emotional selves\, is governed by the ever wondrous body of the heavens we call the moon. To allow the heart to be clear and open and full\, our connection to the moon is always yearning for our attention. This class will move to open the heart to the mysterious but undeniable healing force of the Moon.” \nTeg Prakash is a Kundalini Yoga teacher\, astrologer\, and intuitive sound healer with a passionate curiosity for the teachings of Kundalini Yoga\, as taught by Yogi Bhajan\, and seeks to bring people to a true sense of their soul through astrology\, their personal power through yoga\, and their peace through the power of sound. \n@theheavensareyours \nTune In
URL:https://ramayogainstitute.com/event/kundalini-yoga-meditation-with-mandev-6-2022-05-12-2022-05-19-2022-06-23/
LOCATION:Online
CATEGORIES:In Person,RA MA TV Live
ATTACH;FMTTYPE=image/jpeg:https://ramayogainstitute.com/wp-content/uploads/2021/11/Teg-Prakash-Talking-on-Stage.jpeg
END:VEVENT
BEGIN:VEVENT
DTSTART;TZID=America/Los_Angeles:20220622T190000
DTEND;TZID=America/Los_Angeles:20220622T203000
DTSTAMP:20260425T084732
CREATED:20220207T003833Z
LAST-MODIFIED:20220622T220858Z
UID:1689778-1655924400-1655929800@ramayogainstitute.com
SUMMARY:Kundalini Yoga & Meditation with Jai Inder
DESCRIPTION:
URL:https://ramayogainstitute.com/event/kundalini-yoga-meditation-with-harmanjot-11-2022-06-22/
LOCATION:Online
CATEGORIES:In Person,RA MA TV Live
ATTACH;FMTTYPE=image/jpeg:https://ramayogainstitute.com/wp-content/uploads/2022/02/Jai-Inder.jpg
END:VEVENT
BEGIN:VEVENT
DTSTART;TZID=America/Los_Angeles:20220622T090000
DTEND;TZID=America/Los_Angeles:20220622T103000
DTSTAMP:20260425T084732
CREATED:20220326T233512Z
LAST-MODIFIED:20220622T005522Z
UID:1700243-1655888400-1655893800@ramayogainstitute.com
SUMMARY:Cosmic Healing with Teg Prakash
DESCRIPTION:Kundalini Yoga & Meditation to activate the healing forces of the cosmos. \nClass 1: The Medicine of Mercury “Mercury represents physical and psychosocial health as well as the free movement of energy needed for optimal health. Through specific practices\, we can aim to build a familiarity and command of that movement of energy. \nTeg Prakash is a Kundalini Yoga teacher\, astrologer\, and intuitive sound healer with a passionate curiosity for the teachings of Kundalini Yoga\, as taught by Yogi Bhajan\, and seeks to bring people to a true sense of their soul through astrology\, their personal power through yoga\, and their peace through the power of sound. \n@theheavensareyours \nTune In
URL:https://ramayogainstitute.com/event/kundalini-yoga-meditation-with-mandev-6-2022-05-12-2022-05-19-2022-06-22/
LOCATION:Online
CATEGORIES:In Person,RA MA TV Live
ATTACH;FMTTYPE=image/jpeg:https://ramayogainstitute.com/wp-content/uploads/2021/11/Teg-Prakash-Talking-on-Stage.jpeg
END:VEVENT
BEGIN:VEVENT
DTSTART;TZID=America/Los_Angeles:20220621T110000
DTEND;TZID=America/Los_Angeles:20220621T120000
DTSTAMP:20260425T084732
CREATED:20220618T040605Z
LAST-MODIFIED:20220618T040607Z
UID:1717762-1655809200-1655812800@ramayogainstitute.com
SUMMARY:Oracle Hour with Kim Krans
DESCRIPTION:Kim Krans is a visionary artist\, author\, and creator of The New York Times bestseller The Wild Unknown Tarot. She teaches events and workshops that activate the forces of creativity and radical transformation through art\, meditation\, mysticism\, and movement. Though revered for her publications Krans is also a multi-media artist\, filmmaker\, and musician. \nTUNE IN
URL:https://ramayogainstitute.com/event/oracle-hour-with-kim-krans/
LOCATION:Online
CATEGORIES:In Person,RA MA TV Live
ATTACH;FMTTYPE=image/jpeg:https://ramayogainstitute.com/wp-content/uploads/2022/06/Kim-Krans.jpg
END:VEVENT
BEGIN:VEVENT
DTSTART;TZID=America/Los_Angeles:20220621T090000
DTEND;TZID=America/Los_Angeles:20220621T110000
DTSTAMP:20260425T084732
CREATED:20211028T002901Z
LAST-MODIFIED:20220618T035619Z
UID:1681241-1655802000-1655809200@ramayogainstitute.com
SUMMARY:Diamond Mind with Gurujas
DESCRIPTION:Gurujas teaches that Kundalini Yoga is an experientially-based system–a science of joy\, fulfillment and love. She also believes that happiness is a vibrational frequency\, and can be an enduring state of being. Gurujas is the lead singer of the Grammy Award winning group White Sun. \nLearn More & Tune In
URL:https://ramayogainstitute.com/event/kundalini-yoga-meditation-with-gurujas-11-2021-12-05-2022-01-09-2022-02-27-2022-04-19-2022-04-26-2022-06-21/
LOCATION:Online
CATEGORIES:In Person,RA MA TV Live
ATTACH;FMTTYPE=image/jpeg:https://ramayogainstitute.com/wp-content/uploads/2021/10/Gurujas-Solstice.jpg
END:VEVENT
BEGIN:VEVENT
DTSTART;TZID=America/Los_Angeles:20220620T170000
DTEND;TZID=America/Los_Angeles:20220620T190000
DTSTAMP:20260425T084732
CREATED:20220611T234738Z
LAST-MODIFIED:20220618T051303Z
UID:1716705-1655744400-1655751600@ramayogainstitute.com
SUMMARY:Power of Projection: Shimmering Solstice Beam with Harijiwan
DESCRIPTION:SIGN UP \nSIGN UP FOR THE FULL SOLSTICE EXPERIENCE \nWATCH NOW
URL:https://ramayogainstitute.com/event/power-of-projection-shimmering-solstice-beam-with-harijiwan/
LOCATION:Online
CATEGORIES:In Person,Pay Per View Workshops
ATTACH;FMTTYPE=image/jpeg:https://ramayogainstitute.com/wp-content/uploads/2022/06/Harijiwan-Solstice.jpg
END:VEVENT
BEGIN:VEVENT
DTSTART;TZID=America/Los_Angeles:20220619T160000
DTEND;TZID=America/Los_Angeles:20220619T180000
DTSTAMP:20260425T084732
CREATED:20211111T222113Z
LAST-MODIFIED:20220618T050723Z
UID:1678864-1655654400-1655661600@ramayogainstitute.com
SUMMARY:Recognize The Infinite Power Of Your Mind with Tej
DESCRIPTION:Tej Kaur Khalsa has been a student of traditional Kundalini for over 35 years. She is a Custodian of Kundalini knowledge\, and a recognized authority on the teachings. \n  \nSIGN UP \nWATCH NOW (DROP INS ONLY) \nWATCH NOW (TV LIVE MEMBERS)
URL:https://ramayogainstitute.com/event/kundalini-tej-11-20-21-2021-12-05-2022-01-09-2022-04-24-2022-05-01-2022-06-19/
LOCATION:Online
CATEGORIES:In Person,RA MA TV Live
ATTACH;FMTTYPE=image/png:https://ramayogainstitute.com/wp-content/uploads/2021/05/tej-cal-icon.png
END:VEVENT
BEGIN:VEVENT
DTSTART;TZID=America/Los_Angeles:20220619T140000
DTEND;TZID=America/Los_Angeles:20220619T160000
DTSTAMP:20260425T084732
CREATED:20220611T234557Z
LAST-MODIFIED:20220617T163945Z
UID:1716703-1655647200-1655654400@ramayogainstitute.com
SUMMARY:Magnetic Zero: Summit the Mountains of Your Mind with Harijiwan
DESCRIPTION:DROP IN \nSIGN UP FOR THE FULL SOLSTICE EXPERIENCE \nWATCH NOW
URL:https://ramayogainstitute.com/event/magnetic-zero-summit-the-mountains-of-your-mind-with-harijiwan/
LOCATION:Online
CATEGORIES:In Person,Pay Per View Workshops
ATTACH;FMTTYPE=image/jpeg:https://ramayogainstitute.com/wp-content/uploads/2022/06/Harijiwan-Solstice.jpg
END:VEVENT
BEGIN:VEVENT
DTSTART;TZID=America/Los_Angeles:20220619T110000
DTEND;TZID=America/Los_Angeles:20220619T123000
DTSTAMP:20260425T084732
CREATED:20220525T000447Z
LAST-MODIFIED:20220616T015835Z
UID:1713379-1655636400-1655641800@ramayogainstitute.com
SUMMARY:The Heart of the Son with Mikal Vega
DESCRIPTION:Mikal Vega\, is a former Navy SEAL and 22-year combat veteran who walked the road from trauma to recovery. It wasn’t until several years after returning home that he realized the extent of his “invisible injuries.”  He decided to follow his instinct toward alternative approaches. After exploring a variety of options in his own community\, Mikal found Kundalini Yoga which helped him to restore balance in his own life. In the end\, he made a radical leap forward – from the depths of post-traumatic stress to feeling liberated from his symptoms.\n\nMikal is committed to the development of an experiential based\, personalized process and daily practice in his students to facilitate true\, lasting change. Harnessing the lessons learned during his experientially developed philosophies\, it’s his vision to help others dismantle perceptual boundaries and to realize their own creative potential. Mikal embodies and broadcasts the warrior energy in his classes. His dedication to technical accuracy develops deep focus and powerful projection establishing balance of destructive energies through the cultivation of ones own creative force.\n\nTUNE IN 
URL:https://ramayogainstitute.com/event/vital-warrior-with-mikal-vega-4-2022-06-19/
LOCATION:Online
CATEGORIES:In Person,RA MA TV Live
ATTACH;FMTTYPE=image/jpeg:https://ramayogainstitute.com/wp-content/uploads/2021/07/mikal-vega-cal-icon.jpg
END:VEVENT
BEGIN:VEVENT
DTSTART;TZID=America/Los_Angeles:20220619T090000
DTEND;TZID=America/Los_Angeles:20220619T103000
DTSTAMP:20260425T084732
CREATED:20211028T002901Z
LAST-MODIFIED:20220616T015830Z
UID:1681240-1655629200-1655634600@ramayogainstitute.com
SUMMARY:Sounds of Solstice: Bringing a New Reality with Gurujas
DESCRIPTION:Gurujas teaches that Kundalini Yoga is an experientially-based system–a science of joy\, fulfillment and love. She also believes that happiness is a vibrational frequency\, and can be an enduring state of being. Gurujas is the lead singer of the Grammy Award winning group White Sun. \nLearn More & Tune In
URL:https://ramayogainstitute.com/event/kundalini-yoga-meditation-with-gurujas-11-2021-12-05-2022-01-09-2022-02-27-2022-04-19-2022-04-26-2022-06-19/
LOCATION:Online
CATEGORIES:In Person,RA MA TV Live
ATTACH;FMTTYPE=image/jpeg:https://ramayogainstitute.com/wp-content/uploads/2021/10/Gurujas-Solstice.jpg
END:VEVENT
BEGIN:VEVENT
DTSTART;TZID=America/Los_Angeles:20220618T160000
DTEND;TZID=America/Los_Angeles:20220618T180000
DTSTAMP:20260425T084732
CREATED:20220611T234419Z
LAST-MODIFIED:20220617T013609Z
UID:1716700-1655568000-1655575200@ramayogainstitute.com
SUMMARY:Quantum Consciousness: Expansion on the Waves of the Solstice with Harijiwan
DESCRIPTION:DROP IN \nSIGN UP FOR THE FULL SOLSTICE EXPERIENCE \nWATCH NOW
URL:https://ramayogainstitute.com/event/quantum-consciousness-expansion-on-the-waves-of-the-solstice-with-harijiwan/
LOCATION:Online
CATEGORIES:In Person,Pay Per View Workshops
ATTACH;FMTTYPE=image/jpeg:https://ramayogainstitute.com/wp-content/uploads/2022/06/Harijiwan-Solstice.jpg
END:VEVENT
END:VCALENDAR