BEGIN:VCALENDAR
VERSION:2.0
PRODID:-//RA MA LIFE - ECPv6.15.15//NONSGML v1.0//EN
CALSCALE:GREGORIAN
METHOD:PUBLISH
X-ORIGINAL-URL:https://ramayogainstitute.com
X-WR-CALDESC:Events for RA MA LIFE
REFRESH-INTERVAL;VALUE=DURATION:PT1H
X-Robots-Tag:noindex
X-PUBLISHED-TTL:PT1H
BEGIN:VTIMEZONE
TZID:America/Los_Angeles
BEGIN:DAYLIGHT
TZOFFSETFROM:-0800
TZOFFSETTO:-0700
TZNAME:PDT
DTSTART:20200308T100000
END:DAYLIGHT
BEGIN:STANDARD
TZOFFSETFROM:-0700
TZOFFSETTO:-0800
TZNAME:PST
DTSTART:20201101T090000
END:STANDARD
BEGIN:DAYLIGHT
TZOFFSETFROM:-0800
TZOFFSETTO:-0700
TZNAME:PDT
DTSTART:20210314T100000
END:DAYLIGHT
BEGIN:STANDARD
TZOFFSETFROM:-0700
TZOFFSETTO:-0800
TZNAME:PST
DTSTART:20211107T090000
END:STANDARD
BEGIN:DAYLIGHT
TZOFFSETFROM:-0800
TZOFFSETTO:-0700
TZNAME:PDT
DTSTART:20220313T100000
END:DAYLIGHT
BEGIN:STANDARD
TZOFFSETFROM:-0700
TZOFFSETTO:-0800
TZNAME:PST
DTSTART:20221106T090000
END:STANDARD
END:VTIMEZONE
BEGIN:VEVENT
DTSTART;TZID=America/Los_Angeles:20210909T090000
DTEND;TZID=America/Los_Angeles:20210909T103000
DTSTAMP:20260425T071420
CREATED:20210809T174207Z
LAST-MODIFIED:20210908T030023Z
UID:1640851-1631178000-1631183400@ramayogainstitute.com
SUMMARY:Ojas Optimized: 4th Day of the Moon with Shabadpreet
DESCRIPTION:Learn More & Tune In
URL:https://ramayogainstitute.com/event/celestial-communication-with-shabadpreet-2-2021-09-09/
CATEGORIES:RA MA TV Live
ATTACH;FMTTYPE=image/jpeg:https://ramayogainstitute.com/wp-content/uploads/2021/08/shabadpreet-cal-icon.jpg
END:VEVENT
BEGIN:VEVENT
DTSTART;TZID=America/Los_Angeles:20210910T110000
DTEND;TZID=America/Los_Angeles:20210910T120000
DTSTAMP:20260425T071420
CREATED:20210813T160514Z
LAST-MODIFIED:20210910T015018Z
UID:1640797-1631271600-1631275200@ramayogainstitute.com
SUMMARY:Kundalini Yoga & Gong Nap with Seva Jagat
DESCRIPTION:Learn More & Tune In
URL:https://ramayogainstitute.com/event/kundalini-yoga-meditation-with-teg-nam-10-2021-08-24-2021-09-10/
CATEGORIES:In Person,RA MA TV Live
ATTACH;FMTTYPE=image/jpeg:https://ramayogainstitute.com/wp-content/uploads/2021/08/Seva-Jagat-cal-icon.jpg
END:VEVENT
BEGIN:VEVENT
DTSTART;TZID=America/Los_Angeles:20210913T110000
DTEND;TZID=America/Los_Angeles:20210913T120000
DTSTAMP:20260425T071420
CREATED:20210813T160514Z
LAST-MODIFIED:20210910T155106Z
UID:1640798-1631530800-1631534400@ramayogainstitute.com
SUMMARY:Kundalini Yoga & Meditation with Teg Prakash
DESCRIPTION:Learn More & Tune In
URL:https://ramayogainstitute.com/event/kundalini-yoga-meditation-with-teg-nam-10-2021-08-24-2021-09-13/
CATEGORIES:In Person,RA MA TV Live
ATTACH;FMTTYPE=image/jpeg:https://ramayogainstitute.com/wp-content/uploads/2021/07/teg-prakash-cal-icon.jpg
END:VEVENT
BEGIN:VEVENT
DTSTART;TZID=America/Los_Angeles:20210914T110000
DTEND;TZID=America/Los_Angeles:20210914T120000
DTSTAMP:20260425T071420
CREATED:20210813T162003Z
LAST-MODIFIED:20210913T162749Z
UID:1640912-1631617200-1631620800@ramayogainstitute.com
SUMMARY:Kundalini Yoga & Meditation with Teg Prakash
DESCRIPTION:Teg Prakash is a Kundalini Yoga teacher\, astrologer\, and intuitive sound healer with a passionate curiosity for the teachings of Kundalini Yoga\, as taught by Yogi Bhajan\, and seeks to bring people to a true sense of their soul through astrology\, their personal power through yoga\, and their peace through the power of sound.\n \nLearn More & Tune In
URL:https://ramayogainstitute.com/event/kundalini-yoga-meditation-with-seva-jagat-7-2021-09-14/
CATEGORIES:In Person,RA MA TV Live
ATTACH;FMTTYPE=image/jpeg:https://ramayogainstitute.com/wp-content/uploads/2021/07/teg-prakash-cal-icon.jpg
END:VEVENT
BEGIN:VEVENT
DTSTART;TZID=America/Los_Angeles:20210915T110000
DTEND;TZID=America/Los_Angeles:20210915T120000
DTSTAMP:20260425T071420
CREATED:20210813T160514Z
LAST-MODIFIED:20210913T162955Z
UID:1640799-1631703600-1631707200@ramayogainstitute.com
SUMMARY:Kundalini Yoga & Meditation with Seva Jagat
DESCRIPTION:Seva Jagat is an Independent Artist and Yogi from Puerto Rico. \nSeva’s interests are sustainability\, social themes and wellness practices. Seva works with Guru Jagat and Aa MA TV\, frequently traveling with the RA MA crew. \nLearn More & Tune In
URL:https://ramayogainstitute.com/event/kundalini-yoga-meditation-with-teg-nam-10-2021-08-24-2021-09-15/
CATEGORIES:In Person,RA MA TV Live
ATTACH;FMTTYPE=image/jpeg:https://ramayogainstitute.com/wp-content/uploads/2021/08/Seva-Jagat-cal-icon.jpg
END:VEVENT
BEGIN:VEVENT
DTSTART;TZID=America/Los_Angeles:20210915T180000
DTEND;TZID=America/Los_Angeles:20210915T200000
DTSTAMP:20260425T071420
CREATED:20210910T160028Z
LAST-MODIFIED:20210915T011219Z
UID:1650314-1631728800-1631736000@ramayogainstitute.com
SUMMARY:10th Day of The Moon with Harijiwan
DESCRIPTION:Sign Up Online \nWatch Online \nJoin In Person (Pre-Registration Required)
URL:https://ramayogainstitute.com/event/10th-day-of-the-moon-with-harijiwan-9/
LOCATION:Online on RA MA TV
CATEGORIES:Pay Per View Workshops
ATTACH;FMTTYPE=image/jpeg:https://ramayogainstitute.com/wp-content/uploads/2021/07/Harijiwan-cal-icon.jpg
END:VEVENT
BEGIN:VEVENT
DTSTART;TZID=America/Los_Angeles:20210915T193000
DTEND;TZID=America/Los_Angeles:20210915T213000
DTSTAMP:20260425T071420
CREATED:20210913T163602Z
LAST-MODIFIED:20210915T033954Z
UID:1651313-1631734200-1631741400@ramayogainstitute.com
SUMMARY:Yom Kippur with Rabbi Karen
DESCRIPTION:The energy of Yom Kippur opens to us\, supporting the possibility of total release and purification from anything that has inhibited our freedom to live in bliss and power.  On this night\, and for the 24 hours that follow\, we have direct access to our Source; through fasting\, ritual\, yogic postures\, prayer\, chant\, meditation\, conversation\, and abstinence\, we can be elevated entirely into the realm of the Divine and experience the ecstatic union that returns us to the truth of who we really are and who we are destined to become.  Please join in creating the sacred space and community for this holy day. \nLearn More & Tune In
URL:https://ramayogainstitute.com/event/yom-kippur-with-rabbi-karen/
CATEGORIES:Community Content,RA MA TV Live
ATTACH;FMTTYPE=image/jpeg:https://ramayogainstitute.com/wp-content/uploads/2021/09/Rabbi-Karen-cal-icon.jpg
END:VEVENT
BEGIN:VEVENT
DTSTART;TZID=America/Los_Angeles:20210918T103000
DTEND;TZID=America/Los_Angeles:20210918T110000
DTSTAMP:20260425T071420
CREATED:20210913T164028Z
LAST-MODIFIED:20210913T164028Z
UID:1651317-1631961000-1631962800@ramayogainstitute.com
SUMMARY:TV Live Members Q&A with Mikal Vega
DESCRIPTION:Mikal Vega\, is a former Navy SEAL and 22-year combat veteran who walked the road from trauma to recovery. It wasn’t until several years after returning home that he realized the extent of his “invisible injuries.” He decided to follow his instinct toward alternative approaches. After exploring a variety of options in his own community\, Mikal found Kundalini Yoga which helped him to restore balance in his own life. In the end\, he made a radical leap forward – from the depths of post-traumatic stress to feeling liberated from his symptoms.  \nMikal is committed to the development of an experiential based\, personalized process and daily practice in his students to facilitate true\, lasting change. Harnessing the lessons learned during his experientially developed philosophies\, it’s his vision to help others dismantle perceptual boundaries and to realize their own creative potential. Mikal embodies and broadcasts the warrior energy in his classes. His dedication to technical accuracy develops deep focus and powerful projection establishing balance of destructive energies through the cultivation of ones own creative force. \nLearn More & Tune In
URL:https://ramayogainstitute.com/event/tv-live-members-qa-with-mikal-vega/
LOCATION:Online on RA MA TV
CATEGORIES:RA MA TV Live
ATTACH;FMTTYPE=image/jpeg:https://ramayogainstitute.com/wp-content/uploads/2021/07/mikal-vega-cal-icon.jpg
END:VEVENT
BEGIN:VEVENT
DTSTART;TZID=America/Los_Angeles:20210920T110000
DTEND;TZID=America/Los_Angeles:20210920T120000
DTSTAMP:20260425T071420
CREATED:20210813T160514Z
LAST-MODIFIED:20220819T192656Z
UID:1640801-1632135600-1632139200@ramayogainstitute.com
SUMMARY:Awaken Your Hidden Subtle Powers with Mandev
DESCRIPTION:Learn More & Tune In
URL:https://ramayogainstitute.com/event/kundalini-yoga-meditation-with-teg-nam-10-2021-08-24-2021-09-20/
CATEGORIES:Community Content,In Person,RA MA TV Live
END:VEVENT
BEGIN:VEVENT
DTSTART;TZID=America/Los_Angeles:20210920T160000
DTEND;TZID=America/Los_Angeles:20210920T180000
DTSTAMP:20260425T071420
CREATED:20210915T174916Z
LAST-MODIFIED:20210917T191642Z
UID:1651952-1632153600-1632160800@ramayogainstitute.com
SUMMARY:Diamond Mind with Gurujas
DESCRIPTION:Gurujas teaches that Kundalini Yoga is an experientially-based system–a science of joy\, fulfillment and love. She also believes that happiness is a vibrational frequency\, and can be an enduring state of being. Gurujas is the lead singer of the Grammy Award winning group White Sun. \nLearn More & Tune In
URL:https://ramayogainstitute.com/event/diamond-mind-with-gurujas/
CATEGORIES:In Person,Pay Per View Workshops
ATTACH;FMTTYPE=image/jpeg:https://ramayogainstitute.com/wp-content/uploads/2021/07/GURUJAS-cal-icon.jpg
END:VEVENT
BEGIN:VEVENT
DTSTART;TZID=America/Los_Angeles:20210920T180000
DTEND;TZID=America/Los_Angeles:20210920T200000
DTSTAMP:20260425T071420
CREATED:20210914T153150Z
LAST-MODIFIED:20210918T003639Z
UID:1651668-1632160800-1632168000@ramayogainstitute.com
SUMMARY:Full Moon in Pisces with Harijiwan
DESCRIPTION:Harijiwan has been teaching Kundalini yoga since 1975. Known for his unique Gong playing\, his classes are funny\, profound\, poetic and offer students the opportunity to receive rarified instruction and enjoy vast change. \nLearn More \nSign Up
URL:https://ramayogainstitute.com/event/full-moon-in-pisces-with-harijiwan-2/
CATEGORIES:In Person,Pay Per View Workshops
ATTACH;FMTTYPE=image/jpeg:https://ramayogainstitute.com/wp-content/uploads/2021/08/harijiwan-cal-icon.jpg
END:VEVENT
BEGIN:VEVENT
DTSTART;VALUE=DATE:20210922
DTEND;VALUE=DATE:20210923
DTSTAMP:20260425T071420
CREATED:20210917T225701Z
LAST-MODIFIED:20210917T225701Z
UID:1653105-1632268800-1632355199@ramayogainstitute.com
SUMMARY:RA MA Festival Presents: Total Balance
DESCRIPTION:Learn More & Tune In
URL:https://ramayogainstitute.com/event/ra-ma-festival-presents-total-balance/
CATEGORIES:Community Content,Courses & Events,In Person,Pay Per View Workshops,RA MA TV Live
ATTACH;FMTTYPE=image/jpeg:https://ramayogainstitute.com/wp-content/uploads/2021/09/equinox-cal-icon.jpg
END:VEVENT
BEGIN:VEVENT
DTSTART;TZID=America/Los_Angeles:20210922T090000
DTEND;TZID=America/Los_Angeles:20210922T103000
DTSTAMP:20260425T071420
CREATED:20210809T171821Z
LAST-MODIFIED:20210917T235422Z
UID:1639675-1632301200-1632306600@ramayogainstitute.com
SUMMARY:Into the Depth of Sound
DESCRIPTION:Gurujas teaches that Kundalini Yoga is an experientially-based system–a science of joy\, fulfillment and love. She also believes that happiness is a vibrational frequency\, and can be an enduring state of being. Gurujas is the lead singer of the Grammy Award winning group White Sun. \nLearn More \nWatch on RA MA TV Live
URL:https://ramayogainstitute.com/event/kundalini-yoga-meditation-with-harmanjot-7-2021-09-22/
CATEGORIES:Courses & Events,In Person,RA MA TV Live
ATTACH;FMTTYPE=image/jpeg:https://ramayogainstitute.com/wp-content/uploads/2021/07/GURUJAS-cal-icon.jpg
END:VEVENT
BEGIN:VEVENT
DTSTART;TZID=America/Los_Angeles:20210922T110000
DTEND;TZID=America/Los_Angeles:20210922T130000
DTSTAMP:20260425T071420
CREATED:20210813T160514Z
LAST-MODIFIED:20210918T003511Z
UID:1640802-1632308400-1632315600@ramayogainstitute.com
SUMMARY:Longitude & Latitude: Crossing the Equinox
DESCRIPTION:Harijiwan has been teaching Kundalini yoga since 1975. Known for his unique Gong playing\, his classes are funny\, profound\, poetic and offer students the opportunity to receive rarified instruction and enjoy vast change.  \nLearn More \nSign Up \nWatch Online
URL:https://ramayogainstitute.com/event/longitude-latitude-equinox/
CATEGORIES:In Person,Pay Per View Workshops
ATTACH;FMTTYPE=image/jpeg:https://ramayogainstitute.com/wp-content/uploads/2021/08/harijiwan-cal-icon.jpg
END:VEVENT
BEGIN:VEVENT
DTSTART;TZID=America/Los_Angeles:20210922T170000
DTEND;TZID=America/Los_Angeles:20210922T180000
DTSTAMP:20260425T071420
CREATED:20210917T224229Z
LAST-MODIFIED:20210923T013310Z
UID:1653088-1632330000-1632333600@ramayogainstitute.com
SUMMARY:Royal Evening Star
DESCRIPTION:Live Daily from Los Angeles & Europe @5:00 pm PT & 5:00pm CEST\n\nThe Royal Evening Star Dhartee Hai mantra is a destiny mantra. Also called Isht Sodhana\, “Isht” means Universe and “Sodhana” means Purify. So\, this meditation purifies your experience of the infinite. It balances the Earth and Ether tattvas. Expressly given for practice during the evening time\, this mantra gives you the power to know your past\, present and future and whatever another person anywhere has to think\, say or do. When practiced daily\, during the evening time\, a person can develop a siddhi in which the underworld\, the working world and the world of ultimate consciousness shall serve the individual.\n\nLearn More & Tune In \n 
URL:https://ramayogainstitute.com/event/royal-evening-star/2021-09-22/
LOCATION:Online on RA MA TV
CATEGORIES:Community Content,RA MA TV Live
ATTACH;FMTTYPE=image/jpeg:https://ramayogainstitute.com/wp-content/uploads/2020/11/1920x1080Horizontal_DharteeHei.jpg
END:VEVENT
BEGIN:VEVENT
DTSTART;TZID=America/Los_Angeles:20210922T181500
DTEND;TZID=America/Los_Angeles:20210922T190000
DTSTAMP:20260425T071420
CREATED:20210917T224814Z
LAST-MODIFIED:20210918T000308Z
UID:1653100-1632334500-1632337200@ramayogainstitute.com
SUMMARY:Equinox Numerology Download
DESCRIPTION:Remington Donovan is a master numerologist and mystic seer\, trained in the spiritual wisdom of the ancients. He was quite literally born into the traditions of mysticism\, spirituality and meditation\, which naturally evolved into his now 30 years of experience practicing with tarot and numerology. Along with performing thousands of private readings\, Remington teaches and speaks all over the world. He hosts The Mystical Artists podcast and leads The Mystical Arts Mystery School. Remington takes great joy in the gift of seeing life’s highest potential through numerology and in using that gift to guide and transform others. \nLearn More \nWatch on RA MA TV Live
URL:https://ramayogainstitute.com/event/equinox-numerology-download/
CATEGORIES:Courses & Events,In Person,RA MA TV Live
ATTACH;FMTTYPE=image/jpeg:https://ramayogainstitute.com/wp-content/uploads/2021/09/remington-cal-icon-1.jpg
END:VEVENT
BEGIN:VEVENT
DTSTART;TZID=America/Los_Angeles:20210927T034500
DTEND;TZID=America/Los_Angeles:20210927T064500
DTSTAMP:20260425T071420
CREATED:20210907T202506Z
LAST-MODIFIED:20211018T224734Z
UID:1649448-1632714300-1632725100@ramayogainstitute.com
SUMMARY:Warrior Training
DESCRIPTION:Intensive Physical Yoga and Meditation for Invincibility \nJoin on Zoom
URL:https://ramayogainstitute.com/event/daily-sadhana-with-teg-nam-2-2021-09-27/2021-09-27/
LOCATION:Online on RA MA TV
CATEGORIES:Community Content,RA MA TV Live
ATTACH;FMTTYPE=image/jpeg:https://ramayogainstitute.com/wp-content/uploads/2021/09/Teg-Nam-1-1.jpg
END:VEVENT
BEGIN:VEVENT
DTSTART;TZID=America/Los_Angeles:20211005T090000
DTEND;TZID=America/Los_Angeles:20211005T103000
DTSTAMP:20260425T071420
CREATED:20211003T222148Z
LAST-MODIFIED:20211003T222148Z
UID:1656706-1633424400-1633429800@ramayogainstitute.com
SUMMARY:Kundalini Yoga & Meditation with Gurujas
DESCRIPTION:Gurujas teaches that Kundalini Yoga is an experientially-based system–a science of joy\, fulfillment and love. She also believes that happiness is a vibrational frequency\, and can be an enduring state of being. Gurujas is the lead singer of the Grammy Award winning group White Sun. \nLearn More & Tune In
URL:https://ramayogainstitute.com/event/kundalini-yoga-meditation-with-gurujas-4/
CATEGORIES:In Person,RA MA TV Live
ATTACH;FMTTYPE=image/jpeg:https://ramayogainstitute.com/wp-content/uploads/2021/07/GURUJAS-cal-icon.jpg
END:VEVENT
BEGIN:VEVENT
DTSTART;TZID=America/Los_Angeles:20211005T110000
DTEND;TZID=America/Los_Angeles:20211005T120000
DTSTAMP:20260425T071420
CREATED:20210813T162003Z
LAST-MODIFIED:20211003T223055Z
UID:1640918-1633431600-1633435200@ramayogainstitute.com
SUMMARY:Kundalini Yoga & Meditation with Teg Prakash
DESCRIPTION:Teg Prakash is a Kundalini Yoga teacher\, astrologer\, and intuitive sound healer with a passionate curiosity for the teachings of Kundalini Yoga\, as taught by Yogi Bhajan\, and seeks to bring people to a true sense of their soul through astrology\, their personal power through yoga\, and their peace through the power of sound.\n \nLearn More & Tune In
URL:https://ramayogainstitute.com/event/kundalini-yoga-meditation-with-teg-prakash-7-2021-10-05/
CATEGORIES:In Person,RA MA TV Live
ATTACH;FMTTYPE=image/jpeg:https://ramayogainstitute.com/wp-content/uploads/2021/07/teg-prakash-cal-icon.jpg
END:VEVENT
BEGIN:VEVENT
DTSTART;VALUE=DATE:20211006
DTEND;VALUE=DATE:20211007
DTSTAMP:20260425T071420
CREATED:20210920T205413Z
LAST-MODIFIED:20210920T205413Z
UID:1654018-1633478400-1633564799@ramayogainstitute.com
SUMMARY:New Moon in Aquarius
DESCRIPTION:Learn More & Tune In
URL:https://ramayogainstitute.com/event/new-moon-in-aquarius/
CATEGORIES:Community Content,In Person,Pay Per View Workshops,RA MA TV Live
ATTACH;FMTTYPE=image/jpeg:https://ramayogainstitute.com/wp-content/uploads/2021/09/moon-days-cal-icon.jpg
END:VEVENT
BEGIN:VEVENT
DTSTART;TZID=America/Los_Angeles:20211006T110000
DTEND;TZID=America/Los_Angeles:20211006T123000
DTSTAMP:20260425T071420
CREATED:20211003T235034Z
LAST-MODIFIED:20220819T192656Z
UID:1656730-1633518000-1633523400@ramayogainstitute.com
SUMMARY:Triple Magnetic Field with Mandev
DESCRIPTION:Mandev Khalsa is an award-winning filmmaker and creator of My Moon Map™\, an IOS mobile app to track your moods and behavior pattern using the ancient yogic science of the moon centers. For years\, Mandev has deeply researched esoteric energetic structures in women’s teachings to discover energy and power. Her App and upcoming film\, “The Moon Centers”\, reveal the unique relationship women have to the moon and how they can unlock and access these infinite lunar powers. \nLearn More & Tune In
URL:https://ramayogainstitute.com/event/kundalini-yoga-meditation-with-mandev-3/
CATEGORIES:RA MA TV Live
END:VEVENT
BEGIN:VEVENT
DTSTART;TZID=America/Los_Angeles:20211006T160000
DTEND;TZID=America/Los_Angeles:20211006T173000
DTSTAMP:20260425T071420
CREATED:20211003T232244Z
LAST-MODIFIED:20211004T010833Z
UID:1656719-1633536000-1633541400@ramayogainstitute.com
SUMMARY:Tuning Our Subtle Body with that of the Masters with Tej
DESCRIPTION:Tej Kaur Khalsa has been a student of traditional Kundalini for over 35 years. She is a Custodian of Kundalini knowledge\, and a recognized authority on the teachings. \nLearn More \nTune In
URL:https://ramayogainstitute.com/event/tuning-our-subtle-body-with-that-of-the-masters-with-tej/
CATEGORIES:RA MA TV Live
ATTACH;FMTTYPE=image/png:https://ramayogainstitute.com/wp-content/uploads/2021/05/tej-cal-icon.png
END:VEVENT
BEGIN:VEVENT
DTSTART;TZID=America/Los_Angeles:20211006T180000
DTEND;TZID=America/Los_Angeles:20211006T200000
DTSTAMP:20260425T071420
CREATED:20211003T232847Z
LAST-MODIFIED:20211004T011145Z
UID:1656721-1633543200-1633550400@ramayogainstitute.com
SUMMARY:Eternal Elevation with Harijiwan
DESCRIPTION:Harijiwan has been teaching Kundalini yoga since 1975. Known for his unique Gong playing\, his classes are funny\, profound\, poetic and offer students the opportunity to receive rarified instruction and enjoy vast change. \nLearn More \nSign Up
URL:https://ramayogainstitute.com/event/eternal-elevation-kundalini-yoga-meditation-gong/
CATEGORIES:In Person,Pay Per View Workshops
ATTACH;FMTTYPE=image/jpeg:https://ramayogainstitute.com/wp-content/uploads/2021/08/harijiwan-cal-icon.jpg
END:VEVENT
BEGIN:VEVENT
DTSTART;TZID=America/Los_Angeles:20211007T090000
DTEND;TZID=America/Los_Angeles:20211007T103000
DTSTAMP:20260425T071420
CREATED:20210809T174207Z
LAST-MODIFIED:20211007T023739Z
UID:1640859-1633597200-1633602600@ramayogainstitute.com
SUMMARY:Arc Line Architecture with Shabadpreet
DESCRIPTION:Learn More & Tune In
URL:https://ramayogainstitute.com/event/celestial-communication-with-shabadpreet-2-2021-10-07/
CATEGORIES:RA MA TV Live
ATTACH;FMTTYPE=image/jpeg:https://ramayogainstitute.com/wp-content/uploads/2021/08/Shabadpreet-7.jpg
END:VEVENT
BEGIN:VEVENT
DTSTART;TZID=America/Los_Angeles:20211009T140000
DTEND;TZID=America/Los_Angeles:20211009T160000
DTSTAMP:20260425T071420
CREATED:20211004T000810Z
LAST-MODIFIED:20211004T040822Z
UID:1656742-1633788000-1633795200@ramayogainstitute.com
SUMMARY:Royal Illumination with Harijiwan
DESCRIPTION:Kundalini Yoga\, Meditation & Gong Workshop with Harijiwan\non the Birthday of Guru Ram Das \nHarijiwan has been teaching Kundalini yoga since 1975. Known for his unique Gong playing\, his classes are funny\, profound\, poetic and offer students the opportunity to receive rarified instruction and enjoy vast change. \nSign Up \nWatch Now \n 
URL:https://ramayogainstitute.com/event/royal-illumination-kundalini-yoga-meditation-gong/
CATEGORIES:In Person,Pay Per View Workshops
ATTACH;FMTTYPE=image/jpeg:https://ramayogainstitute.com/wp-content/uploads/2021/08/harijiwan-cal-icon.jpg
END:VEVENT
BEGIN:VEVENT
DTSTART;TZID=America/Los_Angeles:20211009T160000
DTEND;TZID=America/Los_Angeles:20211009T173000
DTSTAMP:20260425T071420
CREATED:20211004T001058Z
LAST-MODIFIED:20220819T192655Z
UID:1656744-1633795200-1633800600@ramayogainstitute.com
SUMMARY:Blue Ether Frequency with Mandev
DESCRIPTION:Mandev Khalsa is an award-winning filmmaker and creator of My Moon Map™\, an IOS mobile app to track your moods and behavior pattern using the ancient yogic science of the moon centers. For years\, Mandev has deeply researched esoteric energetic structures in women’s teachings to discover energy and power. Her App and upcoming film\, “The Moon Centers”\, reveal the unique relationship women have to the moon and how they can unlock and access these infinite lunar powers. \nLearn More & Tune In
URL:https://ramayogainstitute.com/event/blue-ether-frequency-with-mandev/
CATEGORIES:In Person,RA MA TV Live
END:VEVENT
BEGIN:VEVENT
DTSTART;TZID=America/Los_Angeles:20211010T090000
DTEND;TZID=America/Los_Angeles:20211010T103000
DTSTAMP:20260425T071420
CREATED:20211005T200320Z
LAST-MODIFIED:20211005T200320Z
UID:1657288-1633856400-1633861800@ramayogainstitute.com
SUMMARY:Kundalini Yoga & Meditation with Gurujas
DESCRIPTION:Gurujas teaches that Kundalini Yoga is an experientially-based system–a science of joy\, fulfillment and love. She also believes that happiness is a vibrational frequency\, and can be an enduring state of being. Gurujas is the lead singer of the Grammy Award winning group White Sun. \nLearn More & Tune In
URL:https://ramayogainstitute.com/event/kundalini-yoga-meditation-with-gurujas-9/
CATEGORIES:In Person,RA MA TV Live
ATTACH;FMTTYPE=image/jpeg:https://ramayogainstitute.com/wp-content/uploads/2021/07/GURUJAS-cal-icon.jpg
END:VEVENT
BEGIN:VEVENT
DTSTART;TZID=America/Los_Angeles:20211011T110000
DTEND;TZID=America/Los_Angeles:20211011T120000
DTSTAMP:20260425T071420
CREATED:20211008T202422Z
LAST-MODIFIED:20211008T202422Z
UID:1657897-1633950000-1633953600@ramayogainstitute.com
SUMMARY:Kundalini Yoga & Meditation with Teg Prakash
DESCRIPTION:Teg Prakash is a Kundalini Yoga teacher\, astrologer\, and intuitive sound healer with a passionate curiosity for the teachings of Kundalini Yoga\, as taught by Yogi Bhajan\, and seeks to bring people to a true sense of their soul through astrology\, their personal power through yoga\, and their peace through the power of sound. \nLearn More & Tune In
URL:https://ramayogainstitute.com/event/kundalini-yoga-meditation-with-teg-prakash-17/
CATEGORIES:In Person,RA MA TV Live
ATTACH;FMTTYPE=image/jpeg:https://ramayogainstitute.com/wp-content/uploads/2021/07/teg-prakash-cal-icon.jpg
END:VEVENT
BEGIN:VEVENT
DTSTART;TZID=America/Los_Angeles:20211012T090000
DTEND;TZID=America/Los_Angeles:20211012T103000
DTSTAMP:20260425T071420
CREATED:20211004T195829Z
LAST-MODIFIED:20211004T195923Z
UID:1657081-1634029200-1634034600@ramayogainstitute.com
SUMMARY:Kundalini Yoga & Meditation with Gurujas
DESCRIPTION:Gurujas teaches that Kundalini Yoga is an experientially-based system–a science of joy\, fulfillment and love. She also believes that happiness is a vibrational frequency\, and can be an enduring state of being. Gurujas is the lead singer of the Grammy Award winning group White Sun. \nLearn More & Tune In
URL:https://ramayogainstitute.com/event/kundalini-yoga-meditation-with-gurujas-10/
CATEGORIES:In Person,RA MA TV Live
ATTACH;FMTTYPE=image/jpeg:https://ramayogainstitute.com/wp-content/uploads/2021/07/GURUJAS-cal-icon.jpg
END:VEVENT
BEGIN:VEVENT
DTSTART;TZID=America/Los_Angeles:20211012T110000
DTEND;TZID=America/Los_Angeles:20211012T120000
DTSTAMP:20260425T071420
CREATED:20210813T162003Z
LAST-MODIFIED:20211008T203125Z
UID:1640920-1634036400-1634040000@ramayogainstitute.com
SUMMARY:Kundalini Yoga & Meditation with Marta Ulbricht
DESCRIPTION:Learn More & Tune In
URL:https://ramayogainstitute.com/event/kundalini-yoga-meditation-with-marta-ulbricht-7-2021-10-12/
CATEGORIES:In Person,RA MA TV Live
ATTACH;FMTTYPE=image/jpeg:https://ramayogainstitute.com/wp-content/uploads/2021/08/marta-cal-icon.jpg
END:VEVENT
END:VCALENDAR