BEGIN:VCALENDAR
VERSION:2.0
PRODID:-//RA MA LIFE - ECPv6.15.15//NONSGML v1.0//EN
CALSCALE:GREGORIAN
METHOD:PUBLISH
X-WR-CALNAME:RA MA LIFE
X-ORIGINAL-URL:https://ramayogainstitute.com
X-WR-CALDESC:Events for RA MA LIFE
REFRESH-INTERVAL;VALUE=DURATION:PT1H
X-Robots-Tag:noindex
X-PUBLISHED-TTL:PT1H
BEGIN:VTIMEZONE
TZID:America/Los_Angeles
BEGIN:DAYLIGHT
TZOFFSETFROM:-0800
TZOFFSETTO:-0700
TZNAME:PDT
DTSTART:20250309T100000
END:DAYLIGHT
BEGIN:STANDARD
TZOFFSETFROM:-0700
TZOFFSETTO:-0800
TZNAME:PST
DTSTART:20251102T090000
END:STANDARD
BEGIN:DAYLIGHT
TZOFFSETFROM:-0800
TZOFFSETTO:-0700
TZNAME:PDT
DTSTART:20260308T100000
END:DAYLIGHT
BEGIN:STANDARD
TZOFFSETFROM:-0700
TZOFFSETTO:-0800
TZNAME:PST
DTSTART:20261101T090000
END:STANDARD
BEGIN:DAYLIGHT
TZOFFSETFROM:-0800
TZOFFSETTO:-0700
TZNAME:PDT
DTSTART:20270314T100000
END:DAYLIGHT
BEGIN:STANDARD
TZOFFSETFROM:-0700
TZOFFSETTO:-0800
TZNAME:PST
DTSTART:20271107T090000
END:STANDARD
END:VTIMEZONE
BEGIN:VEVENT
DTSTART;TZID=America/Los_Angeles:20261022T090000
DTEND;TZID=America/Los_Angeles:20261022T103000
DTSTAMP:20260425T191132
CREATED:20260415T040702Z
LAST-MODIFIED:20260415T040702Z
UID:2019163-1792659600-1792665000@ramayogainstitute.com
SUMMARY:REST | with Shabadpreet
DESCRIPTION:
URL:https://ramayogainstitute.com/event/rest-with-shabadpreet/2026-10-22/
LOCATION:RA MA Institute Mallorca\, Carrer de Despuig\, 51\, Palma\, Illes Balears\, 07013\, Spain
CATEGORIES:In Person,RA MA TV Live
ATTACH;FMTTYPE=image/jpeg:https://ramayogainstitute.com/wp-content/uploads/2026/04/shabadpreet_video-thumb.jpg
END:VEVENT
BEGIN:VEVENT
DTSTART;TZID=America/Los_Angeles:20261022T190000
DTEND;TZID=America/Los_Angeles:20261023T080000
DTSTAMP:20260425T191132
CREATED:20260416T141948Z
LAST-MODIFIED:20260416T141948Z
UID:2019182-1792695600-1792742400@ramayogainstitute.com
SUMMARY:AQUARIAN SADHANA
DESCRIPTION:2.5 hours of deep Kundalini Yoga and meditation practice in devotion to self.
URL:https://ramayogainstitute.com/event/aquarian-sadhana-18/2026-10-23/
LOCATION:Online on RA MA TV
CATEGORIES:RA MA TV Live
ATTACH;FMTTYPE=image/jpeg:https://ramayogainstitute.com/wp-content/uploads/2026/03/69-RamaXMondkind-69.jpg
END:VEVENT
BEGIN:VEVENT
DTSTART;TZID=America/Los_Angeles:20261023T003000
DTEND;TZID=America/Los_Angeles:20261023T020000
DTSTAMP:20260425T191132
CREATED:20260206T160116Z
LAST-MODIFIED:20260206T160116Z
UID:2019187-1792715400-1792720800@ramayogainstitute.com
SUMMARY:KUNDALINI YOGA & MEDITATION
DESCRIPTION:
URL:https://ramayogainstitute.com/event/kundalini-yoga-meditation-9/2026-10-23/
LOCATION:Online on RA MA TV
CATEGORIES:In Person,RA MA TV Live
ATTACH;FMTTYPE=image/jpeg:https://ramayogainstitute.com/wp-content/uploads/2025/08/Atma-green-wall-01.jpg
END:VEVENT
BEGIN:VEVENT
DTSTART;TZID=America/Los_Angeles:20261023T003000
DTEND;TZID=America/Los_Angeles:20261023T020000
DTSTAMP:20260425T191132
CREATED:20260415T212621Z
LAST-MODIFIED:20260415T212621Z
UID:2019188-1792715400-1792720800@ramayogainstitute.com
SUMMARY:TANTRA & KUNDALINI | with Atma Santokh
DESCRIPTION:
URL:https://ramayogainstitute.com/event/tantra-kundalini-with-atma-santokh/2026-10-23/
LOCATION:Online on RA MA TV
CATEGORIES:In Person,RA MA TV Live
ATTACH;FMTTYPE=image/png:https://ramayogainstitute.com/wp-content/uploads/2025/07/Atma_Santokh_Fitness_5-scaled.png
END:VEVENT
BEGIN:VEVENT
DTSTART;TZID=America/Los_Angeles:20261023T070000
DTEND;TZID=America/Los_Angeles:20261023T080000
DTSTAMP:20260425T191132
CREATED:20260415T213240Z
LAST-MODIFIED:20260415T213240Z
UID:2019191-1792738800-1792742400@ramayogainstitute.com
SUMMARY:POWER HOUR | with Courtney
DESCRIPTION:
URL:https://ramayogainstitute.com/event/power-hour-with-courtney/2026-10-23/
LOCATION:Online on RA MA TV
CATEGORIES:In Person,RA MA TV Live
ATTACH;FMTTYPE=image/jpeg:https://ramayogainstitute.com/wp-content/uploads/2026/04/Courtney-Hughes_video-thumb.jpg
END:VEVENT
BEGIN:VEVENT
DTSTART;TZID=America/Los_Angeles:20261023T070000
DTEND;TZID=America/Los_Angeles:20261023T081500
DTSTAMP:20260425T191132
CREATED:20251020T014957Z
LAST-MODIFIED:20251020T014957Z
UID:2019183-1792738800-1792743300@ramayogainstitute.com
SUMMARY:SELF-FULFILLMENT | Kundalini Yoga with Atma Santokh
DESCRIPTION:
URL:https://ramayogainstitute.com/event/self-fulfillment-kundalini-yoga/2026-10-23/
LOCATION:Online on RA MA TV
CATEGORIES:In Person,RA MA TV Live
ATTACH;FMTTYPE=image/jpeg:https://ramayogainstitute.com/wp-content/uploads/2024/11/atma-santokh-stupa.jpg
END:VEVENT
BEGIN:VEVENT
DTSTART;TZID=America/Los_Angeles:20261023T083000
DTEND;TZID=America/Los_Angeles:20261023T090000
DTSTAMP:20260425T191132
CREATED:20260223T162404Z
LAST-MODIFIED:20260223T162404Z
UID:2019192-1792744200-1792746000@ramayogainstitute.com
SUMMARY:GLOBAL MEDITATION
DESCRIPTION:
URL:https://ramayogainstitute.com/event/global-meditation-2026-02-25/2026-10-23/
LOCATION:Online on RA MA TV
CATEGORIES:In Person,RA MA TV Live,RA MA TV ZOOM
ATTACH;FMTTYPE=image/jpeg:https://ramayogainstitute.com/wp-content/uploads/2026/02/Sat_Kriya_1-e1773928469437.jpg
END:VEVENT
BEGIN:VEVENT
DTSTART;TZID=America/Los_Angeles:20261023T090000
DTEND;TZID=America/Los_Angeles:20261023T100000
DTSTAMP:20260425T191132
CREATED:20251007T132924Z
LAST-MODIFIED:20251007T132924Z
UID:2019186-1792746000-1792749600@ramayogainstitute.com
SUMMARY:HARMONIZE | Meditation & Gong Bath
DESCRIPTION:Practice deep meditations and relax the body and mind with an integrative gong sound bath.
URL:https://ramayogainstitute.com/event/harmonize-meditation-gong-bath-2025-10-10/2026-10-23/
LOCATION:Online on RA MA TV
CATEGORIES:In Person,RA MA TV Live
ATTACH;FMTTYPE=image/jpeg:https://ramayogainstitute.com/wp-content/uploads/2025/08/teg_prakash_tree_thumb.jpg
END:VEVENT
BEGIN:VEVENT
DTSTART;TZID=America/Los_Angeles:20261023T090000
DTEND;TZID=America/Los_Angeles:20261023T100000
DTSTAMP:20260425T191132
CREATED:20260414T145837Z
LAST-MODIFIED:20260414T145837Z
UID:2019194-1792746000-1792749600@ramayogainstitute.com
SUMMARY:MEDITATION & HEALING GONG
DESCRIPTION:Meditate and receive deep healing from the Gong with an extended Gong lay-out.  No previous experience necessary\, all levels. \nMedita y recibe una profunda sanación del Gong con una disposición extendida del Gong. No se requiere experiencia previa\, todos los niveles.
URL:https://ramayogainstitute.com/event/meditation-healing-gong-2026-04-20/2026-10-23/
LOCATION:Online on RA MA TV
CATEGORIES:In Person,RA MA TV Live
ATTACH;FMTTYPE=image/jpeg:https://ramayogainstitute.com/wp-content/uploads/2025/08/teg_prakash_laugh_thumb.jpg
END:VEVENT
BEGIN:VEVENT
DTSTART;TZID=America/Los_Angeles:20261023T180000
DTEND;TZID=America/Los_Angeles:20261023T190000
DTSTAMP:20260425T191132
CREATED:20260114T143849Z
LAST-MODIFIED:20260114T143849Z
UID:2019193-1792778400-1792782000@ramayogainstitute.com
SUMMARY:HARMONIZE | Meditation & Gong Bath
DESCRIPTION:Practice deep meditations and relax the body and mind with an integrative gong sound bath.
URL:https://ramayogainstitute.com/event/harmonize-meditation-gong-bath/2026-10-23/
LOCATION:Online on RA MA TV
CATEGORIES:In Person,RA MA TV Live,RA MA TV ZOOM
ATTACH;FMTTYPE=image/jpeg:https://ramayogainstitute.com/wp-content/uploads/2025/07/teg_prakash_thumb_6.jpg
END:VEVENT
END:VCALENDAR