BEGIN:VCALENDAR
VERSION:2.0
PRODID:-//RA MA LIFE - ECPv6.15.15//NONSGML v1.0//EN
CALSCALE:GREGORIAN
METHOD:PUBLISH
X-ORIGINAL-URL:https://ramayogainstitute.com
X-WR-CALDESC:Events for RA MA LIFE
REFRESH-INTERVAL;VALUE=DURATION:PT1H
X-Robots-Tag:noindex
X-PUBLISHED-TTL:PT1H
BEGIN:VTIMEZONE
TZID:America/Los_Angeles
BEGIN:DAYLIGHT
TZOFFSETFROM:-0800
TZOFFSETTO:-0700
TZNAME:PDT
DTSTART:20200308T100000
END:DAYLIGHT
BEGIN:STANDARD
TZOFFSETFROM:-0700
TZOFFSETTO:-0800
TZNAME:PST
DTSTART:20201101T090000
END:STANDARD
BEGIN:DAYLIGHT
TZOFFSETFROM:-0800
TZOFFSETTO:-0700
TZNAME:PDT
DTSTART:20210314T100000
END:DAYLIGHT
BEGIN:STANDARD
TZOFFSETFROM:-0700
TZOFFSETTO:-0800
TZNAME:PST
DTSTART:20211107T090000
END:STANDARD
BEGIN:DAYLIGHT
TZOFFSETFROM:-0800
TZOFFSETTO:-0700
TZNAME:PDT
DTSTART:20220313T100000
END:DAYLIGHT
BEGIN:STANDARD
TZOFFSETFROM:-0700
TZOFFSETTO:-0800
TZNAME:PST
DTSTART:20221106T090000
END:STANDARD
END:VTIMEZONE
BEGIN:VEVENT
DTSTART;VALUE=DATE:20211203
DTEND;VALUE=DATE:20211204
DTSTAMP:20260425T095432
CREATED:20210920T210739Z
LAST-MODIFIED:20211201T222128Z
UID:1654030-1638489600-1638575999@ramayogainstitute.com
SUMMARY:New Moon in Sagittarius
DESCRIPTION:Learn More & Tune In
URL:https://ramayogainstitute.com/event/new-moon-in-sagittarius/
LOCATION:Online
CATEGORIES:Community Content,In Person,Pay Per View Workshops,RA MA TV Live
ATTACH;FMTTYPE=image/jpeg:https://ramayogainstitute.com/wp-content/uploads/2021/09/moon-days-cal-icon.jpg
END:VEVENT
BEGIN:VEVENT
DTSTART;TZID=America/Los_Angeles:20211203T090000
DTEND;TZID=America/Los_Angeles:20211203T103000
DTSTAMP:20260425T095432
CREATED:20211130T023719Z
LAST-MODIFIED:20211201T222954Z
UID:1668991-1638522000-1638527400@ramayogainstitute.com
SUMMARY:Solar Brilliance with Gurujas
DESCRIPTION:Gurujas teaches that Kundalini Yoga is an experientially-based system–a science of joy\, fulfillment and love. She also believes that happiness is a vibrational frequency\, and can be an enduring state of being. Gurujas is the lead singer of the Grammy Award winning group White Sun. \nLearn More \nSign Up Online \nSign Up in Person \n 
URL:https://ramayogainstitute.com/event/solar-brilliance-gurujas-12-3-21/
LOCATION:Online on RA MA TV
CATEGORIES:Pay Per View Workshops
ATTACH;FMTTYPE=image/jpeg:https://ramayogainstitute.com/wp-content/uploads/2021/09/Gurujas-11.jpg
END:VEVENT
BEGIN:VEVENT
DTSTART;TZID=America/Los_Angeles:20211203T183000
DTEND;TZID=America/Los_Angeles:20211203T203000
DTSTAMP:20260425T095432
CREATED:20211130T024404Z
LAST-MODIFIED:20211130T024404Z
UID:1669009-1638556200-1638563400@ramayogainstitute.com
SUMMARY:Eclipse Momentum with Harijiwan
DESCRIPTION:Harijiwan has been teaching Kundalini yoga since 1975. Known for his unique Gong playing\, his classes are funny\, profound\, poetic and offer students the opportunity to receive rarified instruction and enjoy vast change. \nLearn More \nSign Up Online \nSign Up In Person
URL:https://ramayogainstitute.com/event/eclipse-momentum-with-harijiwan-12-3-21/
LOCATION:Online
CATEGORIES:In Person,Pay Per View Workshops
ATTACH;FMTTYPE=image/jpeg:https://ramayogainstitute.com/wp-content/uploads/2021/08/harijiwan-cal-icon.jpg
END:VEVENT
BEGIN:VEVENT
DTSTART;TZID=America/Los_Angeles:20211206T090000
DTEND;TZID=America/Los_Angeles:20211206T103000
DTSTAMP:20260425T095432
CREATED:20210809T171040Z
LAST-MODIFIED:20220819T192812Z
UID:1639707-1638781200-1638786600@ramayogainstitute.com
SUMMARY:Kundalini Yoga & Meditation with Mandev
DESCRIPTION:Mandev Khalsa is an award-winning filmmaker and creator of My Moon Map™\, an IOS mobile app to track your moods and behavior pattern using the ancient yogic science of the moon centers. For years\, Mandev has deeply researched esoteric energetic structures in women’s teachings to discover energy and power. \nHer App and upcoming film\, “The Moon Centers”\, reveal the unique relationship women have to the moon and how to they can unlock and access these infinite lunar powers. \nLearn More & Tune In
URL:https://ramayogainstitute.com/event/kundalini-yoga-mandev-12-06-2021/
LOCATION:Online
CATEGORIES:In Person,RA MA TV Live
END:VEVENT
BEGIN:VEVENT
DTSTART;TZID=America/Los_Angeles:20211206T173000
DTEND;TZID=America/Los_Angeles:20211206T190000
DTSTAMP:20260425T095432
CREATED:20211206T203959Z
LAST-MODIFIED:20211206T204027Z
UID:1671779-1638811800-1638817200@ramayogainstitute.com
SUMMARY:Kundalini Yoga & Meditation with Giangeet
DESCRIPTION:Giangeet is a Yogi\, artist\, and founder of Satamber \nLearn More & Tune In
URL:https://ramayogainstitute.com/event/giangeet-12-6-2021/
LOCATION:Online
CATEGORIES:In Person,RA MA TV Live
ATTACH;FMTTYPE=image/png:https://ramayogainstitute.com/wp-content/uploads/2021/12/giangeet-cal-icon.png
END:VEVENT
BEGIN:VEVENT
DTSTART;TZID=America/Los_Angeles:20211207T090000
DTEND;TZID=America/Los_Angeles:20211207T103000
DTSTAMP:20260425T095432
CREATED:20211028T002901Z
LAST-MODIFIED:20211201T233351Z
UID:1661307-1638867600-1638873000@ramayogainstitute.com
SUMMARY:Kundalini Yoga & Meditation with Gurujas
DESCRIPTION:Gurujas teaches that Kundalini Yoga is an experientially-based system–a science of joy\, fulfillment and love. She also believes that happiness is a vibrational frequency\, and can be an enduring state of being. Gurujas is the lead singer of the Grammy Award winning group White Sun. \nLearn More & Tune In
URL:https://ramayogainstitute.com/event/kundalini-yoga-meditation-with-gurujas-11-2021-12-05-2021-12-07/2021-12-07/
LOCATION:Online
CATEGORIES:In Person,RA MA TV Live
ATTACH;FMTTYPE=image/jpeg:https://ramayogainstitute.com/wp-content/uploads/2021/07/GURUJAS-cal-icon.jpg
END:VEVENT
BEGIN:VEVENT
DTSTART;TZID=America/Los_Angeles:20211207T110000
DTEND;TZID=America/Los_Angeles:20211207T120000
DTSTAMP:20260425T095432
CREATED:20211206T205040Z
LAST-MODIFIED:20211206T205040Z
UID:1671783-1638874800-1638878400@ramayogainstitute.com
SUMMARY:Prosperity Hour with Malyvahn
DESCRIPTION:Malyvahn studied with Tej & Harijiwan. Kundalini Yoga and Meditation was a lighting fast practice for her self growth and healing. An entrepreneur at heart. Her goal is to hold a healing space\, guided by the teachings\, where each student can reach their highest bliss of prosperity! \nLearn More & Tune In
URL:https://ramayogainstitute.com/event/prosperity-malyvahn-12-7-21/
LOCATION:Online
CATEGORIES:In Person,RA MA TV Live
ATTACH;FMTTYPE=image/png:https://ramayogainstitute.com/wp-content/uploads/2021/12/Malyvahn-cal-icon.png
END:VEVENT
BEGIN:VEVENT
DTSTART;TZID=America/Los_Angeles:20211207T190000
DTEND;TZID=America/Los_Angeles:20211207T203000
DTSTAMP:20260425T095432
CREATED:20211204T001218Z
LAST-MODIFIED:20211206T202752Z
UID:1671121-1638903600-1638909000@ramayogainstitute.com
SUMMARY:Kundalini Yoga & Meditation with Shabadpreet
DESCRIPTION:Shabadpreet is a teacher trained in Yogi Bhajan’s healing technologies and various other subtle and physical healing modalities. Since her first encounter with Kundalini Yoga and Meditation in 2008 Shabadpreet has since studied with her teacher Guru Jagat. Kundalini Yoga and Mediation is a lightning fast practice for directly re-connecting with who you are\, cutting through anxiety\, depression\, and other low frequency states\, and freeing up your abundant natural energy. \nLearn More & Tune In
URL:https://ramayogainstitute.com/event/shabadpreet-kundalini-12-7-21/
LOCATION:Online
CATEGORIES:In Person,RA MA TV Live
ATTACH;FMTTYPE=image/jpeg:https://ramayogainstitute.com/wp-content/uploads/2021/08/Shabadpreet-cal-icon-1.jpg
END:VEVENT
BEGIN:VEVENT
DTSTART;TZID=America/Los_Angeles:20211208T073000
DTEND;TZID=America/Los_Angeles:20211208T083000
DTSTAMP:20260425T095432
CREATED:20211209T011057Z
LAST-MODIFIED:20211209T011057Z
UID:1672223-1638948600-1638952200@ramayogainstitute.com
SUMMARY:RA MA Men's League Workout with Seva Jagat
DESCRIPTION:Seva Jagat is an Independent Artist and Yogi from Puerto Rico. \nSeva’s interests are sustainability\, social themes and wellness practices. Seva works with Guru Jagat and Aa MA TV\, frequently traveling with the RA MA crew. \nLearn More & Tune In
URL:https://ramayogainstitute.com/event/ra-ma-mens-league-workout-with-seva-jagat/
LOCATION:Online
CATEGORIES:Community Content,In Person
ATTACH;FMTTYPE=image/jpeg:https://ramayogainstitute.com/wp-content/uploads/2021/08/Seva-Jagat-cal-icon.jpg
END:VEVENT
BEGIN:VEVENT
DTSTART;TZID=America/Los_Angeles:20211208T090000
DTEND;TZID=America/Los_Angeles:20211208T103000
DTSTAMP:20260425T095432
CREATED:20210809T171040Z
LAST-MODIFIED:20220819T192812Z
UID:1665720-1638954000-1638959400@ramayogainstitute.com
SUMMARY:Kundalini Yoga & Meditation with Mandev
DESCRIPTION:Mandev Khalsa is an award-winning filmmaker and creator of My Moon Map™\, an IOS mobile app to track your moods and behavior pattern using the ancient yogic science of the moon centers. For years\, Mandev has deeply researched esoteric energetic structures in women’s teachings to discover energy and power. \nHer App and upcoming film\, “The Moon Centers”\, reveal the unique relationship women have to the moon and how to they can unlock and access these infinite lunar powers. \nLearn More & Tune In
URL:https://ramayogainstitute.com/event/kundalini-mandev-12-8-2021/
LOCATION:Online
CATEGORIES:In Person,RA MA TV Live
END:VEVENT
BEGIN:VEVENT
DTSTART;TZID=America/Los_Angeles:20211208T110000
DTEND;TZID=America/Los_Angeles:20211208T120000
DTSTAMP:20260425T095432
CREATED:20211206T212845Z
LAST-MODIFIED:20211206T212845Z
UID:1671792-1638961200-1638964800@ramayogainstitute.com
SUMMARY:Pranic Change with Marta Ulbricht
DESCRIPTION:Learn More & Tune In
URL:https://ramayogainstitute.com/event/pranic-change-with-marta-ulbricht/
LOCATION:Online
CATEGORIES:In Person,RA MA TV Live
ATTACH;FMTTYPE=image/jpeg:https://ramayogainstitute.com/wp-content/uploads/2021/08/marta-cal-icon.jpg
END:VEVENT
BEGIN:VEVENT
DTSTART;TZID=America/Los_Angeles:20211208T170000
DTEND;TZID=America/Los_Angeles:20211208T180000
DTSTAMP:20260425T095432
CREATED:20211209T005600Z
LAST-MODIFIED:20211209T005616Z
UID:1672214-1638982800-1638986400@ramayogainstitute.com
SUMMARY:26 Aspects of a Women with Shabadpreet
DESCRIPTION:Shabadpreet is a teacher trained in Yogi Bhajan’s healing technologies and various other subtle and physical healing modalities. Since her first encounter with Kundalini Yoga and Meditation in 2008 Shabadpreet has since studied with her teacher Guru Jagat. Kundalini Yoga and Mediation is a lightning fast practice for directly re-connecting with who you are\, cutting through anxiety\, depression\, and other low frequency states\, and freeing up your abundant natural energy. \nLearn More & Tune In
URL:https://ramayogainstitute.com/event/26-aspects-of-a-women-with-shabadpreet/
LOCATION:Online
CATEGORIES:Community Content,In Person
ATTACH;FMTTYPE=image/jpeg:https://ramayogainstitute.com/wp-content/uploads/2021/08/Shabadpreet-cal-icon-1.jpg
END:VEVENT
BEGIN:VEVENT
DTSTART;TZID=America/Los_Angeles:20211209T090000
DTEND;TZID=America/Los_Angeles:20211209T103000
DTSTAMP:20260425T095432
CREATED:20210809T174207Z
LAST-MODIFIED:20220819T192657Z
UID:1640877-1639040400-1639045800@ramayogainstitute.com
SUMMARY:Kundalini Yoga & Meditation with Mandev
DESCRIPTION:Mandev Khalsa is an award-winning filmmaker and creator of My Moon Map™\, an IOS mobile app to track your moods and behavior pattern using the ancient yogic science of the moon centers. For years\, Mandev has deeply researched esoteric energetic structures in women’s teachings to discover energy and power. Her App and upcoming film\, “The Moon Centers”\, reveal the unique relationship women have to the moon and how to they can unlock and access these infinite lunar powers. \nLearn More & Tune In
URL:https://ramayogainstitute.com/event/mandev-kundalini-12-9-21/
LOCATION:Online
CATEGORIES:In Person,RA MA TV Live
END:VEVENT
BEGIN:VEVENT
DTSTART;TZID=America/Los_Angeles:20211209T110000
DTEND;TZID=America/Los_Angeles:20211209T120000
DTSTAMP:20260425T095432
CREATED:20211206T214141Z
LAST-MODIFIED:20211206T214141Z
UID:1671799-1639047600-1639051200@ramayogainstitute.com
SUMMARY:Prosperity Hour with Malyvahn
DESCRIPTION:Malyvahn studied with Tej & Harijiwan. Kundalini Yoga and Meditation was a lighting fast practice for her self growth and healing. An entrepreneur at heart. Her goal is to hold a healing space\, guided by the teachings\, where each student can reach their highest bliss of prosperity! \nLearn More & Tune In
URL:https://ramayogainstitute.com/event/prosperity-hour-12-9-21/
LOCATION:Online
CATEGORIES:In Person,RA MA TV Live
ATTACH;FMTTYPE=image/png:https://ramayogainstitute.com/wp-content/uploads/2021/12/Malyvahn-cal-icon.png
END:VEVENT
BEGIN:VEVENT
DTSTART;VALUE=DATE:20211210
DTEND;VALUE=DATE:20211212
DTSTAMP:20260425T095432
CREATED:20211130T213940Z
LAST-MODIFIED:20211130T213940Z
UID:1669441-1639094400-1639267199@ramayogainstitute.com
SUMMARY:Immense Grace Presents: Hearth Conciousness
DESCRIPTION:A Yogic Science Immersion to Bring Warmth to Any Time\, Space\, and Place \nLearn More
URL:https://ramayogainstitute.com/event/immense-grace-presents-hearth-conciousness/
LOCATION:Online
CATEGORIES:Community Content
ATTACH;FMTTYPE=image/jpeg:https://ramayogainstitute.com/wp-content/uploads/2021/11/Hearth-Conscious-Banner-calendar.jpg
END:VEVENT
BEGIN:VEVENT
DTSTART;TZID=America/Los_Angeles:20211210T173000
DTEND;TZID=America/Los_Angeles:20211210T190000
DTSTAMP:20260425T095432
CREATED:20211211T034410Z
LAST-MODIFIED:20211211T034410Z
UID:1672781-1639157400-1639162800@ramayogainstitute.com
SUMMARY:Kundalini Yoga & Meditation with Malyvahn
DESCRIPTION:Learn More & Tune In
URL:https://ramayogainstitute.com/event/kundalini-malyvahn-12-15-21/
LOCATION:Online
CATEGORIES:In Person,RA MA TV Live
ATTACH;FMTTYPE=image/png:https://ramayogainstitute.com/wp-content/uploads/2021/12/Malyvahn-cal-icon.png
END:VEVENT
BEGIN:VEVENT
DTSTART;TZID=America/Los_Angeles:20211211T090000
DTEND;TZID=America/Los_Angeles:20211211T103000
DTSTAMP:20260425T095432
CREATED:20211209T010530Z
LAST-MODIFIED:20211227T083635Z
UID:1672219-1639213200-1639218600@ramayogainstitute.com
SUMMARY:Kundalini Yoga & Meditation with Shabadpreet
DESCRIPTION:Shabadpreet is a teacher trained in Yogi Bhajan’s healing technologies and various other subtle and physical healing modalities. Since her first encounter with Kundalini Yoga and Meditation in 2008 Shabadpreet has since studied with her teacher Guru Jagat. Kundalini Yoga and Mediation is a lightning fast practice for directly re-connecting with who you are\, cutting through anxiety\, depression\, and other low frequency states\, and freeing up your abundant natural energy. \nLearn More & Tune In
URL:https://ramayogainstitute.com/event/shabadpreet-kundalini-12-11-21/
LOCATION:Online
CATEGORIES:Community Content,In Person
ATTACH;FMTTYPE=image/png:https://ramayogainstitute.com/wp-content/uploads/2021/11/Shabadpreet-November-23-2021.png
END:VEVENT
BEGIN:VEVENT
DTSTART;VALUE=DATE:20211214
DTEND;VALUE=DATE:20211220
DTSTAMP:20260425T095432
CREATED:20211130T214340Z
LAST-MODIFIED:20220819T192813Z
UID:1669445-1639440000-1639958399@ramayogainstitute.com
SUMMARY:RA MA Residency New York City
DESCRIPTION:Harijiwan\, Mandev\, Shabadpreet and the Global RA MA Crew are making their way to RA MA Institute New York with a pre-Holiday residency. Check out the lineup and save your spots below. \nLearn More
URL:https://ramayogainstitute.com/event/ra-ma-residency-new-york-city-winter-2021/
LOCATION:RA MA Institute New York\, 125 Stanton Street\, New York\, NY\, 10002\, United States
CATEGORIES:Courses & Events,In Person,RA MA TV Live
ATTACH;FMTTYPE=image/png:https://ramayogainstitute.com/wp-content/uploads/2021/11/New-York-Studio.png
END:VEVENT
BEGIN:VEVENT
DTSTART;TZID=America/Los_Angeles:20211214T160000
DTEND;TZID=America/Los_Angeles:20211214T173000
DTSTAMP:20260425T095432
CREATED:20211211T032559Z
LAST-MODIFIED:20211211T032559Z
UID:1672757-1639497600-1639503000@ramayogainstitute.com
SUMMARY:High Frequency Community
DESCRIPTION:Shabadpreet is a teacher trained in Yogi Bhajan’s healing technologies and various other subtle and physical healing modalities. Since her first encounter with Kundalini Yoga and Meditation in 2008 Shabadpreet has since studied with her teacher Guru Jagat. Kundalini Yoga and Mediation is a lightning fast practice for directly re-connecting with who you are\, cutting through anxiety\, depression\, and other low frequency states\, and freeing up your abundant natural energy. Shabadpreet’s classes are fun\, meditative\, and deeply healing and provide a variety of tools that you can take into your daily life. \nLearn More & Tune In
URL:https://ramayogainstitute.com/event/shabadpreet-12-14-21/
LOCATION:Online
CATEGORIES:In Person,RA MA TV Live
ATTACH;FMTTYPE=image/jpeg:https://ramayogainstitute.com/wp-content/uploads/2021/08/Shabadpreet-cal-icon-1.jpg
END:VEVENT
BEGIN:VEVENT
DTSTART;TZID=America/Los_Angeles:20211214T190000
DTEND;TZID=America/Los_Angeles:20211214T203000
DTSTAMP:20260425T095432
CREATED:20211211T033026Z
LAST-MODIFIED:20211211T033051Z
UID:1672766-1639508400-1639513800@ramayogainstitute.com
SUMMARY:Kundalini Yoga & Meditation with Marta
DESCRIPTION:Learn More & Tune In
URL:https://ramayogainstitute.com/event/marta-12-14-21/
LOCATION:Online
CATEGORIES:In Person,RA MA TV Live
ATTACH;FMTTYPE=image/jpeg:https://ramayogainstitute.com/wp-content/uploads/2021/08/marta-cal-icon.jpg
END:VEVENT
BEGIN:VEVENT
DTSTART;TZID=America/Los_Angeles:20211215T110000
DTEND;TZID=America/Los_Angeles:20211215T120000
DTSTAMP:20260425T095432
CREATED:20211211T033414Z
LAST-MODIFIED:20211211T033443Z
UID:1672768-1639566000-1639569600@ramayogainstitute.com
SUMMARY:Pranic Change with Marta Ulbricht
DESCRIPTION:Learn More & Tune In
URL:https://ramayogainstitute.com/event/marta-ulbricht-12-15-21/
LOCATION:Online
CATEGORIES:In Person,RA MA TV Live
ATTACH;FMTTYPE=image/jpeg:https://ramayogainstitute.com/wp-content/uploads/2021/08/marta-cal-icon.jpg
END:VEVENT
BEGIN:VEVENT
DTSTART;TZID=America/Los_Angeles:20211215T150000
DTEND;TZID=America/Los_Angeles:20211215T160000
DTSTAMP:20260425T095432
CREATED:20211211T033745Z
LAST-MODIFIED:20211215T231209Z
UID:1672772-1639580400-1639584000@ramayogainstitute.com
SUMMARY:Rhythm of the Cosmos
DESCRIPTION:Shabadpreet is a teacher trained in Yogi Bhajan’s healing technologies and various other subtle and physical healing modalities. Since her first encounter with Kundalini Yoga and Meditation in 2008 Shabadpreet has since studied with her teacher Guru Jagat. Kundalini Yoga and Mediation is a lightning fast practice for directly re-connecting with who you are\, cutting through anxiety\, depression\, and other low frequency states\, and freeing up your abundant natural energy. Shabadpreet’s classes are fun\, meditative\, and deeply healing and provide a variety of tools that you can take into your daily life. \nLearn More & Tune In
URL:https://ramayogainstitute.com/event/rhythm-of-the-cosmos-12-15-21/
LOCATION:RA MA Institute New York\, 125 Stanton Street\, New York\, NY\, 10002\, United States
CATEGORIES:In Person,RA MA TV Live
ATTACH;FMTTYPE=image/jpeg:https://ramayogainstitute.com/wp-content/uploads/2021/12/shabadpreet-cal.jpg
END:VEVENT
BEGIN:VEVENT
DTSTART;TZID=America/Los_Angeles:20211215T160000
DTEND;TZID=America/Los_Angeles:20211215T180000
DTSTAMP:20260425T095432
CREATED:20211211T034103Z
LAST-MODIFIED:20211215T235716Z
UID:1672774-1639584000-1639591200@ramayogainstitute.com
SUMMARY:ReSounding Infinity with Harijiwan
DESCRIPTION:Harijiwan has been teaching Kundalini yoga since 1975. Known for his unique Gong playing\, his classes are funny\, profound\, poetic and offer students the opportunity to receive rarified instruction and enjoy vast change. \nLearn More & Tune In
URL:https://ramayogainstitute.com/event/resounding-infinity-with-harijiwan-12-15-21/
LOCATION:RA MA New York & Online
CATEGORIES:In Person,Pay Per View Workshops
ATTACH;FMTTYPE=image/jpeg:https://ramayogainstitute.com/wp-content/uploads/2021/08/harijiwan-cal-icon.jpg
END:VEVENT
BEGIN:VEVENT
DTSTART;TZID=America/Los_Angeles:20211216T060000
DTEND;TZID=America/Los_Angeles:20211216T073000
DTSTAMP:20260425T095432
CREATED:20211215T232919Z
LAST-MODIFIED:20211215T232919Z
UID:1674063-1639634400-1639639800@ramayogainstitute.com
SUMMARY:Deep Pranic Powers\, Kundalini Yoga & Meditation with Shabadpreet
DESCRIPTION:Shabadpreet is a teacher trained in Yogi Bhajan’s healing technologies and various other subtle and physical healing modalities. Since her first encounter with Kundalini Yoga and Meditation in 2008 Shabadpreet has since studied with her teacher Guru Jagat. Kundalini Yoga and Mediation is a lightning fast practice for directly re-connecting with who you are\, cutting through anxiety\, depression\, and other low frequency states\, and freeing up your abundant natural energy. Shabadpreet’s classes are fun\, meditative\, and deeply healing and provide a variety of tools that you can take into your daily life. \nLearn More & Tune In
URL:https://ramayogainstitute.com/event/deep-pranic-powers-12-16-21-shabadpreet/
LOCATION:RA MA Institute New York\, 125 Stanton Street\, New York\, NY\, 10002\, United States
CATEGORIES:In Person,RA MA TV Live
ATTACH;FMTTYPE=image/jpeg:https://ramayogainstitute.com/wp-content/uploads/2021/12/shabadpreet-cal.jpg
END:VEVENT
BEGIN:VEVENT
DTSTART;TZID=America/Los_Angeles:20211216T110000
DTEND;TZID=America/Los_Angeles:20211216T120000
DTSTAMP:20260425T095432
CREATED:20210813T162003Z
LAST-MODIFIED:20211211T035642Z
UID:1640939-1639652400-1639656000@ramayogainstitute.com
SUMMARY:Prosperity Hour with Malyvahn
DESCRIPTION:Learn More & Tune In
URL:https://ramayogainstitute.com/event/prosperity-malyvahn-12-16-21/
LOCATION:Online
CATEGORIES:In Person,RA MA TV Live
ATTACH;FMTTYPE=image/png:https://ramayogainstitute.com/wp-content/uploads/2021/12/Malyvahn-cal-icon.png
END:VEVENT
BEGIN:VEVENT
DTSTART;TZID=America/Los_Angeles:20211216T173000
DTEND;TZID=America/Los_Angeles:20211216T190000
DTSTAMP:20260425T095432
CREATED:20211211T035907Z
LAST-MODIFIED:20211211T035938Z
UID:1672794-1639675800-1639681200@ramayogainstitute.com
SUMMARY:Kundalini Yoga & Meditation with Giangeet
DESCRIPTION:Learn More & Tune In
URL:https://ramayogainstitute.com/event/giangeet-kundalini-12-16-21/
LOCATION:Online
CATEGORIES:In Person,RA MA TV Live
ATTACH;FMTTYPE=image/png:https://ramayogainstitute.com/wp-content/uploads/2021/12/giangeet-cal-icon.png
END:VEVENT
BEGIN:VEVENT
DTSTART;TZID=America/Los_Angeles:20211217T060000
DTEND;TZID=America/Los_Angeles:20211217T073000
DTSTAMP:20260425T095432
CREATED:20211213T193605Z
LAST-MODIFIED:20220819T192652Z
UID:1673391-1639720800-1639726200@ramayogainstitute.com
SUMMARY:Awaken Your Meditative Mind with Mandev
DESCRIPTION:Mandev Khalsa is an award-winning filmmaker and creator of My Moon Map™\, an IOS mobile app to track your moods and behavior pattern using the ancient yogic science of the moon centers. For years\, Mandev has deeply researched esoteric energetic structures in women’s teachings to discover energy and power. Her App and upcoming film\, “The Moon Centers”\, reveal the unique relationship women have to the moon and how to they can unlock and access these infinite lunar powers. \nLearn More & Tune In
URL:https://ramayogainstitute.com/event/awaken-your-meditative-mind-mandev-12-17-21/
LOCATION:RA MA Institute New York\, 125 Stanton Street\, New York\, NY\, 10002\, United States
CATEGORIES:RA MA TV Live
ATTACH;FMTTYPE=image/jpeg:https://ramayogainstitute.com/wp-content/uploads/2021/08/mandev-cal-icon-2.jpg
END:VEVENT
BEGIN:VEVENT
DTSTART;TZID=America/Los_Angeles:20211217T090000
DTEND;TZID=America/Los_Angeles:20211217T103000
DTSTAMP:20260425T095432
CREATED:20210809T171040Z
LAST-MODIFIED:20211217T152338Z
UID:1665723-1639731600-1639737000@ramayogainstitute.com
SUMMARY:Kundalini Yoga & Meditation with Ram Dharam
DESCRIPTION:Learn More & Tune In
URL:https://ramayogainstitute.com/event/kundalini-yoga-meditation-with-harmanjot-6-2021-12-06-2021-12-17/
LOCATION:Online
CATEGORIES:In Person,RA MA TV Live
ATTACH;FMTTYPE=image/jpeg:https://ramayogainstitute.com/wp-content/uploads/2021/11/Ram-Dharam.jpg
END:VEVENT
BEGIN:VEVENT
DTSTART;TZID=America/Los_Angeles:20211217T120000
DTEND;TZID=America/Los_Angeles:20211217T124500
DTSTAMP:20260425T095432
CREATED:20211215T234206Z
LAST-MODIFIED:20211216T023256Z
UID:1674071-1639742400-1639745100@ramayogainstitute.com
SUMMARY:Solstice Preparation for Neo Renaissance with Jose Ajpu Muñoz
DESCRIPTION:Jose  is a Time Keeper\, spiritual guide and ceremonial leader of the Mayan Chor’Ti people.  Additionally\, Jose is the carrier of the new 26\,000 year Cycle Calendar known as the Sixth Sun Calendar which started at the turn of the cycle in December 22nd 2012. and the  spoken word of Mayan History from the years of 1444 to 1529 for which he works in what he calls the Northern Territories which range from Guatemala to the west of Alaska and to the East of Montreal. \nLearn More & Tune In
URL:https://ramayogainstitute.com/event/solstice-preparation-jose-ajpu-munoz-12-17-21/
LOCATION:Online
CATEGORIES:Community Content,In Person,RA MA TV Live
ATTACH;FMTTYPE=image/jpeg:https://ramayogainstitute.com/wp-content/uploads/2021/08/jose-cal-icon.jpg
END:VEVENT
BEGIN:VEVENT
DTSTART;TZID=America/Los_Angeles:20211217T140000
DTEND;TZID=America/Los_Angeles:20211217T160000
DTSTAMP:20260425T095432
CREATED:20211213T194054Z
LAST-MODIFIED:20211216T024752Z
UID:1673402-1639749600-1639756800@ramayogainstitute.com
SUMMARY:Numerology: A Beginners Guide to the Spirituality of Numbers
DESCRIPTION:Remington Donovan is a master numerologist and mystic seer\, trained in the spiritual wisdom of the ancients. He was quite literally born into the traditions of mysticism\, spirituality and meditation\, which naturally evolved into his now 30 years of experience practicing with tarot and numerology. Along with performing thousands of private readings\, Remington teaches and speaks all over the world. He hosts The Mystical Artists podcast and leads The Mystical Arts Mystery School. Remington takes great joy in the gift of seeing life’s highest potential through numerology and in using that gift to guide and transform others. \nLearn More & Tune In
URL:https://ramayogainstitute.com/event/numerology-guide-remington-12-17-21/
LOCATION:RA MA New York & Online
CATEGORIES:Community Content,In Person,RA MA TV Live
ATTACH;FMTTYPE=image/jpeg:https://ramayogainstitute.com/wp-content/uploads/2021/09/remington-cal-icon-1.jpg
END:VEVENT
END:VCALENDAR