BEGIN:VCALENDAR
VERSION:2.0
PRODID:-//RA MA LIFE - ECPv6.15.15//NONSGML v1.0//EN
CALSCALE:GREGORIAN
METHOD:PUBLISH
X-WR-CALNAME:RA MA LIFE
X-ORIGINAL-URL:https://ramayogainstitute.com
X-WR-CALDESC:Events for RA MA LIFE
REFRESH-INTERVAL;VALUE=DURATION:PT1H
X-Robots-Tag:noindex
X-PUBLISHED-TTL:PT1H
BEGIN:VTIMEZONE
TZID:America/Los_Angeles
BEGIN:DAYLIGHT
TZOFFSETFROM:-0800
TZOFFSETTO:-0700
TZNAME:PDT
DTSTART:20200308T100000
END:DAYLIGHT
BEGIN:STANDARD
TZOFFSETFROM:-0700
TZOFFSETTO:-0800
TZNAME:PST
DTSTART:20201101T090000
END:STANDARD
BEGIN:DAYLIGHT
TZOFFSETFROM:-0800
TZOFFSETTO:-0700
TZNAME:PDT
DTSTART:20210314T100000
END:DAYLIGHT
BEGIN:STANDARD
TZOFFSETFROM:-0700
TZOFFSETTO:-0800
TZNAME:PST
DTSTART:20211107T090000
END:STANDARD
BEGIN:DAYLIGHT
TZOFFSETFROM:-0800
TZOFFSETTO:-0700
TZNAME:PDT
DTSTART:20220313T100000
END:DAYLIGHT
BEGIN:STANDARD
TZOFFSETFROM:-0700
TZOFFSETTO:-0800
TZNAME:PST
DTSTART:20221106T090000
END:STANDARD
END:VTIMEZONE
BEGIN:VEVENT
DTSTART;TZID=America/Los_Angeles:20211109T173000
DTEND;TZID=America/Los_Angeles:20211109T184500
DTSTAMP:20260425T045031
CREATED:20210813T162922Z
LAST-MODIFIED:20211109T214436Z
UID:1640972-1636479000-1636483500@ramayogainstitute.com
SUMMARY:Kundalini Yoga & Meditation with Joti Surprem
DESCRIPTION:Learn More & Tune In
URL:https://ramayogainstitute.com/event/kundalini-yoga-meditation-with-jen-saltiel-2-2021-11-09/
CATEGORIES:In Person,RA MA TV Live
ATTACH;FMTTYPE=image/jpeg:https://ramayogainstitute.com/wp-content/uploads/2021/09/Joanna-Pitt-Joti-Surprem.jpg
END:VEVENT
BEGIN:VEVENT
DTSTART;TZID=America/Los_Angeles:20211110T110000
DTEND;TZID=America/Los_Angeles:20211110T120000
DTSTAMP:20260425T045031
CREATED:20211109T025018Z
LAST-MODIFIED:20220819T192653Z
UID:1663396-1636542000-1636545600@ramayogainstitute.com
SUMMARY:Long Mul Mantra with Mandev
DESCRIPTION:Mandev Khalsa is an award-winning filmmaker and creator of My Moon Map™\, an IOS mobile app to track your moods and behavior pattern using the ancient yogic science of the moon centers. For years\, Mandev has deeply researched esoteric energetic structures in women’s teachings to discover energy and power. Her App and upcoming film\, “The Moon Centers”\, reveal the unique relationship women have to the moon and how to they can unlock and access these infinite lunar powers. \nLearn More & Tune In
URL:https://ramayogainstitute.com/event/mandev-11-10-21/
CATEGORIES:In Person,RA MA TV Live
END:VEVENT
BEGIN:VEVENT
DTSTART;TZID=America/Los_Angeles:20211111T090000
DTEND;TZID=America/Los_Angeles:20211111T103000
DTSTAMP:20260425T045031
CREATED:20211109T035654Z
LAST-MODIFIED:20211109T234019Z
UID:1663404-1636621200-1636626600@ramayogainstitute.com
SUMMARY:Heavenly Body with Shabadpreet
DESCRIPTION:Shabadpreet is a teacher trained in Yogi Bhajan’s healing technologies and various other subtle and physical healing modalities. Since her first encounter with Kundalini Yoga and Meditation in 2008 Shabadpreet has since studied with her teacher Guru Jagat. Kundalini Yoga and Mediation is a lightning fast practice for directly re-connecting with who you are\, cutting through anxiety\, depression\, and other low frequency states\, and freeing up your abundant natural energy. \nLearn More & Tune In
URL:https://ramayogainstitute.com/event/heavenly-body-shabadpreet-11-11/
CATEGORIES:Community Content,In Person,RA MA TV Live
ATTACH;FMTTYPE=image/jpeg:https://ramayogainstitute.com/wp-content/uploads/2021/10/Shabadpreet-2.jpg
END:VEVENT
BEGIN:VEVENT
DTSTART;TZID=America/Los_Angeles:20211111T110000
DTEND;TZID=America/Los_Angeles:20211111T123000
DTSTAMP:20260425T045031
CREATED:20211109T042048Z
LAST-MODIFIED:20211109T222630Z
UID:1663406-1636628400-1636633800@ramayogainstitute.com
SUMMARY:11:11 Double Portal Crossing
DESCRIPTION:Harijiwan has been teaching Kundalini yoga since 1975. Known for his unique Gong playing\, his classes are funny\, profound\, poetic and offer students the opportunity to receive rarified instruction and enjoy vast change. \nKundalini Yoga\, Meditation & Gong with Harijiwan \nLive on RA MA TV + on Infinite Replay \n$33 Day Of\, $27 In Advance *Included for RA MA TV Live \nLearn More & Tune In \nSign Up
URL:https://ramayogainstitute.com/event/11-11-portal-crossing-harijiwan/
CATEGORIES:In Person,Pay Per View Workshops,RA MA TV Live
ATTACH;FMTTYPE=image/jpeg:https://ramayogainstitute.com/wp-content/uploads/2021/08/harijiwan-cal-icon.jpg
END:VEVENT
BEGIN:VEVENT
DTSTART;TZID=America/Los_Angeles:20211111T190000
DTEND;TZID=America/Los_Angeles:20211111T203000
DTSTAMP:20260425T045031
CREATED:20211109T045045Z
LAST-MODIFIED:20211109T045045Z
UID:1663418-1636657200-1636662600@ramayogainstitute.com
SUMMARY:11:11 Kundalini Yoga & Meditation
DESCRIPTION:Tej Kaur Khalsa has been a student of traditional Kundalini for over 35 years. She is a Custodian of Kundalini knowledge\, and a recognized authority on the teachings. \nLearn More & Tune In
URL:https://ramayogainstitute.com/event/1111-kundalini-yoga-meditation/
CATEGORIES:In Person,RA MA TV Live
ATTACH;FMTTYPE=image/png:https://ramayogainstitute.com/wp-content/uploads/2021/05/tej-cal-icon.png
END:VEVENT
BEGIN:VEVENT
DTSTART;TZID=America/Los_Angeles:20211113T090000
DTEND;TZID=America/Los_Angeles:20211113T103000
DTSTAMP:20260425T045031
CREATED:20210809T174207Z
LAST-MODIFIED:20211109T235102Z
UID:1640870-1636794000-1636799400@ramayogainstitute.com
SUMMARY:Kundalini Yoga & Meditation with Shabadpreet
DESCRIPTION:Learn More & Tune In
URL:https://ramayogainstitute.com/event/celestial-communication-with-shabadpreet-2-2021-11-13/
CATEGORIES:Community Content,RA MA TV Live
ATTACH;FMTTYPE=image/jpeg:https://ramayogainstitute.com/wp-content/uploads/2021/08/Shabadpreet-7.jpg
END:VEVENT
BEGIN:VEVENT
DTSTART;TZID=America/Los_Angeles:20211113T130000
DTEND;TZID=America/Los_Angeles:20211113T150000
DTSTAMP:20260425T045031
CREATED:20211109T051050Z
LAST-MODIFIED:20211109T231035Z
UID:1663424-1636808400-1636815600@ramayogainstitute.com
SUMMARY:10th Day of The Moon with Harijiwan
DESCRIPTION:Harijiwan has been teaching Kundalini yoga since 1975. Known for his unique Gong playing\, his classes are funny\, profound\, poetic and offer students the opportunity to receive rarified instruction and enjoy vast change. \nLearn More \nSign Up
URL:https://ramayogainstitute.com/event/10th-day-harijiwan-11-13-21/
CATEGORIES:In Person,Pay Per View Workshops
ATTACH;FMTTYPE=image/jpeg:https://ramayogainstitute.com/wp-content/uploads/2021/08/harijiwan-cal-icon.jpg
END:VEVENT
BEGIN:VEVENT
DTSTART;TZID=America/Los_Angeles:20211114T110000
DTEND;TZID=America/Los_Angeles:20211114T123000
DTSTAMP:20260425T045031
CREATED:20211109T052813Z
LAST-MODIFIED:20211109T052813Z
UID:1663432-1636887600-1636893000@ramayogainstitute.com
SUMMARY:Vital Warrior with Mikal
DESCRIPTION:Mikal Vega\, is a former Navy SEAL and 22-year combat veteran who walked the road from trauma to recovery. It wasn’t until several years after returning home that he realized the extent of his “invisible injuries.” He decided to follow his instinct toward alternative approaches. After exploring a variety of options in his own community\, Mikal found Kundalini Yoga which helped him to restore balance in his own life. In the end\, he made a radical leap forward – from the depths of post-traumatic stress to feeling liberated from his symptoms. Mikal is committed to the development of an experiential based\, personalized process and daily practice in his students to facilitate true\, lasting change. Harnessing the lessons learned during his experientially developed philosophies\, it’s his vision to help others dismantle perceptual boundaries and to realize their own creative potential. Mikal embodies and broadcasts the warrior energy in his classes. His dedication to technical accuracy develops deep focus and powerful projection establishing balance of destructive energies through the cultivation of ones own creative force. \nLearn More & Tune In
URL:https://ramayogainstitute.com/event/vital-warrior-mikal-11-14-21/
CATEGORIES:In Person,RA MA TV Live
ATTACH;FMTTYPE=image/jpeg:https://ramayogainstitute.com/wp-content/uploads/2021/07/mikal-vega-cal-icon.jpg
END:VEVENT
BEGIN:VEVENT
DTSTART;TZID=America/Los_Angeles:20211114T130000
DTEND;TZID=America/Los_Angeles:20211114T150000
DTSTAMP:20260425T045031
CREATED:20211109T051732Z
LAST-MODIFIED:20211109T225517Z
UID:1663426-1636894800-1636902000@ramayogainstitute.com
SUMMARY:11th Day of The Moon with Harijiwan
DESCRIPTION:Harijiwan has been teaching Kundalini yoga since 1975. Known for his unique Gong playing\, his classes are funny\, profound\, poetic and offer students the opportunity to receive rarified instruction and enjoy vast change. \nLearn More \nSign Up
URL:https://ramayogainstitute.com/event/11th-day-harijiwan-11-14-21/
CATEGORIES:In Person,Pay Per View Workshops
ATTACH;FMTTYPE=image/jpeg:https://ramayogainstitute.com/wp-content/uploads/2021/09/Harijiwan-Khalsa.jpg
END:VEVENT
BEGIN:VEVENT
DTSTART;TZID=America/Los_Angeles:20211114T160000
DTEND;TZID=America/Los_Angeles:20211114T173000
DTSTAMP:20260425T045031
CREATED:20211109T053051Z
LAST-MODIFIED:20211109T053051Z
UID:1663434-1636905600-1636911000@ramayogainstitute.com
SUMMARY:Kundalini Yoga & Meditation with Tej
DESCRIPTION:Tej Kaur Khalsa has been a student of traditional Kundalini for over 35 years. She is a Custodian of Kundalini knowledge\, and a recognized authority on the teachings. \nLearn More & Tune In
URL:https://ramayogainstitute.com/event/tej-11-14-21/
CATEGORIES:In Person,RA MA TV Live
ATTACH;FMTTYPE=image/png:https://ramayogainstitute.com/wp-content/uploads/2021/05/tej-cal-icon.png
END:VEVENT
BEGIN:VEVENT
DTSTART;TZID=America/Los_Angeles:20211115T110000
DTEND;TZID=America/Los_Angeles:20211115T123000
DTSTAMP:20260425T045031
CREATED:20211111T210654Z
LAST-MODIFIED:20220819T192653Z
UID:1664218-1636974000-1636979400@ramayogainstitute.com
SUMMARY:Angelic Psyche with Mandev
DESCRIPTION:Mandev Khalsa is an award-winning filmmaker and creator of My Moon Map™\, an IOS mobile app to track your moods and behavior pattern using the ancient yogic science of the moon centers. For years\, Mandev has deeply researched esoteric energetic structures in women’s teachings to discover energy and power. Her App and upcoming film\, “The Moon Centers”\, reveal the unique relationship women have to the moon and how to they can unlock and access these infinite lunar powers. \nLearn More & Tune In
URL:https://ramayogainstitute.com/event/mandev-11-15-21/
CATEGORIES:In Person,RA MA TV Live
END:VEVENT
BEGIN:VEVENT
DTSTART;TZID=America/Los_Angeles:20211116T173000
DTEND;TZID=America/Los_Angeles:20211116T184500
DTSTAMP:20260425T045031
CREATED:20210813T162922Z
LAST-MODIFIED:20211116T212628Z
UID:1640974-1637083800-1637088300@ramayogainstitute.com
SUMMARY:Kundalini Yoga & Meditation with Ram Dharam
DESCRIPTION:Learn More & Tune In
URL:https://ramayogainstitute.com/event/kundalini-yoga-meditation-with-jen-saltiel-2-2021-11-16/
CATEGORIES:In Person,RA MA TV Live
ATTACH;FMTTYPE=image/jpeg:https://ramayogainstitute.com/wp-content/uploads/2020/10/Screen-Shot-2020-10-23-at-8.42.46-PM.jpg
END:VEVENT
BEGIN:VEVENT
DTSTART;TZID=America/Los_Angeles:20211117T110000
DTEND;TZID=America/Los_Angeles:20211117T120000
DTSTAMP:20260425T045031
CREATED:20211008T200042Z
LAST-MODIFIED:20211111T212004Z
UID:1657888-1637146800-1637150400@ramayogainstitute.com
SUMMARY:Kundalini Yoga & Meditation with Marta Ulbricht
DESCRIPTION:Learn More & Tune In
URL:https://ramayogainstitute.com/event/marta-kundalini-11-17-21/
LOCATION:Online on RA MA TV
CATEGORIES:In Person,RA MA TV Live
ATTACH;FMTTYPE=image/jpeg:https://ramayogainstitute.com/wp-content/uploads/2021/08/marta-cal-icon.jpg
END:VEVENT
BEGIN:VEVENT
DTSTART;TZID=America/Los_Angeles:20211118T090000
DTEND;TZID=America/Los_Angeles:20211118T103000
DTSTAMP:20260425T045031
CREATED:20210809T174207Z
LAST-MODIFIED:20211111T212532Z
UID:1640871-1637226000-1637231400@ramayogainstitute.com
SUMMARY:Kundalini Yoga & Meditation with Marta
DESCRIPTION:Learn More & Tune In
URL:https://ramayogainstitute.com/event/marta-kundalini-10-18-21/
CATEGORIES:In Person,RA MA TV Live
ATTACH;FMTTYPE=image/jpeg:https://ramayogainstitute.com/wp-content/uploads/2021/08/marta-cal-icon.jpg
END:VEVENT
BEGIN:VEVENT
DTSTART;TZID=America/Los_Angeles:20211118T110000
DTEND;TZID=America/Los_Angeles:20211118T120000
DTSTAMP:20260425T045031
CREATED:20210813T162003Z
LAST-MODIFIED:20211111T213448Z
UID:1640931-1637233200-1637236800@ramayogainstitute.com
SUMMARY:Kundalini Yoga & Meditation with Teg Prakash
DESCRIPTION:Teg Prakash is a Kundalini Yoga teacher\, astrologer\, and intuitive sound healer with a passionate curiosity for the teachings of Kundalini Yoga\, as taught by Yogi Bhajan\, and seeks to bring people to a true sense of their soul through astrology\, their personal power through yoga\, and their peace through the power of sound.\n \nLearn More & Tune In
URL:https://ramayogainstitute.com/event/teg-prakash-kundalini-11-18-21/
CATEGORIES:In Person,RA MA TV Live
ATTACH;FMTTYPE=image/jpeg:https://ramayogainstitute.com/wp-content/uploads/2021/07/teg-prakash-cal-icon.jpg
END:VEVENT
BEGIN:VEVENT
DTSTART;VALUE=DATE:20211119
DTEND;VALUE=DATE:20211120
DTSTAMP:20260425T045031
CREATED:20210920T210456Z
LAST-MODIFIED:20210920T210456Z
UID:1654027-1637280000-1637366399@ramayogainstitute.com
SUMMARY:Full Moon in Taurus
DESCRIPTION:Learn More & Tune In
URL:https://ramayogainstitute.com/event/full-moon-in-taurus/
CATEGORIES:Community Content,In Person,Pay Per View Workshops,RA MA TV Live
ATTACH;FMTTYPE=image/jpeg:https://ramayogainstitute.com/wp-content/uploads/2021/09/moon-days-cal-icon.jpg
END:VEVENT
BEGIN:VEVENT
DTSTART;TZID=America/Los_Angeles:20211119T090000
DTEND;TZID=America/Los_Angeles:20211119T110000
DTSTAMP:20260425T045031
CREATED:20211111T215225Z
LAST-MODIFIED:20211116T005204Z
UID:1664291-1637312400-1637319600@ramayogainstitute.com
SUMMARY:The Hidden Path with Gurujas
DESCRIPTION:Gurujas teaches that Kundalini Yoga is an experientially-based system–a science of joy\, fulfillment and love. She also believes that happiness is a vibrational frequency\, and can be an enduring state of being. Gurujas is the lead singer of the Grammy Award winning group White Sun. \nLearn More
URL:https://ramayogainstitute.com/event/gurujas-hidden-path-11-19-21/
CATEGORIES:In Person,Pay Per View Workshops
ATTACH;FMTTYPE=image/jpeg:https://ramayogainstitute.com/wp-content/uploads/2021/07/GURUJAS-cal-icon.jpg
END:VEVENT
BEGIN:VEVENT
DTSTART;TZID=America/Los_Angeles:20211119T090000
DTEND;TZID=America/Los_Angeles:20211119T110000
DTSTAMP:20260425T045031
CREATED:20211111T223702Z
LAST-MODIFIED:20211112T004407Z
UID:1664313-1637312400-1637319600@ramayogainstitute.com
SUMMARY:Total Lunar Eclipse in Oaxaca
DESCRIPTION:Guru Jagat is the Founder and CEO and of 7 global businesses including RA MA Institute for Applied Yogic Science and Technology with locations in Venice\, California; Mallorca\, Spain; and New York City. Poet\, yogi and international thought leader\, she is the bestselling author of Invincible Living: The Power of Yoga\, The Energy of Breath\, and Other Tools for a Radiant Life with translations in French\, German and Russian\, and the renegade host of the envelope-pushing podcast\, Reality Riffing. \nLearn More & Tune In
URL:https://ramayogainstitute.com/event/oaxaca-lunar-eclipse-11-19-21/
LOCATION:Online on RA MA TV
CATEGORIES:RA MA TV Live
ATTACH;FMTTYPE=image/jpeg:https://ramayogainstitute.com/wp-content/uploads/2021/08/Oaxaca-Streets_Guru-Jagat-and-Crew_5.21..21_-49.jpg
END:VEVENT
BEGIN:VEVENT
DTSTART;TZID=America/Los_Angeles:20211121T110000
DTEND;TZID=America/Los_Angeles:20211121T123000
DTSTAMP:20260425T045031
CREATED:20211111T221625Z
LAST-MODIFIED:20211121T190432Z
UID:1664303-1637492400-1637497800@ramayogainstitute.com
SUMMARY:Kundalini Yoga & Meditation with Teg Prakash
DESCRIPTION:  \nLearn More & Tune In
URL:https://ramayogainstitute.com/event/vital-warrior-kundalini-11-21-21/
CATEGORIES:In Person,RA MA TV Live
ATTACH;FMTTYPE=image/jpeg:https://ramayogainstitute.com/wp-content/uploads/2021/11/Teg-Prakash.jpg
END:VEVENT
BEGIN:VEVENT
DTSTART;TZID=America/Los_Angeles:20211127T090000
DTEND;TZID=America/Los_Angeles:20211127T103000
DTSTAMP:20260425T045031
CREATED:20210809T174207Z
LAST-MODIFIED:20211126T214727Z
UID:1640874-1638003600-1638009000@ramayogainstitute.com
SUMMARY:Create Inner Space
DESCRIPTION:Learn More & Tune In
URL:https://ramayogainstitute.com/event/celestial-communication-with-shabadpreet-2-2021-11-27/
CATEGORIES:Community Content,RA MA TV Live
ATTACH;FMTTYPE=image/jpeg:https://ramayogainstitute.com/wp-content/uploads/2021/08/Shabadpreet-7.jpg
END:VEVENT
BEGIN:VEVENT
DTSTART;TZID=America/Los_Angeles:20211128T110000
DTEND;TZID=America/Los_Angeles:20211128T123000
DTSTAMP:20260425T045031
CREATED:20211111T221625Z
LAST-MODIFIED:20211126T222738Z
UID:1665938-1638097200-1638102600@ramayogainstitute.com
SUMMARY:Kundalini Yoga & Meditation with Seva Jagat
DESCRIPTION:Learn More & Tune In
URL:https://ramayogainstitute.com/event/vital-warrior-kundalini-11-21-21-2021-11-28/
CATEGORIES:In Person,RA MA TV Live
END:VEVENT
BEGIN:VEVENT
DTSTART;TZID=America/Los_Angeles:20211130T090000
DTEND;TZID=America/Los_Angeles:20211130T103000
DTSTAMP:20260425T045031
CREATED:20211028T002901Z
LAST-MODIFIED:20211130T002425Z
UID:1661305-1638262800-1638268200@ramayogainstitute.com
SUMMARY:Bless This Space
DESCRIPTION:Gurujas teaches that Kundalini Yoga is an experientially-based system–a science of joy\, fulfillment and love. She also believes that happiness is a vibrational frequency\, and can be an enduring state of being. Gurujas is the lead singer of the Grammy Award winning group White Sun. \nLearn More & Tune In
URL:https://ramayogainstitute.com/event/kundalini-yoga-meditation-with-gurujas-11-2021-11-30/
LOCATION:Online
CATEGORIES:Community Content,In Person,RA MA TV Live
ATTACH;FMTTYPE=image/jpeg:https://ramayogainstitute.com/wp-content/uploads/2021/07/Gurujas-3.jpg
END:VEVENT
BEGIN:VEVENT
DTSTART;VALUE=DATE:20211203
DTEND;VALUE=DATE:20211204
DTSTAMP:20260425T045031
CREATED:20210920T210739Z
LAST-MODIFIED:20211201T222128Z
UID:1654030-1638489600-1638575999@ramayogainstitute.com
SUMMARY:New Moon in Sagittarius
DESCRIPTION:Learn More & Tune In
URL:https://ramayogainstitute.com/event/new-moon-in-sagittarius/
LOCATION:Online
CATEGORIES:Community Content,In Person,Pay Per View Workshops,RA MA TV Live
ATTACH;FMTTYPE=image/jpeg:https://ramayogainstitute.com/wp-content/uploads/2021/09/moon-days-cal-icon.jpg
END:VEVENT
BEGIN:VEVENT
DTSTART;TZID=America/Los_Angeles:20211203T090000
DTEND;TZID=America/Los_Angeles:20211203T103000
DTSTAMP:20260425T045031
CREATED:20211130T023719Z
LAST-MODIFIED:20211201T222954Z
UID:1668991-1638522000-1638527400@ramayogainstitute.com
SUMMARY:Solar Brilliance with Gurujas
DESCRIPTION:Gurujas teaches that Kundalini Yoga is an experientially-based system–a science of joy\, fulfillment and love. She also believes that happiness is a vibrational frequency\, and can be an enduring state of being. Gurujas is the lead singer of the Grammy Award winning group White Sun. \nLearn More \nSign Up Online \nSign Up in Person \n 
URL:https://ramayogainstitute.com/event/solar-brilliance-gurujas-12-3-21/
LOCATION:Online on RA MA TV
CATEGORIES:Pay Per View Workshops
ATTACH;FMTTYPE=image/jpeg:https://ramayogainstitute.com/wp-content/uploads/2021/09/Gurujas-11.jpg
END:VEVENT
BEGIN:VEVENT
DTSTART;TZID=America/Los_Angeles:20211203T183000
DTEND;TZID=America/Los_Angeles:20211203T203000
DTSTAMP:20260425T045031
CREATED:20211130T024404Z
LAST-MODIFIED:20211130T024404Z
UID:1669009-1638556200-1638563400@ramayogainstitute.com
SUMMARY:Eclipse Momentum with Harijiwan
DESCRIPTION:Harijiwan has been teaching Kundalini yoga since 1975. Known for his unique Gong playing\, his classes are funny\, profound\, poetic and offer students the opportunity to receive rarified instruction and enjoy vast change. \nLearn More \nSign Up Online \nSign Up In Person
URL:https://ramayogainstitute.com/event/eclipse-momentum-with-harijiwan-12-3-21/
LOCATION:Online
CATEGORIES:In Person,Pay Per View Workshops
ATTACH;FMTTYPE=image/jpeg:https://ramayogainstitute.com/wp-content/uploads/2021/08/harijiwan-cal-icon.jpg
END:VEVENT
BEGIN:VEVENT
DTSTART;TZID=America/Los_Angeles:20211206T090000
DTEND;TZID=America/Los_Angeles:20211206T103000
DTSTAMP:20260425T045031
CREATED:20210809T171040Z
LAST-MODIFIED:20220819T192812Z
UID:1639707-1638781200-1638786600@ramayogainstitute.com
SUMMARY:Kundalini Yoga & Meditation with Mandev
DESCRIPTION:Mandev Khalsa is an award-winning filmmaker and creator of My Moon Map™\, an IOS mobile app to track your moods and behavior pattern using the ancient yogic science of the moon centers. For years\, Mandev has deeply researched esoteric energetic structures in women’s teachings to discover energy and power. \nHer App and upcoming film\, “The Moon Centers”\, reveal the unique relationship women have to the moon and how to they can unlock and access these infinite lunar powers. \nLearn More & Tune In
URL:https://ramayogainstitute.com/event/kundalini-yoga-mandev-12-06-2021/
LOCATION:Online
CATEGORIES:In Person,RA MA TV Live
END:VEVENT
BEGIN:VEVENT
DTSTART;TZID=America/Los_Angeles:20211206T173000
DTEND;TZID=America/Los_Angeles:20211206T190000
DTSTAMP:20260425T045031
CREATED:20211206T203959Z
LAST-MODIFIED:20211206T204027Z
UID:1671779-1638811800-1638817200@ramayogainstitute.com
SUMMARY:Kundalini Yoga & Meditation with Giangeet
DESCRIPTION:Giangeet is a Yogi\, artist\, and founder of Satamber \nLearn More & Tune In
URL:https://ramayogainstitute.com/event/giangeet-12-6-2021/
LOCATION:Online
CATEGORIES:In Person,RA MA TV Live
ATTACH;FMTTYPE=image/png:https://ramayogainstitute.com/wp-content/uploads/2021/12/giangeet-cal-icon.png
END:VEVENT
BEGIN:VEVENT
DTSTART;TZID=America/Los_Angeles:20211207T090000
DTEND;TZID=America/Los_Angeles:20211207T103000
DTSTAMP:20260425T045031
CREATED:20211028T002901Z
LAST-MODIFIED:20211201T233351Z
UID:1661307-1638867600-1638873000@ramayogainstitute.com
SUMMARY:Kundalini Yoga & Meditation with Gurujas
DESCRIPTION:Gurujas teaches that Kundalini Yoga is an experientially-based system–a science of joy\, fulfillment and love. She also believes that happiness is a vibrational frequency\, and can be an enduring state of being. Gurujas is the lead singer of the Grammy Award winning group White Sun. \nLearn More & Tune In
URL:https://ramayogainstitute.com/event/kundalini-yoga-meditation-with-gurujas-11-2021-12-05-2021-12-07/2021-12-07/
LOCATION:Online
CATEGORIES:In Person,RA MA TV Live
ATTACH;FMTTYPE=image/jpeg:https://ramayogainstitute.com/wp-content/uploads/2021/07/GURUJAS-cal-icon.jpg
END:VEVENT
BEGIN:VEVENT
DTSTART;TZID=America/Los_Angeles:20211207T110000
DTEND;TZID=America/Los_Angeles:20211207T120000
DTSTAMP:20260425T045031
CREATED:20211206T205040Z
LAST-MODIFIED:20211206T205040Z
UID:1671783-1638874800-1638878400@ramayogainstitute.com
SUMMARY:Prosperity Hour with Malyvahn
DESCRIPTION:Malyvahn studied with Tej & Harijiwan. Kundalini Yoga and Meditation was a lighting fast practice for her self growth and healing. An entrepreneur at heart. Her goal is to hold a healing space\, guided by the teachings\, where each student can reach their highest bliss of prosperity! \nLearn More & Tune In
URL:https://ramayogainstitute.com/event/prosperity-malyvahn-12-7-21/
LOCATION:Online
CATEGORIES:In Person,RA MA TV Live
ATTACH;FMTTYPE=image/png:https://ramayogainstitute.com/wp-content/uploads/2021/12/Malyvahn-cal-icon.png
END:VEVENT
BEGIN:VEVENT
DTSTART;TZID=America/Los_Angeles:20211207T190000
DTEND;TZID=America/Los_Angeles:20211207T203000
DTSTAMP:20260425T045031
CREATED:20211204T001218Z
LAST-MODIFIED:20211206T202752Z
UID:1671121-1638903600-1638909000@ramayogainstitute.com
SUMMARY:Kundalini Yoga & Meditation with Shabadpreet
DESCRIPTION:Shabadpreet is a teacher trained in Yogi Bhajan’s healing technologies and various other subtle and physical healing modalities. Since her first encounter with Kundalini Yoga and Meditation in 2008 Shabadpreet has since studied with her teacher Guru Jagat. Kundalini Yoga and Mediation is a lightning fast practice for directly re-connecting with who you are\, cutting through anxiety\, depression\, and other low frequency states\, and freeing up your abundant natural energy. \nLearn More & Tune In
URL:https://ramayogainstitute.com/event/shabadpreet-kundalini-12-7-21/
LOCATION:Online
CATEGORIES:In Person,RA MA TV Live
ATTACH;FMTTYPE=image/jpeg:https://ramayogainstitute.com/wp-content/uploads/2021/08/Shabadpreet-cal-icon-1.jpg
END:VEVENT
END:VCALENDAR