BEGIN:VCALENDAR
VERSION:2.0
PRODID:-//RA MA LIFE - ECPv6.15.15//NONSGML v1.0//EN
CALSCALE:GREGORIAN
METHOD:PUBLISH
X-WR-CALNAME:RA MA LIFE
X-ORIGINAL-URL:https://ramayogainstitute.com
X-WR-CALDESC:Events for RA MA LIFE
REFRESH-INTERVAL;VALUE=DURATION:PT1H
X-Robots-Tag:noindex
X-PUBLISHED-TTL:PT1H
BEGIN:VTIMEZONE
TZID:America/Los_Angeles
BEGIN:DAYLIGHT
TZOFFSETFROM:-0800
TZOFFSETTO:-0700
TZNAME:PDT
DTSTART:20200308T100000
END:DAYLIGHT
BEGIN:STANDARD
TZOFFSETFROM:-0700
TZOFFSETTO:-0800
TZNAME:PST
DTSTART:20201101T090000
END:STANDARD
BEGIN:DAYLIGHT
TZOFFSETFROM:-0800
TZOFFSETTO:-0700
TZNAME:PDT
DTSTART:20210314T100000
END:DAYLIGHT
BEGIN:STANDARD
TZOFFSETFROM:-0700
TZOFFSETTO:-0800
TZNAME:PST
DTSTART:20211107T090000
END:STANDARD
BEGIN:DAYLIGHT
TZOFFSETFROM:-0800
TZOFFSETTO:-0700
TZNAME:PDT
DTSTART:20220313T100000
END:DAYLIGHT
BEGIN:STANDARD
TZOFFSETFROM:-0700
TZOFFSETTO:-0800
TZNAME:PST
DTSTART:20221106T090000
END:STANDARD
END:VTIMEZONE
BEGIN:VEVENT
DTSTART;TZID=America/Los_Angeles:20210729T080000
DTEND;TZID=America/Los_Angeles:20210729T170000
DTSTAMP:20260425T084444
CREATED:20210729T214714Z
LAST-MODIFIED:20210729T214714Z
UID:1636424-1627545600-1627578000@ramayogainstitute.com
SUMMARY:Global 8/8 Meditation
DESCRIPTION:Learn More \nTune In
URL:https://ramayogainstitute.com/event/global-8-8-meditation/
LOCATION:Online on RA MA TV
CATEGORIES:Courses & Events,Pay Per View Workshops,RA MA TV Live
ATTACH;FMTTYPE=image/jpeg:https://ramayogainstitute.com/wp-content/uploads/2021/07/HeroLionsRoar_MobileView-1.jpg
END:VEVENT
BEGIN:VEVENT
DTSTART;TZID=America/Los_Angeles:20210728T110000
DTEND;TZID=America/Los_Angeles:20210728T120000
DTSTAMP:20260425T084444
CREATED:20210722T223651Z
LAST-MODIFIED:20210723T223809Z
UID:1634409-1627470000-1627473600@ramayogainstitute.com
SUMMARY:Kundalini Yoga & Meditation with Seva Burmaka
DESCRIPTION:Learn More & Tune In
URL:https://ramayogainstitute.com/event/kundalini-yoga-meditation-with-ra-ma-crew-8/
CATEGORIES:RA MA TV Live
ATTACH;FMTTYPE=image/jpeg:https://ramayogainstitute.com/wp-content/uploads/2021/03/ra-ma-crew-cal-icon.jpg
END:VEVENT
BEGIN:VEVENT
DTSTART;TZID=America/Los_Angeles:20210727T160000
DTEND;TZID=America/Los_Angeles:20210727T171500
DTSTAMP:20260425T084444
CREATED:20210722T222744Z
LAST-MODIFIED:20210722T222744Z
UID:1634404-1627401600-1627406100@ramayogainstitute.com
SUMMARY:RA MA Recovery with Sazha Ramos
DESCRIPTION:Learn More \nTune In
URL:https://ramayogainstitute.com/event/ra-ma-recovery-with-sazha-ramos-2/
LOCATION:Online on RA MA TV
CATEGORIES:RA MA TV Live
ATTACH;FMTTYPE=image/jpeg:https://ramayogainstitute.com/wp-content/uploads/2021/03/sazha-cal-icon.jpg
END:VEVENT
BEGIN:VEVENT
DTSTART;TZID=America/Los_Angeles:20210727T110000
DTEND;TZID=America/Los_Angeles:20210727T120000
DTSTAMP:20260425T084444
CREATED:20210722T223058Z
LAST-MODIFIED:20210723T223559Z
UID:1634406-1627383600-1627387200@ramayogainstitute.com
SUMMARY:Kundalini Yoga & Meditation with Seva Burmaka
DESCRIPTION:Learn More & Tune In
URL:https://ramayogainstitute.com/event/kundalini-yoga-meditation-with-ra-ma-crew-7/
LOCATION:Online on RA MA TV
CATEGORIES:RA MA TV Live
ATTACH;FMTTYPE=image/jpeg:https://ramayogainstitute.com/wp-content/uploads/2021/03/ra-ma-crew-cal-icon.jpg
END:VEVENT
BEGIN:VEVENT
DTSTART;TZID=America/Los_Angeles:20210727T073000
DTEND;TZID=America/Los_Angeles:20210727T083000
DTSTAMP:20260425T084444
CREATED:20210723T175025Z
LAST-MODIFIED:20210723T214523Z
UID:1634735-1627371000-1627374600@ramayogainstitute.com
SUMMARY:Virtual Morning Coffee with Guru Jagat
DESCRIPTION:Complimentary Morning Social with Guru Jagat. \nJoin Live on Zoom
URL:https://ramayogainstitute.com/event/virtual-morning-coffee-with-guru-jagat/
LOCATION:Online on RA MA TV
CATEGORIES:Community Content
ATTACH;FMTTYPE=image/jpeg:https://ramayogainstitute.com/wp-content/uploads/2021/07/Guru-Jagat-cal-icon-5.jpg
END:VEVENT
BEGIN:VEVENT
DTSTART;TZID=America/Los_Angeles:20210726T110000
DTEND;TZID=America/Los_Angeles:20210726T120000
DTSTAMP:20260425T084444
CREATED:20210722T220543Z
LAST-MODIFIED:20210723T215529Z
UID:1634314-1627297200-1627300800@ramayogainstitute.com
SUMMARY:Kundalini Yoga & Meditation with Teg Prakash
DESCRIPTION:Learn More & Tune In
URL:https://ramayogainstitute.com/event/kundalini-yoga-meditation-with-teg-nam-8/
CATEGORIES:RA MA TV Live
ATTACH;FMTTYPE=image/jpeg:https://ramayogainstitute.com/wp-content/uploads/2021/07/teg-prakash-cal-icon.jpg
END:VEVENT
BEGIN:VEVENT
DTSTART;TZID=America/Los_Angeles:20210723T183000
DTEND;TZID=America/Los_Angeles:20210723T203000
DTSTAMP:20260425T084444
CREATED:20210721T220233Z
LAST-MODIFIED:20210721T220233Z
UID:1633910-1627065000-1627072200@ramayogainstitute.com
SUMMARY:Full Moon in Aquarius Kundalini Yoga\, Meditation & Gong with Harijiwan
DESCRIPTION:Learn More \nJoin Online \nJoin In Person
URL:https://ramayogainstitute.com/event/full-moon-in-aquarius-kundalini-yoga-meditation-gong-with-harijiwan/
ATTACH;FMTTYPE=image/jpeg:https://ramayogainstitute.com/wp-content/uploads/2021/07/Harijiwan-cal-icon.jpg
END:VEVENT
BEGIN:VEVENT
DTSTART;TZID=America/Los_Angeles:20210723T104500
DTEND;TZID=America/Los_Angeles:20210723T123000
DTSTAMP:20260425T084444
CREATED:20210721T215236Z
LAST-MODIFIED:20210721T215236Z
UID:1633904-1627037100-1627043400@ramayogainstitute.com
SUMMARY:Aquarius and the Water Blessings\, Full Moon with Guru Jagat
DESCRIPTION:Learn More \nJoin Online \nJoin In Person
URL:https://ramayogainstitute.com/event/aquarius-and-the-water-blessings-full-moon-with-guru-jagat/
ATTACH;FMTTYPE=image/jpeg:https://ramayogainstitute.com/wp-content/uploads/2021/07/guru-jagat-cal-icon.jpg
END:VEVENT
BEGIN:VEVENT
DTSTART;VALUE=DATE:20210722
DTEND;VALUE=DATE:20210726
DTSTAMP:20260425T084444
CREATED:20210722T202642Z
LAST-MODIFIED:20210722T202701Z
UID:1634259-1626912000-1627257599@ramayogainstitute.com
SUMMARY:Kundalini Training: Teaching Fundamentals
DESCRIPTION:Learn More
URL:https://ramayogainstitute.com/event/kundalini-training-teaching-fundamentals/
LOCATION:Online on RA MA TV
CATEGORIES:Courses & Events
ATTACH;FMTTYPE=image/jpeg:https://ramayogainstitute.com/wp-content/uploads/2021/07/kundalini-training-cal-icon.jpg
END:VEVENT
BEGIN:VEVENT
DTSTART;TZID=America/Los_Angeles:20210716T110000
DTEND;TZID=America/Los_Angeles:20210716T120000
DTSTAMP:20260425T084444
CREATED:20210707T170803Z
LAST-MODIFIED:20210716T000854Z
UID:1629797-1626433200-1626436800@ramayogainstitute.com
SUMMARY:Kundalini Yoga & Meditation with Seva Jagat
DESCRIPTION:Learn More & Tune In \nJoin In Person
URL:https://ramayogainstitute.com/event/kundalini-yoga-meditation-with-seva-jagat-8/
CATEGORIES:In Person,RA MA TV Live
ATTACH;FMTTYPE=image/jpeg:https://ramayogainstitute.com/wp-content/uploads/2020/08/Seva-Jagat-2.jpg
END:VEVENT
BEGIN:VEVENT
DTSTART;TZID=America/Los_Angeles:20210713T160000
DTEND;TZID=America/Los_Angeles:20210713T171500
DTSTAMP:20260425T084444
CREATED:20210707T163139Z
LAST-MODIFIED:20210711T213523Z
UID:1629790-1626192000-1626196500@ramayogainstitute.com
SUMMARY:RA MA Recovery with Sazha Ramos
DESCRIPTION:Tune In On Zoom
URL:https://ramayogainstitute.com/event/ra-ma-recovery-with-sazha-ramos/
LOCATION:Online on RA MA TV
CATEGORIES:Community Content,RA MA TV Live
ATTACH;FMTTYPE=image/jpeg:https://ramayogainstitute.com/wp-content/uploads/2021/02/sazha-ramos-teacher-collections-icon.jpeg
END:VEVENT
BEGIN:VEVENT
DTSTART;TZID=America/Los_Angeles:20210711T060000
DTEND;TZID=America/Los_Angeles:20210711T080000
DTSTAMP:20260425T084444
CREATED:20210708T232658Z
LAST-MODIFIED:20210710T003618Z
UID:1630018-1625983200-1625990400@ramayogainstitute.com
SUMMARY:Inner Re-Sourcing | Sound Check: A Vibratory Field Recalibration with Guru Jagat
DESCRIPTION:Inner Re-Sourcing: \nA Mega Healing New Moon in Cancer Immersion LIVE from Berlin with Guru Jagat \nSunday\, July 11\, 2021 \n6:00am – 8:00am PDT | 9:00am – 11:00am EDT | 3:00pm – 5:00pm CEST \nParticipate LIVE or virtually with infinite replay \n$55 Per Workshop or $199 for the Bundle of 4 \nComplimentary for RA MA TV Live Members \nSign Up
URL:https://ramayogainstitute.com/event/inner-re-sourcing-sound-check-a-vibratory-field-recalibration-with-guru-jagat/
CATEGORIES:RA MA TV Live
ATTACH;FMTTYPE=image/jpeg:https://ramayogainstitute.com/wp-content/uploads/2021/07/BerlinResidency_HeroBanner2.jpg
END:VEVENT
BEGIN:VEVENT
DTSTART;TZID=America/Los_Angeles:20210710T060000
DTEND;TZID=America/Los_Angeles:20210710T080000
DTSTAMP:20260425T084444
CREATED:20210630T220136Z
LAST-MODIFIED:20210710T003602Z
UID:1628616-1625896800-1625904000@ramayogainstitute.com
SUMMARY:Inner Re-Sourcing | Deep Tissue: Cellular Self Healing
DESCRIPTION:Inner Re-Sourcing \nA Mega Healing New Moon in Cancer Immersion LIVE from Berlin with Guru Jagat \nParticipate LIVE or virtually with infinite replay \n$55 Per Workshop or $199 for the Bundle of 4 \nComplimentary for RA MA TV Live Members \nLearn More & Tune In
URL:https://ramayogainstitute.com/event/deep-tissue-cellular-self-healing-an-evening-of-inner-restoration-gong/
CATEGORIES:Pay Per View Workshops,RA MA TV Live
ATTACH;FMTTYPE=image/jpeg:https://ramayogainstitute.com/wp-content/uploads/2021/07/BerlinResidency_HeroBanner2.jpg
END:VEVENT
BEGIN:VEVENT
DTSTART;TZID=America/Los_Angeles:20210709T180000
DTEND;TZID=America/Los_Angeles:20210709T200000
DTSTAMP:20260425T084444
CREATED:20210630T215405Z
LAST-MODIFIED:20210709T142841Z
UID:1628614-1625853600-1625860800@ramayogainstitute.com
SUMMARY:New Moon in Cancer with Harijiwan
DESCRIPTION:Learn More \nTune In \nJoin in Person
URL:https://ramayogainstitute.com/event/new-moon-in-cancer-with-harijiwan/
LOCATION:Online on RA MA TV
CATEGORIES:Pay Per View Workshops
ATTACH;FMTTYPE=image/jpeg:https://ramayogainstitute.com/wp-content/uploads/2021/05/Harijiwan-Taurus.jpeg
END:VEVENT
BEGIN:VEVENT
DTSTART;VALUE=DATE:20210709
DTEND;VALUE=DATE:20210712
DTSTAMP:20260425T084444
CREATED:20210608T171858Z
LAST-MODIFIED:20210709T142502Z
UID:1622495-1625788800-1626047999@ramayogainstitute.com
SUMMARY:Guru Jagat in Berlin
DESCRIPTION:Guru Jagat live from the Michelberger Hotel in Berlin.
URL:https://ramayogainstitute.com/event/guru-jagat-in-berlin/
CATEGORIES:In Person,RA MA TV Live
ATTACH;FMTTYPE=image/jpeg:https://ramayogainstitute.com/wp-content/uploads/2021/07/BerlinResidency_HeroBanner2.jpg
END:VEVENT
BEGIN:VEVENT
DTSTART;TZID=America/Los_Angeles:20210707T110000
DTEND;TZID=America/Los_Angeles:20210707T123000
DTSTAMP:20260425T084444
CREATED:20210630T211325Z
LAST-MODIFIED:20210707T001636Z
UID:1628584-1625655600-1625661000@ramayogainstitute.com
SUMMARY:Kundalini Yoga & Meditation with Shabad Atma
DESCRIPTION:Learn More & Tune In
URL:https://ramayogainstitute.com/event/kundalini-yoga-meditation-with-ra-ma-crew-6/
LOCATION:Online on RA MA TV
CATEGORIES:RA MA TV Live
ATTACH;FMTTYPE=image/png:https://ramayogainstitute.com/wp-content/uploads/2021/03/shabad-cal-icon.png
END:VEVENT
BEGIN:VEVENT
DTSTART;TZID=America/Los_Angeles:20210706T073000
DTEND;TZID=America/Los_Angeles:20210706T083000
DTSTAMP:20260425T084444
CREATED:20210628T175209Z
LAST-MODIFIED:20210701T044910Z
UID:1628130-1625556600-1625560200@ramayogainstitute.com
SUMMARY:Future of Fitness with Joie Ruggiero
DESCRIPTION:Everything a workout should be. \nTraditional workouts only focus on your physical body. Future of Fitness: High Fidelity Physicality is a new way to workout that moves ALL of you—aka your whole mental\, physical & emotional anatomy. This 60-minute experience with Guru Jagat is full of potent exercises packed with vital energy to bring your body and mind the boost it needs today. Work up a glistening sweat\, followed by a series of youth-ing meditations to reverse the aging process from the inside out. \n\nAbout Joie Ruggiero: \nA second generation student of the technology of Kundalini Yoga\, Joie Ruggiero has had the profound privilege to discover how a devotional practice can express human experience in higher octaves from birth. After studying music\, ballet and modern dance\, she began her career in the boutique fitness space\, working with elite clientele all over the world\, hosting her first fitness retreat\, and building her personal training business\, Haumea Athletics. \n\nLearn More & Tune In
URL:https://ramayogainstitute.com/event/future-of-fitness-with-joie-ruggiero/2021-07-06/
LOCATION:Online on RA MA TV
CATEGORIES:In Person,RA MA TV Live
ATTACH;FMTTYPE=image/jpeg:https://ramayogainstitute.com/wp-content/uploads/2021/06/Joie-Ruggiero-Calendar-icon.jpg
END:VEVENT
BEGIN:VEVENT
DTSTART;TZID=America/Los_Angeles:20210705T110000
DTEND;TZID=America/Los_Angeles:20210705T123000
DTSTAMP:20260425T084444
CREATED:20210630T204049Z
LAST-MODIFIED:20210630T204049Z
UID:1628565-1625482800-1625488200@ramayogainstitute.com
SUMMARY:Kundalini Yoga & Meditation with Teg Prakash
DESCRIPTION:Learn More & Tune In
URL:https://ramayogainstitute.com/event/kundalini-yoga-meditation-with-teg-prakash-14/
LOCATION:Online on RA MA TV
CATEGORIES:RA MA TV Live
ATTACH;FMTTYPE=image/jpeg:https://ramayogainstitute.com/wp-content/uploads/2021/03/teg-prakash-about.jpg
END:VEVENT
BEGIN:VEVENT
DTSTART;TZID=America/Los_Angeles:20210705T090000
DTEND;TZID=America/Los_Angeles:20210705T103000
DTSTAMP:20260425T084444
CREATED:20210630T203635Z
LAST-MODIFIED:20210630T203806Z
UID:1628562-1625475600-1625481000@ramayogainstitute.com
SUMMARY:Mallorca Residency with Guru Jagat
DESCRIPTION:Learn More & Tune In
URL:https://ramayogainstitute.com/event/mallorca-residency-with-guru-jagat-3/
LOCATION:Online on RA MA TV
CATEGORIES:RA MA TV Live
ATTACH;FMTTYPE=image/jpeg:https://ramayogainstitute.com/wp-content/uploads/2021/06/RAMA_GracesMallorca_Image_Long5.jpg
END:VEVENT
BEGIN:VEVENT
DTSTART;TZID=America/Los_Angeles:20210704T160000
DTEND;TZID=America/Los_Angeles:20210704T173000
DTSTAMP:20260425T084444
CREATED:20210507T210645Z
LAST-MODIFIED:20210703T151042Z
UID:1616680-1625414400-1625419800@ramayogainstitute.com
SUMMARY:Consciously Resurrect Yourself with Tej
DESCRIPTION:Tej Kaur Khalsa’s Kundalini Yoga & Meditation classes will take you inside the depths of you.  All ages and levels of experience are welcome to participate. \nWATCH LIVE ON RA MA TV or In-Person at RA MA Institute Venice.  Click Here to register to attend in person. \nLearn More about Tej here. \n 
URL:https://ramayogainstitute.com/event/kundalini-yoga-and-meditation-with-tej-2021-07-04/
CATEGORIES:In Person,RA MA TV Live
ATTACH;FMTTYPE=image/png:https://ramayogainstitute.com/wp-content/uploads/2020/02/tej.png
END:VEVENT
BEGIN:VEVENT
DTSTART;TZID=America/Los_Angeles:20210703T000000
DTEND;TZID=America/Los_Angeles:20210703T013000
DTSTAMP:20260425T084444
CREATED:20210626T000925Z
LAST-MODIFIED:20210627T192045Z
UID:1627768-1625270400-1625275800@ramayogainstitute.com
SUMMARY:Path of Creativity Immersion: The Rhythmic Self with Guru Jagat
DESCRIPTION:Learn More & Tune In
URL:https://ramayogainstitute.com/event/path-of-creativity-immersion-the-rhythmic-self-with-guru-jagat/2021-07-03/
LOCATION:Online on RA MA TV
CATEGORIES:RA MA TV Live
ATTACH;FMTTYPE=image/jpeg:https://ramayogainstitute.com/wp-content/uploads/2021/06/RAMA_CreativityImmersion_WebImage2.jpg
END:VEVENT
BEGIN:VEVENT
DTSTART;VALUE=DATE:20210702
DTEND;VALUE=DATE:20210705
DTSTAMP:20260425T084444
CREATED:20210618T193114Z
LAST-MODIFIED:20210626T155749Z
UID:1625380-1625184000-1625443199@ramayogainstitute.com
SUMMARY:The Path of Creativity: A Weekend Immersion on Mallorca
DESCRIPTION:$259 Pre-Registration / $329 Regular Pricing. \nPre-Registration Ends June 25\, 2021. \nA weekend creativity immersion on the island of Mallorca with Guru Jagat. This event will be available for in-person participation and will additionally be streaming online. \nLearn More \nSign Up Online \nSave Your In-Person Spot. \n 
URL:https://ramayogainstitute.com/event/the-path-of-creativity-a-weekend-immersion-on-mallorca-2/
CATEGORIES:In Person
ATTACH;FMTTYPE=image/jpeg:https://ramayogainstitute.com/wp-content/uploads/2021/06/RAMA_CreativityImmersion_WebImage2-1.jpg
END:VEVENT
BEGIN:VEVENT
DTSTART;VALUE=DATE:20210702
DTEND;VALUE=DATE:20210705
DTSTAMP:20260425T084444
CREATED:20210608T171504Z
LAST-MODIFIED:20210626T155835Z
UID:1622493-1625184000-1625443199@ramayogainstitute.com
SUMMARY:The Path of Creativity\, A Weekend Immersion on Mallorca
DESCRIPTION:A non-residential weekend immersion. \nComing Soon
URL:https://ramayogainstitute.com/event/the-path-of-creativity-a-weekend-immersion-on-mallorca/
LOCATION:RA MA Institute Mallorca\, Carrer de Despuig\, 51\, Palma\, Illes Balears\, 07013\, Spain
CATEGORIES:In Person
ATTACH;FMTTYPE=image/jpeg:https://ramayogainstitute.com/wp-content/uploads/2020/02/mallorca-trippin.jpg
END:VEVENT
BEGIN:VEVENT
DTSTART;TZID=America/Los_Angeles:20210701T073000
DTEND;TZID=America/Los_Angeles:20210701T083000
DTSTAMP:20260425T084444
CREATED:20210625T234822Z
LAST-MODIFIED:20210625T234822Z
UID:1627755-1625124600-1625128200@ramayogainstitute.com
SUMMARY:Future of Fitness with Rebecca Johnston
DESCRIPTION:Join Live on Zoom
URL:https://ramayogainstitute.com/event/future-of-fitness-with-rebecca-johnston/
LOCATION:Online on RA MA TV
CATEGORIES:RA MA TV Live
ATTACH;FMTTYPE=image/jpeg:https://ramayogainstitute.com/wp-content/uploads/2021/02/rebecca_johnston_teacher_collection_thumbnail.jpeg
END:VEVENT
BEGIN:VEVENT
DTSTART;TZID=America/Los_Angeles:20210701T000000
DTEND;TZID=America/Los_Angeles:20210701T013000
DTSTAMP:20260425T084444
CREATED:20210625T233815Z
LAST-MODIFIED:20210627T192245Z
UID:1627750-1625097600-1625103000@ramayogainstitute.com
SUMMARY:Mallorca Residency with Guru Jagat
DESCRIPTION:Learn More & Tune In
URL:https://ramayogainstitute.com/event/mallorca-residency-with-guru-jagat/
LOCATION:Online on RA MA TV
CATEGORIES:RA MA TV Live
ATTACH;FMTTYPE=image/jpeg:https://ramayogainstitute.com/wp-content/uploads/2021/06/Guru-Jagat-in-Residence-at-Mallorca.jpg
END:VEVENT
BEGIN:VEVENT
DTSTART;TZID=America/Los_Angeles:20210629T000000
DTEND;TZID=America/Los_Angeles:20210629T020000
DTSTAMP:20260425T084444
CREATED:20210621T171348Z
LAST-MODIFIED:20210626T030903Z
UID:1626562-1624924800-1624932000@ramayogainstitute.com
SUMMARY:Inner Vistas Deia Closing Workshop
DESCRIPTION:Special Mallorca Workshop \nJoin in Person
URL:https://ramayogainstitute.com/event/inner-vistas-deia-closing-workshop/
CATEGORIES:In Person
ATTACH;FMTTYPE=image/jpeg:https://ramayogainstitute.com/wp-content/uploads/2021/03/Guru-Jagat-16.jpg
END:VEVENT
BEGIN:VEVENT
DTSTART;TZID=America/Los_Angeles:20210628T110000
DTEND;TZID=America/Los_Angeles:20210628T123000
DTSTAMP:20260425T084444
CREATED:20210625T230634Z
LAST-MODIFIED:20210701T044539Z
UID:1627726-1624878000-1624883400@ramayogainstitute.com
SUMMARY:Kundalini Yoga & Meditation with Teg Prakash
DESCRIPTION:Learn More & Tune In
URL:https://ramayogainstitute.com/event/kundalini-yoga-meditation-with-ra-ma-crew-5/2021-06-28/
LOCATION:Online on RA MA TV
CATEGORIES:RA MA TV Live
ATTACH;FMTTYPE=image/jpeg:https://ramayogainstitute.com/wp-content/uploads/2020/03/Teg-Prakash.jpg
END:VEVENT
BEGIN:VEVENT
DTSTART;VALUE=DATE:20210623
DTEND;VALUE=DATE:20210630
DTSTAMP:20260425T084444
CREATED:20210608T171225Z
LAST-MODIFIED:20210626T160902Z
UID:1622489-1624406400-1625011199@ramayogainstitute.com
SUMMARY:Deia Sunrise & Sunset
DESCRIPTION:Learn More & Sign Up
URL:https://ramayogainstitute.com/event/deia-sunrise-sunset/
LOCATION:RA MA Institute Mallorca\, Carrer de Despuig\, 51\, Palma\, Illes Balears\, 07013\, Spain
CATEGORIES:In Person
ATTACH;FMTTYPE=image/jpeg:https://ramayogainstitute.com/wp-content/uploads/2021/03/TheGraces_Mexico_WebBanner.jpg
END:VEVENT
BEGIN:VEVENT
DTSTART;TZID=America/Los_Angeles:20210621T090000
DTEND;TZID=America/Los_Angeles:20210621T120000
DTSTAMP:20260425T084444
CREATED:20210621T170625Z
LAST-MODIFIED:20210621T170625Z
UID:1626560-1624266000-1624276800@ramayogainstitute.com
SUMMARY:Perpetual Soul Song Plus Dinner En Blanc
DESCRIPTION:Join in Person
URL:https://ramayogainstitute.com/event/perpetual-soul-song-plus-dinner-en-blanc/
CATEGORIES:In Person,RA MA TV Live
ATTACH;FMTTYPE=image/jpeg:https://ramayogainstitute.com/wp-content/uploads/2021/06/RAMA_GracesMallorca_Image_Long5.jpg
END:VEVENT
BEGIN:VEVENT
DTSTART;TZID=America/Los_Angeles:20210619T180000
DTEND;TZID=America/Los_Angeles:20210619T200000
DTSTAMP:20260425T084444
CREATED:20210614T015412Z
LAST-MODIFIED:20210614T015412Z
UID:1624000-1624125600-1624132800@ramayogainstitute.com
SUMMARY:10th Day of the Moon With Harijiwan
DESCRIPTION:Learn More \n 
URL:https://ramayogainstitute.com/event/10th-day-of-the-moon-with-harijiwan-7/
LOCATION:Online on RA MA TV
CATEGORIES:Pay Per View Workshops
ATTACH;FMTTYPE=image/jpeg:https://ramayogainstitute.com/wp-content/uploads/2021/04/harijiwan-moon-days-calendar-icon.jpg
END:VEVENT
END:VCALENDAR