BEGIN:VCALENDAR
VERSION:2.0
PRODID:-//RA MA LIFE - ECPv6.15.15//NONSGML v1.0//EN
CALSCALE:GREGORIAN
METHOD:PUBLISH
X-WR-CALNAME:RA MA LIFE
X-ORIGINAL-URL:https://ramayogainstitute.com
X-WR-CALDESC:Events for RA MA LIFE
REFRESH-INTERVAL;VALUE=DURATION:PT1H
X-Robots-Tag:noindex
X-PUBLISHED-TTL:PT1H
BEGIN:VTIMEZONE
TZID:America/Los_Angeles
BEGIN:DAYLIGHT
TZOFFSETFROM:-0800
TZOFFSETTO:-0700
TZNAME:PDT
DTSTART:20200308T100000
END:DAYLIGHT
BEGIN:STANDARD
TZOFFSETFROM:-0700
TZOFFSETTO:-0800
TZNAME:PST
DTSTART:20201101T090000
END:STANDARD
BEGIN:DAYLIGHT
TZOFFSETFROM:-0800
TZOFFSETTO:-0700
TZNAME:PDT
DTSTART:20210314T100000
END:DAYLIGHT
BEGIN:STANDARD
TZOFFSETFROM:-0700
TZOFFSETTO:-0800
TZNAME:PST
DTSTART:20211107T090000
END:STANDARD
BEGIN:DAYLIGHT
TZOFFSETFROM:-0800
TZOFFSETTO:-0700
TZNAME:PDT
DTSTART:20220313T100000
END:DAYLIGHT
BEGIN:STANDARD
TZOFFSETFROM:-0700
TZOFFSETTO:-0800
TZNAME:PST
DTSTART:20221106T090000
END:STANDARD
END:VTIMEZONE
BEGIN:VEVENT
DTSTART;TZID=America/Los_Angeles:20210629T000000
DTEND;TZID=America/Los_Angeles:20210629T020000
DTSTAMP:20260425T140800
CREATED:20210621T171348Z
LAST-MODIFIED:20210626T030903Z
UID:1626562-1624924800-1624932000@ramayogainstitute.com
SUMMARY:Inner Vistas Deia Closing Workshop
DESCRIPTION:Special Mallorca Workshop \nJoin in Person
URL:https://ramayogainstitute.com/event/inner-vistas-deia-closing-workshop/
CATEGORIES:In Person
ATTACH;FMTTYPE=image/jpeg:https://ramayogainstitute.com/wp-content/uploads/2021/03/Guru-Jagat-16.jpg
END:VEVENT
BEGIN:VEVENT
DTSTART;TZID=America/Los_Angeles:20210628T110000
DTEND;TZID=America/Los_Angeles:20210628T123000
DTSTAMP:20260425T140800
CREATED:20210625T230634Z
LAST-MODIFIED:20210701T044539Z
UID:1627726-1624878000-1624883400@ramayogainstitute.com
SUMMARY:Kundalini Yoga & Meditation with Teg Prakash
DESCRIPTION:Learn More & Tune In
URL:https://ramayogainstitute.com/event/kundalini-yoga-meditation-with-ra-ma-crew-5/2021-06-28/
LOCATION:Online on RA MA TV
CATEGORIES:RA MA TV Live
ATTACH;FMTTYPE=image/jpeg:https://ramayogainstitute.com/wp-content/uploads/2020/03/Teg-Prakash.jpg
END:VEVENT
BEGIN:VEVENT
DTSTART;VALUE=DATE:20210623
DTEND;VALUE=DATE:20210630
DTSTAMP:20260425T140800
CREATED:20210608T171225Z
LAST-MODIFIED:20210626T160902Z
UID:1622489-1624406400-1625011199@ramayogainstitute.com
SUMMARY:Deia Sunrise & Sunset
DESCRIPTION:Learn More & Sign Up
URL:https://ramayogainstitute.com/event/deia-sunrise-sunset/
LOCATION:RA MA Institute Mallorca\, Carrer de Despuig\, 51\, Palma\, Illes Balears\, 07013\, Spain
CATEGORIES:In Person
ATTACH;FMTTYPE=image/jpeg:https://ramayogainstitute.com/wp-content/uploads/2021/03/TheGraces_Mexico_WebBanner.jpg
END:VEVENT
BEGIN:VEVENT
DTSTART;TZID=America/Los_Angeles:20210621T090000
DTEND;TZID=America/Los_Angeles:20210621T120000
DTSTAMP:20260425T140800
CREATED:20210621T170625Z
LAST-MODIFIED:20210621T170625Z
UID:1626560-1624266000-1624276800@ramayogainstitute.com
SUMMARY:Perpetual Soul Song Plus Dinner En Blanc
DESCRIPTION:Join in Person
URL:https://ramayogainstitute.com/event/perpetual-soul-song-plus-dinner-en-blanc/
CATEGORIES:In Person,RA MA TV Live
ATTACH;FMTTYPE=image/jpeg:https://ramayogainstitute.com/wp-content/uploads/2021/06/RAMA_GracesMallorca_Image_Long5.jpg
END:VEVENT
BEGIN:VEVENT
DTSTART;TZID=America/Los_Angeles:20210619T180000
DTEND;TZID=America/Los_Angeles:20210619T200000
DTSTAMP:20260425T140800
CREATED:20210614T015412Z
LAST-MODIFIED:20210614T015412Z
UID:1624000-1624125600-1624132800@ramayogainstitute.com
SUMMARY:10th Day of the Moon With Harijiwan
DESCRIPTION:Learn More \n 
URL:https://ramayogainstitute.com/event/10th-day-of-the-moon-with-harijiwan-7/
LOCATION:Online on RA MA TV
CATEGORIES:Pay Per View Workshops
ATTACH;FMTTYPE=image/jpeg:https://ramayogainstitute.com/wp-content/uploads/2021/04/harijiwan-moon-days-calendar-icon.jpg
END:VEVENT
BEGIN:VEVENT
DTSTART;TZID=America/Los_Angeles:20210619T090000
DTEND;TZID=America/Los_Angeles:20210619T103000
DTSTAMP:20260425T140800
CREATED:20210614T015131Z
LAST-MODIFIED:20210614T015515Z
UID:1623997-1624093200-1624098600@ramayogainstitute.com
SUMMARY:Kundalini Yoga & Meditation With Siri Shakti
DESCRIPTION:Learn More & Tune In
URL:https://ramayogainstitute.com/event/kundalini-yoga-meditation-with-siri-shakti-6/
LOCATION:Online on RA MA TV
CATEGORIES:RA MA TV Live
ATTACH;FMTTYPE=image/jpeg:https://ramayogainstitute.com/wp-content/uploads/2021/03/Siri-Shakti-Kaur.jpg
END:VEVENT
BEGIN:VEVENT
DTSTART;TZID=America/Los_Angeles:20210619T000000
DTEND;TZID=America/Los_Angeles:20210619T013000
DTSTAMP:20260425T140800
CREATED:20210616T071658Z
LAST-MODIFIED:20210618T231706Z
UID:1624635-1624060800-1624066200@ramayogainstitute.com
SUMMARY:Beam on Destiny: Kundalini Yoga & Meditation with Guru Jagat
DESCRIPTION:Learn More & Tune In
URL:https://ramayogainstitute.com/event/beam-on-destiny-kundalini-yoga-meditation-with-guru-jagat/
LOCATION:Online on RA MA TV
CATEGORIES:RA MA TV Live
ATTACH;FMTTYPE=image/jpeg:https://ramayogainstitute.com/wp-content/uploads/2021/06/Guru-Jagat-in-Residence-at-Mallorca.jpg
END:VEVENT
BEGIN:VEVENT
DTSTART;TZID=America/Los_Angeles:20210618T190000
DTEND;TZID=America/Los_Angeles:20210618T210000
DTSTAMP:20260425T140800
CREATED:20210618T162932Z
LAST-MODIFIED:20210618T163145Z
UID:1625300-1624042800-1624050000@ramayogainstitute.com
SUMMARY:Making Contact Pre-Disclosure with Alan Steinfeld & Guests
DESCRIPTION:You are invited to attend the west coast book launch of Alan Steinfeld’s new UFO book: Making Contact: Preparing for the New Realities of Extraterrestrial Existence. \nThe government can no longer hide the truth about alien visitors\, but they cannot explain who and why they are here. The book and the talks tonight is to present the conviction that we belong to a greater ecology of consciousness which include other intelligences in the universe. \nThe evening will include presentations by those in the ET Contact movement including: \nAlan Steinfeld\, author of Making Contact\nDrs. JJ and Desiree Hurtak\, contributors to the book & UFO historians\nKimberly Meredith\, a messenger of higher consciousness \nWe are about to step into that knowing and all of us who will gather at RA MA are part of ushering in a planetary awakening. \nTune In Online \nRSVP For Complimentary In-Person Event
URL:https://ramayogainstitute.com/event/making-contact-pre-disclosure-with-alan-steinfeld-guests/
CATEGORIES:In Person,RA MA TV Live
ATTACH;FMTTYPE=image/jpeg:https://ramayogainstitute.com/wp-content/uploads/2021/06/alan-steinfield-event-icon-e1624033650396.jpg
END:VEVENT
BEGIN:VEVENT
DTSTART;TZID=America/Los_Angeles:20210618T110000
DTEND;TZID=America/Los_Angeles:20210618T120000
DTSTAMP:20260425T140800
CREATED:20210614T014749Z
LAST-MODIFIED:20210618T163858Z
UID:1623995-1624014000-1624017600@ramayogainstitute.com
SUMMARY:Kundalini Yoga & Meditation With Teg Prakash
DESCRIPTION:Learn More & Tune In
URL:https://ramayogainstitute.com/event/kundalini-yoga-meditation-with-ra-ma-crew-4/
LOCATION:Online on RA MA TV
CATEGORIES:RA MA TV Live
ATTACH;FMTTYPE=image/jpeg:https://ramayogainstitute.com/wp-content/uploads/2020/08/Screen-Shot-2020-07-25-at-1.35.47-PM.jpg
END:VEVENT
BEGIN:VEVENT
DTSTART;TZID=America/Los_Angeles:20210614T190000
DTEND;TZID=America/Los_Angeles:20210614T203000
DTSTAMP:20260425T140800
CREATED:20210614T005949Z
LAST-MODIFIED:20210614T033043Z
UID:1623950-1623697200-1623702600@ramayogainstitute.com
SUMMARY:Breathe & Gong with Guru Jagat
DESCRIPTION:Learn More & Sign Up
URL:https://ramayogainstitute.com/event/breathe-gong-with-guru-jagat/
LOCATION:Online on RA MA TV
CATEGORIES:In Person,RA MA TV Live
ATTACH;FMTTYPE=image/jpeg:https://ramayogainstitute.com/wp-content/uploads/2021/02/Guru-Jagat-10.jpg
END:VEVENT
BEGIN:VEVENT
DTSTART;TZID=America/Los_Angeles:20210612T090000
DTEND;TZID=America/Los_Angeles:20210612T103000
DTSTAMP:20260425T140800
CREATED:20210604T000256Z
LAST-MODIFIED:20210608T063222Z
UID:1621605-1623488400-1623493800@ramayogainstitute.com
SUMMARY:Venus Gate: Discover The Self
DESCRIPTION:Learn More & Tune In \nJoin In Person
URL:https://ramayogainstitute.com/event/kundalini-yoga-meditation-with-guru-jagat-15/
LOCATION:Online on RA MA TV
CATEGORIES:RA MA TV Live
ATTACH;FMTTYPE=image/jpeg:https://ramayogainstitute.com/wp-content/uploads/2021/03/Guru-Jagat-16.jpg
END:VEVENT
BEGIN:VEVENT
DTSTART;TZID=America/Los_Angeles:20210610T120000
DTEND;TZID=America/Los_Angeles:20210610T220000
DTSTAMP:20260425T140800
CREATED:20210608T170321Z
LAST-MODIFIED:20210610T135310Z
UID:1622483-1623326400-1623362400@ramayogainstitute.com
SUMMARY:5D Femme Solar Eclipse
DESCRIPTION:Learn More & Sign Up
URL:https://ramayogainstitute.com/event/5d-femme-solar-eclipse/
LOCATION:Online on RA MA TV
CATEGORIES:In Person
ATTACH;FMTTYPE=image/jpeg:https://ramayogainstitute.com/wp-content/uploads/2021/06/IG-5D-Femme-Image-4.jpg
END:VEVENT
BEGIN:VEVENT
DTSTART;TZID=America/Los_Angeles:20210610T120000
DTEND;TZID=America/Los_Angeles:20210610T140000
DTSTAMP:20260425T140800
CREATED:20210601T232218Z
LAST-MODIFIED:20210610T135316Z
UID:1620967-1623326400-1623333600@ramayogainstitute.com
SUMMARY:Ring of Fire Eclipse
DESCRIPTION:Sign Up \nJoin In Person
URL:https://ramayogainstitute.com/event/ring-of-fire-eclipse/
LOCATION:Online on RA MA TV
CATEGORIES:Pay Per View Workshops
ATTACH;FMTTYPE=image/jpeg:https://ramayogainstitute.com/wp-content/uploads/2021/05/Harijiwan-Taurus.jpeg
END:VEVENT
BEGIN:VEVENT
DTSTART;TZID=America/Los_Angeles:20210610T090000
DTEND;TZID=America/Los_Angeles:20210610T110000
DTSTAMP:20260425T140800
CREATED:20210601T232435Z
LAST-MODIFIED:20210610T135322Z
UID:1620971-1623315600-1623322800@ramayogainstitute.com
SUMMARY:New Moon in Gemini with Guru Jagat
DESCRIPTION:Sign Up \nJoin In Person
URL:https://ramayogainstitute.com/event/new-moon-in-gemini-with-guru-jagat/
LOCATION:Online on RA MA TV
CATEGORIES:Pay Per View Workshops
ATTACH;FMTTYPE=image/jpeg:https://ramayogainstitute.com/wp-content/uploads/2020/12/GuruJagat-3Banner.jpg
END:VEVENT
BEGIN:VEVENT
DTSTART;VALUE=DATE:20210606
DTEND;VALUE=DATE:20210615
DTSTAMP:20260425T140800
CREATED:20210608T163728Z
LAST-MODIFIED:20210610T003941Z
UID:1622463-1622937600-1623715199@ramayogainstitute.com
SUMMARY:Hypersonic Summer: A Pre-Solstice Residency
DESCRIPTION:Step inside the studio that started it all — RA MA Institute Venice is full of electrifying energy\, which only increases with your practice. Practice daily Kundalini Yoga & Meditation with Guru Jagat and your favorite teachers. \nLearn More & Sign Up
URL:https://ramayogainstitute.com/event/hypersonic-summer-a-pre-solstice-residency/
CATEGORIES:In Person,RA MA TV Live
ATTACH;FMTTYPE=image/png:https://ramayogainstitute.com/wp-content/uploads/2021/06/guru-jagat-in-venice.png
END:VEVENT
BEGIN:VEVENT
DTSTART;TZID=America/Los_Angeles:20210604T150000
DTEND;TZID=America/Los_Angeles:20210604T163000
DTSTAMP:20260425T140800
CREATED:20210531T205907Z
LAST-MODIFIED:20210531T205907Z
UID:1620603-1622818800-1622824200@ramayogainstitute.com
SUMMARY:Expansive Breathwork & Gong with Guru Jagat
DESCRIPTION:Learn More & Tune In
URL:https://ramayogainstitute.com/event/expansive-breathwork-gong-with-guru-jagat/
LOCATION:Online on RA MA TV
CATEGORIES:RA MA TV Live
ATTACH;FMTTYPE=image/jpeg:https://ramayogainstitute.com/wp-content/uploads/2021/05/Guru-Jagat-6.jpg
END:VEVENT
BEGIN:VEVENT
DTSTART;TZID=America/Los_Angeles:20210604T110000
DTEND;TZID=America/Los_Angeles:20210604T120000
DTSTAMP:20260425T140800
CREATED:20210529T035124Z
LAST-MODIFIED:20210601T164040Z
UID:1620228-1622804400-1622808000@ramayogainstitute.com
SUMMARY:Kundalini Yoga & Meditation with Teg Prakash
DESCRIPTION:Learn More & Tune In
URL:https://ramayogainstitute.com/event/kundalini-yoga-meditation-with-ra-ma-crew-2/
LOCATION:Online on RA MA TV
CATEGORIES:RA MA TV Live
ATTACH;FMTTYPE=image/jpeg:https://ramayogainstitute.com/wp-content/uploads/2020/01/Teg-Prakash.jpg
END:VEVENT
BEGIN:VEVENT
DTSTART;TZID=America/Los_Angeles:20210604T060000
DTEND;TZID=America/Los_Angeles:20210604T073000
DTSTAMP:20260425T140800
CREATED:20210531T204025Z
LAST-MODIFIED:20210531T204025Z
UID:1620592-1622786400-1622791800@ramayogainstitute.com
SUMMARY:Kundalini Yoga & Meditation with Guru Jagat
DESCRIPTION:Learn More & Tune In
URL:https://ramayogainstitute.com/event/kundalini-yoga-meditation-with-guru-jagat-14/
LOCATION:Online on RA MA TV
CATEGORIES:RA MA TV Live
ATTACH;FMTTYPE=image/jpeg:https://ramayogainstitute.com/wp-content/uploads/2021/03/Guru-Jagat-16.jpg
END:VEVENT
BEGIN:VEVENT
DTSTART;TZID=America/Los_Angeles:20210603T160000
DTEND;TZID=America/Los_Angeles:20210603T173000
DTSTAMP:20260425T140800
CREATED:20210531T205707Z
LAST-MODIFIED:20210601T004745Z
UID:1620600-1622736000-1622741400@ramayogainstitute.com
SUMMARY:Radiance Sutras with Guru Jagat
DESCRIPTION:Learn More & Tune In
URL:https://ramayogainstitute.com/event/radiance-sutras-with-guru-jagat/
LOCATION:Online on RA MA TV
CATEGORIES:RA MA TV Live
ATTACH;FMTTYPE=image/jpeg:https://ramayogainstitute.com/wp-content/uploads/2021/05/GuruJagat_MallorcaRetreatSalesPage.jpg
END:VEVENT
BEGIN:VEVENT
DTSTART;TZID=America/Los_Angeles:20210603T060000
DTEND;TZID=America/Los_Angeles:20210603T073000
DTSTAMP:20260425T140800
CREATED:20210531T203905Z
LAST-MODIFIED:20210531T203905Z
UID:1620590-1622700000-1622705400@ramayogainstitute.com
SUMMARY:Kundalini Yoga & Meditation with Guru Jagat
DESCRIPTION:Learn More & Tune In
URL:https://ramayogainstitute.com/event/kundalini-yoga-meditation-with-guru-jagat-13/
LOCATION:Online on RA MA TV
CATEGORIES:RA MA TV Live
ATTACH;FMTTYPE=image/jpeg:https://ramayogainstitute.com/wp-content/uploads/2021/03/Guru-Jagat-16.jpg
END:VEVENT
BEGIN:VEVENT
DTSTART;TZID=America/Los_Angeles:20210602T160000
DTEND;TZID=America/Los_Angeles:20210602T180000
DTSTAMP:20260425T140800
CREATED:20210531T205418Z
LAST-MODIFIED:20210601T231927Z
UID:1620597-1622649600-1622656800@ramayogainstitute.com
SUMMARY:Immense Grace Presents: 5D Femme Teachings
DESCRIPTION:Join In Person \nJoin Online \nLearn More & Tune In
URL:https://ramayogainstitute.com/event/immense-grace-presents-5d-femme-teachings/
LOCATION:Online on RA MA TV
CATEGORIES:Pay Per View Workshops
ATTACH;FMTTYPE=image/jpeg:https://ramayogainstitute.com/wp-content/uploads/2021/03/Guru-Jagat-Radiant-Destiny-Cropped.jpg
END:VEVENT
BEGIN:VEVENT
DTSTART;TZID=America/Los_Angeles:20210602T110000
DTEND;TZID=America/Los_Angeles:20210602T120000
DTSTAMP:20260425T140800
CREATED:20210529T033117Z
LAST-MODIFIED:20210602T022706Z
UID:1620213-1622631600-1622635200@ramayogainstitute.com
SUMMARY:Kundalini Yoga & Meditation With Jai Inder
DESCRIPTION:Learn More & Tune In
URL:https://ramayogainstitute.com/event/kundalini-yoga-meditation-with-ra-ma-crew/
LOCATION:Online on RA MA TV
CATEGORIES:RA MA TV Live
ATTACH;FMTTYPE=image/jpeg:https://ramayogainstitute.com/wp-content/uploads/2021/04/Jai-Inder.jpg
END:VEVENT
BEGIN:VEVENT
DTSTART;TZID=America/Los_Angeles:20210602T060000
DTEND;TZID=America/Los_Angeles:20210602T073000
DTSTAMP:20260425T140800
CREATED:20210531T203617Z
LAST-MODIFIED:20210531T203617Z
UID:1620588-1622613600-1622619000@ramayogainstitute.com
SUMMARY:Kundalini Yoga & Meditation with Guru Jagat
DESCRIPTION:Learn More & Tune In
URL:https://ramayogainstitute.com/event/kundalini-yoga-meditation-with-guru-jagat-12/
LOCATION:Online on RA MA TV
CATEGORIES:RA MA TV Live
ATTACH;FMTTYPE=image/jpeg:https://ramayogainstitute.com/wp-content/uploads/2021/03/Guru-Jagat-16.jpg
END:VEVENT
BEGIN:VEVENT
DTSTART;TZID=America/Los_Angeles:20210601T160000
DTEND;TZID=America/Los_Angeles:20210601T173000
DTSTAMP:20260425T140800
CREATED:20210531T204956Z
LAST-MODIFIED:20210601T173825Z
UID:1620594-1622563200-1622568600@ramayogainstitute.com
SUMMARY:Subtle Body: Kundalini Yoga & Gong with Guru Jagat
DESCRIPTION:Sign Up In Person \nLearn More & Tune In
URL:https://ramayogainstitute.com/event/subtle-body-kundalini-yoga-gong-workshop/
LOCATION:Online on RA MA TV
CATEGORIES:RA MA TV Live
ATTACH;FMTTYPE=image/png:https://ramayogainstitute.com/wp-content/uploads/2021/05/COMMUNE-HOME.png
END:VEVENT
BEGIN:VEVENT
DTSTART;TZID=America/Los_Angeles:20210601T060000
DTEND;TZID=America/Los_Angeles:20210601T073000
DTSTAMP:20260425T140800
CREATED:20210531T201337Z
LAST-MODIFIED:20210531T201337Z
UID:1620576-1622527200-1622532600@ramayogainstitute.com
SUMMARY:Kundalini Yoga & Meditation with Guru Jagat
DESCRIPTION:Learn More & Tune In
URL:https://ramayogainstitute.com/event/kundalini-yoga-meditation-with-guru-jagat-11/
LOCATION:Online on RA MA TV
CATEGORIES:RA MA TV Live
ATTACH;FMTTYPE=image/jpeg:https://ramayogainstitute.com/wp-content/uploads/2021/03/Guru-Jagat-16.jpg
END:VEVENT
BEGIN:VEVENT
DTSTART;TZID=America/Los_Angeles:20210529T180000
DTEND;TZID=America/Los_Angeles:20210529T200000
DTSTAMP:20260425T140800
CREATED:20210526T061322Z
LAST-MODIFIED:20210526T062901Z
UID:1619399-1622311200-1622318400@ramayogainstitute.com
SUMMARY:Super Full Moon Cacao Ceremony with a Mayan Time Keeper
DESCRIPTION:We will gather around the Sacred Crystal Skull Circle and will honor the Moon’s cycle of transformation while Sipping Sacred Elixir of Cacao. Jose will guide you through a contemplation of intergalactic talk about time and space recognition while sounds frequencies of Gong are sent into universal prayers of peace are sent to all realms…. \nSIGN UP
URL:https://ramayogainstitute.com/event/super-full-moon-cacao-ceremony-with-a-mayan-time-keeper/
CATEGORIES:In Person
ATTACH;FMTTYPE=image/jpeg:https://ramayogainstitute.com/wp-content/uploads/2020/04/Screen-Shot-2020-03-26-at-7.55.13-PM-1.jpg
END:VEVENT
BEGIN:VEVENT
DTSTART;TZID=America/Los_Angeles:20210529T090000
DTEND;TZID=America/Los_Angeles:20210529T103000
DTSTAMP:20260425T140800
CREATED:20210521T202822Z
LAST-MODIFIED:20210521T203047Z
UID:1618270-1622278800-1622284200@ramayogainstitute.com
SUMMARY:Kundalini Yoga & Meditation With Guru Jagat
DESCRIPTION:Tune In
URL:https://ramayogainstitute.com/event/kundalini-yoga-meditation-with-guru-jagat/
CATEGORIES:RA MA TV Live
END:VEVENT
BEGIN:VEVENT
DTSTART;TZID=America/Los_Angeles:20210528T090000
DTEND;TZID=America/Los_Angeles:20210528T103000
DTSTAMP:20260425T140800
CREATED:20210529T035359Z
LAST-MODIFIED:20210529T035359Z
UID:1620230-1622192400-1622197800@ramayogainstitute.com
SUMMARY:Kundalini Yoga & Meditation With RA MA Crew
DESCRIPTION:Learn More & Tune In
URL:https://ramayogainstitute.com/event/kundalini-yoga-meditation-with-ra-ma-crew-3/
LOCATION:Online on RA MA TV
CATEGORIES:RA MA TV Live
ATTACH;FMTTYPE=image/jpeg:https://ramayogainstitute.com/wp-content/uploads/2020/02/MG_0529-1.jpg
END:VEVENT
BEGIN:VEVENT
DTSTART;TZID=America/Los_Angeles:20210526T180000
DTEND;TZID=America/Los_Angeles:20210526T200000
DTSTAMP:20260425T140800
CREATED:20210521T201945Z
LAST-MODIFIED:20210521T201945Z
UID:1618267-1622052000-1622059200@ramayogainstitute.com
SUMMARY:Full Moon in Sagittarius with Harijiwan
DESCRIPTION:Learn More \nSign Up
URL:https://ramayogainstitute.com/event/full-moon-in-sagittarius-with-harijiwan/
LOCATION:Online on RA MA TV
CATEGORIES:Pay Per View Workshops,RA MA TV Live
ATTACH;FMTTYPE=image/jpeg:https://ramayogainstitute.com/wp-content/uploads/2021/05/Harijiwan-Taurus.jpeg
END:VEVENT
BEGIN:VEVENT
DTSTART;TZID=America/Los_Angeles:20210526T160000
DTEND;TZID=America/Los_Angeles:20210526T180000
DTSTAMP:20260425T140800
CREATED:20210521T201546Z
LAST-MODIFIED:20210523T215456Z
UID:1618264-1622044800-1622052000@ramayogainstitute.com
SUMMARY:Guru Jagat Live From Oaxaca
DESCRIPTION:Learn More & Tune In
URL:https://ramayogainstitute.com/event/guru-jagat-live-from-oaxaca/
LOCATION:Online on RA MA TV
CATEGORIES:Community Content,RA MA TV Live
ATTACH;FMTTYPE=image/jpeg:https://ramayogainstitute.com/wp-content/uploads/2021/05/RAMA_TotalLunarEclipse_WebBanner.jpg
END:VEVENT
END:VCALENDAR