BEGIN:VCALENDAR
VERSION:2.0
PRODID:-//RA MA LIFE - ECPv6.15.15//NONSGML v1.0//EN
CALSCALE:GREGORIAN
METHOD:PUBLISH
X-WR-CALNAME:RA MA LIFE
X-ORIGINAL-URL:https://ramayogainstitute.com
X-WR-CALDESC:Events for RA MA LIFE
REFRESH-INTERVAL;VALUE=DURATION:PT1H
X-Robots-Tag:noindex
X-PUBLISHED-TTL:PT1H
BEGIN:VTIMEZONE
TZID:America/Los_Angeles
BEGIN:DAYLIGHT
TZOFFSETFROM:-0800
TZOFFSETTO:-0700
TZNAME:PDT
DTSTART:20250309T100000
END:DAYLIGHT
BEGIN:STANDARD
TZOFFSETFROM:-0700
TZOFFSETTO:-0800
TZNAME:PST
DTSTART:20251102T090000
END:STANDARD
BEGIN:DAYLIGHT
TZOFFSETFROM:-0800
TZOFFSETTO:-0700
TZNAME:PDT
DTSTART:20260308T100000
END:DAYLIGHT
BEGIN:STANDARD
TZOFFSETFROM:-0700
TZOFFSETTO:-0800
TZNAME:PST
DTSTART:20261101T090000
END:STANDARD
BEGIN:DAYLIGHT
TZOFFSETFROM:-0800
TZOFFSETTO:-0700
TZNAME:PDT
DTSTART:20270314T100000
END:DAYLIGHT
BEGIN:STANDARD
TZOFFSETFROM:-0700
TZOFFSETTO:-0800
TZNAME:PST
DTSTART:20271107T090000
END:STANDARD
END:VTIMEZONE
BEGIN:VEVENT
DTSTART;TZID=America/Los_Angeles:20260413T083000
DTEND;TZID=America/Los_Angeles:20260413T090000
DTSTAMP:20260421T134436
CREATED:20260223T162404Z
LAST-MODIFIED:20260415T213851Z
UID:2011444-1776069000-1776070800@ramayogainstitute.com
SUMMARY:GLOBAL MEDITATION
DESCRIPTION:
URL:https://ramayogainstitute.com/event/global-meditation-2026-02-25/2026-04-13/
LOCATION:Online on RA MA TV
CATEGORIES:In Person,RA MA TV Live,RA MA TV ZOOM
ATTACH;FMTTYPE=image/jpeg:https://ramayogainstitute.com/wp-content/uploads/2026/02/Sat_Kriya_1-e1773928469437.jpg
END:VEVENT
BEGIN:VEVENT
DTSTART;TZID=America/Los_Angeles:20260414T003000
DTEND;TZID=America/Los_Angeles:20260414T020000
DTSTAMP:20260421T134436
CREATED:20260206T154522Z
LAST-MODIFIED:20260415T221200Z
UID:2013469-1776126600-1776132000@ramayogainstitute.com
SUMMARY:LETTING LIGHT IN | Kundalini Yoga & Meditation
DESCRIPTION:Kundalini yoga and meditation for a soft morning.
URL:https://ramayogainstitute.com/event/letting-light-in-kundalini-yoga-meditation/2026-04-14/
LOCATION:Online on Zoom
CATEGORIES:RA MA TV Live,RA MA TV ZOOM
ATTACH;FMTTYPE=image/jpeg:https://ramayogainstitute.com/wp-content/uploads/2023/03/Johanna.jpeg
END:VEVENT
BEGIN:VEVENT
DTSTART;TZID=America/Los_Angeles:20260414T083000
DTEND;TZID=America/Los_Angeles:20260414T090000
DTSTAMP:20260421T134436
CREATED:20260223T162404Z
LAST-MODIFIED:20260415T213852Z
UID:2011445-1776155400-1776157200@ramayogainstitute.com
SUMMARY:GLOBAL MEDITATION
DESCRIPTION:
URL:https://ramayogainstitute.com/event/global-meditation-2026-02-25/2026-04-14/
LOCATION:Online on RA MA TV
CATEGORIES:In Person,RA MA TV Live,RA MA TV ZOOM
ATTACH;FMTTYPE=image/jpeg:https://ramayogainstitute.com/wp-content/uploads/2026/02/Sat_Kriya_1-e1773928469437.jpg
END:VEVENT
BEGIN:VEVENT
DTSTART;TZID=America/Los_Angeles:20260415T003000
DTEND;TZID=America/Los_Angeles:20260415T020000
DTSTAMP:20260421T134436
CREATED:20260415T040357Z
LAST-MODIFIED:20260415T142230Z
UID:2017691-1776213000-1776218400@ramayogainstitute.com
SUMMARY:CREATING HAPPINESS | with Siri Manprem
DESCRIPTION:
URL:https://ramayogainstitute.com/event/creating-happiness-with-siri-manprem/2026-04-15/
LOCATION:RA MA Institute Mallorca\, Carrer de Despuig\, 51\, Palma\, Illes Balears\, 07013\, Spain
CATEGORIES:In Person,RA MA TV Live
ATTACH;FMTTYPE=image/jpeg:https://ramayogainstitute.com/wp-content/uploads/2026/04/SIRI-MANPREM_katherina-thumbs_3.jpg
END:VEVENT
BEGIN:VEVENT
DTSTART;TZID=America/Los_Angeles:20260415T003000
DTEND;TZID=America/Los_Angeles:20260415T020000
DTSTAMP:20260421T134436
CREATED:20260415T211939Z
LAST-MODIFIED:20260415T221307Z
UID:2017889-1776213000-1776218400@ramayogainstitute.com
SUMMARY:KUNDALINI YOGA & MEDITATION
DESCRIPTION:
URL:https://ramayogainstitute.com/event/kundalini-yoga-meditation-6/2026-04-15/
LOCATION:Online on RA MA TV
CATEGORIES:In Person,RA MA TV Live
ATTACH;FMTTYPE=image/jpeg:https://ramayogainstitute.com/wp-content/uploads/2025/08/Atma-green-wall-01.jpg
END:VEVENT
BEGIN:VEVENT
DTSTART;TZID=America/Los_Angeles:20260415T003000
DTEND;TZID=America/Los_Angeles:20260415T020000
DTSTAMP:20260421T134436
CREATED:20260415T212621Z
LAST-MODIFIED:20260415T221315Z
UID:2017917-1776213000-1776218400@ramayogainstitute.com
SUMMARY:TANTRA & KUNDALINI | with Atma Santokh
DESCRIPTION:
URL:https://ramayogainstitute.com/event/tantra-kundalini-with-atma-santokh/2026-04-15/
LOCATION:Online on RA MA TV
CATEGORIES:In Person,RA MA TV Live
ATTACH;FMTTYPE=image/png:https://ramayogainstitute.com/wp-content/uploads/2025/07/Atma_Santokh_Fitness_5-scaled.png
END:VEVENT
BEGIN:VEVENT
DTSTART;TZID=America/Los_Angeles:20260415T083000
DTEND;TZID=America/Los_Angeles:20260415T090000
DTSTAMP:20260421T134436
CREATED:20260223T162404Z
LAST-MODIFIED:20260415T213853Z
UID:2011446-1776241800-1776243600@ramayogainstitute.com
SUMMARY:GLOBAL MEDITATION
DESCRIPTION:
URL:https://ramayogainstitute.com/event/global-meditation-2026-02-25/2026-04-15/
LOCATION:Online on RA MA TV
CATEGORIES:In Person,RA MA TV Live,RA MA TV ZOOM
ATTACH;FMTTYPE=image/jpeg:https://ramayogainstitute.com/wp-content/uploads/2026/02/Sat_Kriya_1-e1773928469437.jpg
END:VEVENT
BEGIN:VEVENT
DTSTART;TZID=America/Los_Angeles:20260416T003000
DTEND;TZID=America/Los_Angeles:20260416T020000
DTSTAMP:20260421T134436
CREATED:20260415T211939Z
LAST-MODIFIED:20260415T221308Z
UID:2017891-1776299400-1776304800@ramayogainstitute.com
SUMMARY:KUNDALINI YOGA & MEDITATION
DESCRIPTION:
URL:https://ramayogainstitute.com/event/kundalini-yoga-meditation-6/2026-04-16/
LOCATION:Online on RA MA TV
CATEGORIES:In Person,RA MA TV Live
ATTACH;FMTTYPE=image/jpeg:https://ramayogainstitute.com/wp-content/uploads/2025/08/Atma-green-wall-01.jpg
END:VEVENT
BEGIN:VEVENT
DTSTART;TZID=America/Los_Angeles:20260416T070000
DTEND;TZID=America/Los_Angeles:20260416T080000
DTSTAMP:20260421T134436
CREATED:20260223T225402Z
LAST-MODIFIED:20260415T221303Z
UID:2011819-1776322800-1776326400@ramayogainstitute.com
SUMMARY:MANTRA DEEP DIVE
DESCRIPTION:Each week we will chant a different mantra for 31min. \n  \n 
URL:https://ramayogainstitute.com/event/mantra-deep-dive/2026-04-16/
LOCATION:Online on Zoom
CATEGORIES:RA MA TV Live,RA MA TV ZOOM
ATTACH;FMTTYPE=image/jpeg:https://ramayogainstitute.com/wp-content/uploads/2026/03/Global-Meditation-2026_thumb.jpg
END:VEVENT
BEGIN:VEVENT
DTSTART;TZID=America/Los_Angeles:20260416T083000
DTEND;TZID=America/Los_Angeles:20260416T090000
DTSTAMP:20260421T134436
CREATED:20260223T162404Z
LAST-MODIFIED:20260415T213856Z
UID:2011447-1776328200-1776330000@ramayogainstitute.com
SUMMARY:GLOBAL MEDITATION
DESCRIPTION:
URL:https://ramayogainstitute.com/event/global-meditation-2026-02-25/2026-04-16/
LOCATION:Online on RA MA TV
CATEGORIES:In Person,RA MA TV Live,RA MA TV ZOOM
ATTACH;FMTTYPE=image/jpeg:https://ramayogainstitute.com/wp-content/uploads/2026/02/Sat_Kriya_1-e1773928469437.jpg
END:VEVENT
BEGIN:VEVENT
DTSTART;TZID=America/Los_Angeles:20260416T090000
DTEND;TZID=America/Los_Angeles:20260416T103000
DTSTAMP:20260421T134436
CREATED:20260415T040702Z
LAST-MODIFIED:20260415T140415Z
UID:2017719-1776330000-1776335400@ramayogainstitute.com
SUMMARY:REST | with Shabadpreet
DESCRIPTION:
URL:https://ramayogainstitute.com/event/rest-with-shabadpreet/2026-04-16/
LOCATION:RA MA Institute Mallorca\, Carrer de Despuig\, 51\, Palma\, Illes Balears\, 07013\, Spain
CATEGORIES:In Person,RA MA TV Live
ATTACH;FMTTYPE=image/jpeg:https://ramayogainstitute.com/wp-content/uploads/2026/04/shabadpreet_video-thumb.jpg
END:VEVENT
BEGIN:VEVENT
DTSTART;TZID=America/Los_Angeles:20260416T190000
DTEND;TZID=America/Los_Angeles:20260417T080000
DTSTAMP:20260421T134436
CREATED:20260416T141948Z
LAST-MODIFIED:20260416T141948Z
UID:2018465-1776366000-1776412800@ramayogainstitute.com
SUMMARY:AQUARIAN SADHANA
DESCRIPTION:2.5 hours of deep Kundalini Yoga and meditation practice in devotion to self.
URL:https://ramayogainstitute.com/event/aquarian-sadhana-18/2026-04-17/
LOCATION:Online on RA MA TV
CATEGORIES:RA MA TV Live
ATTACH;FMTTYPE=image/jpeg:https://ramayogainstitute.com/wp-content/uploads/2026/03/69-RamaXMondkind-69.jpg
END:VEVENT
BEGIN:VEVENT
DTSTART;TZID=America/Los_Angeles:20260417T003000
DTEND;TZID=America/Los_Angeles:20260417T020000
DTSTAMP:20260421T134436
CREATED:20260415T212621Z
LAST-MODIFIED:20260415T221316Z
UID:2017919-1776385800-1776391200@ramayogainstitute.com
SUMMARY:TANTRA & KUNDALINI | with Atma Santokh
DESCRIPTION:
URL:https://ramayogainstitute.com/event/tantra-kundalini-with-atma-santokh/2026-04-17/
LOCATION:Online on RA MA TV
CATEGORIES:In Person,RA MA TV Live
ATTACH;FMTTYPE=image/png:https://ramayogainstitute.com/wp-content/uploads/2025/07/Atma_Santokh_Fitness_5-scaled.png
END:VEVENT
BEGIN:VEVENT
DTSTART;TZID=America/Los_Angeles:20260417T083000
DTEND;TZID=America/Los_Angeles:20260417T090000
DTSTAMP:20260421T134436
CREATED:20260223T162404Z
LAST-MODIFIED:20260415T213856Z
UID:2011448-1776414600-1776416400@ramayogainstitute.com
SUMMARY:GLOBAL MEDITATION
DESCRIPTION:
URL:https://ramayogainstitute.com/event/global-meditation-2026-02-25/2026-04-17/
LOCATION:Online on RA MA TV
CATEGORIES:In Person,RA MA TV Live,RA MA TV ZOOM
ATTACH;FMTTYPE=image/jpeg:https://ramayogainstitute.com/wp-content/uploads/2026/02/Sat_Kriya_1-e1773928469437.jpg
END:VEVENT
BEGIN:VEVENT
DTSTART;TZID=America/Los_Angeles:20260418T003000
DTEND;TZID=America/Los_Angeles:20260418T020000
DTSTAMP:20260421T134436
CREATED:20260105T152115Z
LAST-MODIFIED:20260415T214456Z
UID:2013891-1776472200-1776477600@ramayogainstitute.com
SUMMARY:KUNDALINI YOGA EN ESPANOL
DESCRIPTION:Kundalini yoga\, meditación y trabajo de respiración with Elizabeth Zanni
URL:https://ramayogainstitute.com/event/activate-kundalini-yoga-meditation/2026-04-18/
LOCATION:Online on RA MA TV
CATEGORIES:In Person,RA MA TV Live
ATTACH;FMTTYPE=image/jpeg:https://ramayogainstitute.com/wp-content/uploads/2026/01/Elisabeth-Fan.jpg
END:VEVENT
BEGIN:VEVENT
DTSTART;TZID=America/Los_Angeles:20260418T083000
DTEND;TZID=America/Los_Angeles:20260418T090000
DTSTAMP:20260421T134436
CREATED:20260223T162404Z
LAST-MODIFIED:20260415T213857Z
UID:2011449-1776501000-1776502800@ramayogainstitute.com
SUMMARY:GLOBAL MEDITATION
DESCRIPTION:
URL:https://ramayogainstitute.com/event/global-meditation-2026-02-25/2026-04-18/
LOCATION:Online on RA MA TV
CATEGORIES:In Person,RA MA TV Live,RA MA TV ZOOM
ATTACH;FMTTYPE=image/jpeg:https://ramayogainstitute.com/wp-content/uploads/2026/02/Sat_Kriya_1-e1773928469437.jpg
END:VEVENT
BEGIN:VEVENT
DTSTART;TZID=America/Los_Angeles:20260419T003000
DTEND;TZID=America/Los_Angeles:20260419T020000
DTSTAMP:20260421T134436
CREATED:20260415T214809Z
LAST-MODIFIED:20260415T214810Z
UID:2018151-1776558600-1776564000@ramayogainstitute.com
SUMMARY:MIND BUILDING | with Teg Prakash
DESCRIPTION:Enhance your focus\, accelerate your thought\, and set positive patterns and habits with deep kundalini yoga\, meditation\, and breathwork.
URL:https://ramayogainstitute.com/event/mind-building-with-teg-prakash/2026-04-19/
LOCATION:Online on RA MA TV
CATEGORIES:In Person,RA MA TV Live
ATTACH;FMTTYPE=image/jpeg:https://ramayogainstitute.com/wp-content/uploads/2025/03/teg_prakash_mallorca_wall_thumb.jpg
END:VEVENT
BEGIN:VEVENT
DTSTART;TZID=America/Los_Angeles:20260419T083000
DTEND;TZID=America/Los_Angeles:20260419T090000
DTSTAMP:20260421T134436
CREATED:20260223T162404Z
LAST-MODIFIED:20260415T213858Z
UID:2011450-1776587400-1776589200@ramayogainstitute.com
SUMMARY:GLOBAL MEDITATION
DESCRIPTION:
URL:https://ramayogainstitute.com/event/global-meditation-2026-02-25/2026-04-19/
LOCATION:Online on RA MA TV
CATEGORIES:In Person,RA MA TV Live,RA MA TV ZOOM
ATTACH;FMTTYPE=image/jpeg:https://ramayogainstitute.com/wp-content/uploads/2026/02/Sat_Kriya_1-e1773928469437.jpg
END:VEVENT
BEGIN:VEVENT
DTSTART;TZID=America/Los_Angeles:20260419T180000
DTEND;TZID=America/Los_Angeles:20260419T193000
DTSTAMP:20260421T134436
CREATED:20260415T215442Z
LAST-MODIFIED:20260415T215443Z
UID:2018220-1776621600-1776627000@ramayogainstitute.com
SUMMARY:THE GOLDEN ARCHIVES | Practice with Guru Jagat
DESCRIPTION:Jump into deep practice with the creator and founder of RA MA Institute\, Guru Jagat with weekly selected sessions from our archive of her past classes.
URL:https://ramayogainstitute.com/event/the-golden-archives-practice-with-guru-jagat/2026-04-19/
LOCATION:Online on RA MA TV
CATEGORIES:In Person,RA MA TV Live
ATTACH;FMTTYPE=image/jpeg:https://ramayogainstitute.com/wp-content/uploads/2025/12/Guru-Jagat-Solstice_Header.jpg
END:VEVENT
BEGIN:VEVENT
DTSTART;TZID=America/Los_Angeles:20260419T190000
DTEND;TZID=America/Los_Angeles:20260420T080000
DTSTAMP:20260421T134436
CREATED:20260416T141948Z
LAST-MODIFIED:20260416T141948Z
UID:2018467-1776625200-1776672000@ramayogainstitute.com
SUMMARY:AQUARIAN SADHANA
DESCRIPTION:2.5 hours of deep Kundalini Yoga and meditation practice in devotion to self.
URL:https://ramayogainstitute.com/event/aquarian-sadhana-18/2026-04-20/
LOCATION:Online on RA MA TV
CATEGORIES:RA MA TV Live
ATTACH;FMTTYPE=image/jpeg:https://ramayogainstitute.com/wp-content/uploads/2026/03/69-RamaXMondkind-69.jpg
END:VEVENT
END:VCALENDAR