BEGIN:VCALENDAR
VERSION:2.0
PRODID:-//RA MA LIFE - ECPv6.15.15//NONSGML v1.0//EN
CALSCALE:GREGORIAN
METHOD:PUBLISH
X-WR-CALNAME:RA MA LIFE
X-ORIGINAL-URL:https://ramayogainstitute.com
X-WR-CALDESC:Events for RA MA LIFE
REFRESH-INTERVAL;VALUE=DURATION:PT1H
X-Robots-Tag:noindex
X-PUBLISHED-TTL:PT1H
BEGIN:VTIMEZONE
TZID:America/Los_Angeles
BEGIN:DAYLIGHT
TZOFFSETFROM:-0800
TZOFFSETTO:-0700
TZNAME:PDT
DTSTART:20220313T100000
END:DAYLIGHT
BEGIN:STANDARD
TZOFFSETFROM:-0700
TZOFFSETTO:-0800
TZNAME:PST
DTSTART:20221106T090000
END:STANDARD
BEGIN:DAYLIGHT
TZOFFSETFROM:-0800
TZOFFSETTO:-0700
TZNAME:PDT
DTSTART:20230312T100000
END:DAYLIGHT
BEGIN:STANDARD
TZOFFSETFROM:-0700
TZOFFSETTO:-0800
TZNAME:PST
DTSTART:20231105T090000
END:STANDARD
BEGIN:DAYLIGHT
TZOFFSETFROM:-0800
TZOFFSETTO:-0700
TZNAME:PDT
DTSTART:20240310T100000
END:DAYLIGHT
BEGIN:STANDARD
TZOFFSETFROM:-0700
TZOFFSETTO:-0800
TZNAME:PST
DTSTART:20241103T090000
END:STANDARD
END:VTIMEZONE
BEGIN:VEVENT
DTSTART;TZID=America/Los_Angeles:20230502T110000
DTEND;TZID=America/Los_Angeles:20230502T120000
DTSTAMP:20260424T125234
CREATED:20230406T215907Z
LAST-MODIFIED:20230721T004418Z
UID:1785926-1683025200-1683028800@ramayogainstitute.com
SUMMARY:Kundalini Yoga & Meditation with Alexis Di Salvo
DESCRIPTION:TUNE IN\nAlexis met her teacher\, Harijiwan in 2012 and in 2013 took her first of many kundalini trainings with Harijiwan and Tej. She began teaching at the brand new RA MA Venice and has been practicing and using the Kundalini Yoga technology to upgrade and expand her potential ever since. \nAlexis is also a mother and successful working actress. She has appeared in several television shows and feature films such as THIS IS US\, GRACE AND FRANKIE\, THE RESIDENT\, JERSEY BOYS AND THE GET DOWN. She also teaches and coaches other actors through Lesly Kahn & Co Acting Studio. \nAlexis loves deepening her daily practice and continuing to study and learn from her teacher\, Harijiwan.
URL:https://ramayogainstitute.com/event/kundalini-yoga-meditation-with-alexis-di-salvo-2/2023-05-02/
LOCATION:Online
CATEGORIES:In Person,RA MA TV Live
ATTACH;FMTTYPE=image/jpeg:https://ramayogainstitute.com/wp-content/uploads/2023/02/Alexis-Krause.jpg
END:VEVENT
BEGIN:VEVENT
DTSTART;TZID=America/Los_Angeles:20230502T160000
DTEND;TZID=America/Los_Angeles:20230502T171500
DTSTAMP:20260424T125234
CREATED:20230428T133900Z
LAST-MODIFIED:20230812T013842Z
UID:1794879-1683043200-1683047700@ramayogainstitute.com
SUMMARY:RA MA Recovery with Sazha Ramos
DESCRIPTION:Tune In
URL:https://ramayogainstitute.com/event/ra-ma-recovery-with-sazha-ramos-3/2023-05-02/
LOCATION:Online on Zoom
CATEGORIES:Community Content,RA MA TV Live
ATTACH;FMTTYPE=image/jpeg:https://ramayogainstitute.com/wp-content/uploads/2021/03/sazha-ramos-teacher-collections-featured.jpg
END:VEVENT
BEGIN:VEVENT
DTSTART;TZID=America/Los_Angeles:20230504T110000
DTEND;TZID=America/Los_Angeles:20230504T120000
DTSTAMP:20260424T125234
CREATED:20230330T004257Z
LAST-MODIFIED:20230430T183411Z
UID:1784422-1683198000-1683201600@ramayogainstitute.com
SUMMARY:Kundalini Yoga & Meditation with Alexis Di Salvo
DESCRIPTION:TUNE IN\nAlexis met her teacher\, Harijiwan in 2012 and in 2013 took her first of many kundalini trainings with Harijiwan and Tej. She began teaching at the brand new RA MA Venice and has been practicing and using the Kundalini Yoga technology to upgrade and expand her potential ever since. \nAlexis is also a mother and successful working actress. She has appeared in several television shows and feature films such as THIS IS US\, GRACE AND FRANKIE\, THE RESIDENT\, JERSEY BOYS AND THE GET DOWN. She also teaches and coaches other actors through Lesly Kahn & Co Acting Studio. \nAlexis loves deepening her daily practice and continuing to study and learn from her teacher\, Harijiwan.
URL:https://ramayogainstitute.com/event/kundalini-yoga-meditation-with-alexis-di-salvo/2023-05-04/
LOCATION:Online
CATEGORIES:In Person,RA MA TV Live
ATTACH;FMTTYPE=image/jpeg:https://ramayogainstitute.com/wp-content/uploads/2019/04/Alexis-Di-Salvo.jpg
END:VEVENT
BEGIN:VEVENT
DTSTART;TZID=America/Los_Angeles:20230506T090000
DTEND;TZID=America/Los_Angeles:20230506T103000
DTSTAMP:20260424T125234
CREATED:20220109T034919Z
LAST-MODIFIED:20230430T190211Z
UID:1711121-1683363600-1683369000@ramayogainstitute.com
SUMMARY:Kundalini Yoga & Meditation with Shabadpreet
DESCRIPTION:Shabadpreet is the CEO of RA MA Institute for Applied Yogic Science and Technology with locations in Los Angeles\, California; Mallorca\, Spain; New York City\, and virtually on RA MA TV. \nWith the passing of Guru Jagat\, Shabadpreet continues RA MA’s Mission as a crossroads of consciousness\, wellbeing\, and creation-culture. Known for her healing approach\, Shabadpreet can also be found teaching in our Kundalini Trainings and in our three Global Women’s Programs. \nShabadpreet’s classes are fun\, meditative\, and deeply healing and provide a variety of tools that you can take into your daily life. \nYou can book private sessions with Shabadpreet here. \nTUNE IN
URL:https://ramayogainstitute.com/event/kundalini-yoga-meditation-with-shabadpreet-9-2022-05-17-2022-08-09/
LOCATION:Online
CATEGORIES:Community Content,In Person,RA MA TV Live
ATTACH;FMTTYPE=image/jpeg:https://ramayogainstitute.com/wp-content/uploads/2022/05/Shabadpreet-Calendar-Icon.jpg
END:VEVENT
END:VCALENDAR