BEGIN:VCALENDAR
VERSION:2.0
PRODID:-//RA MA LIFE - ECPv6.15.15//NONSGML v1.0//EN
CALSCALE:GREGORIAN
METHOD:PUBLISH
X-ORIGINAL-URL:https://ramayogainstitute.com
X-WR-CALDESC:Events for RA MA LIFE
REFRESH-INTERVAL;VALUE=DURATION:PT1H
X-Robots-Tag:noindex
X-PUBLISHED-TTL:PT1H
BEGIN:VTIMEZONE
TZID:America/Los_Angeles
BEGIN:DAYLIGHT
TZOFFSETFROM:-0800
TZOFFSETTO:-0700
TZNAME:PDT
DTSTART:20220313T100000
END:DAYLIGHT
BEGIN:STANDARD
TZOFFSETFROM:-0700
TZOFFSETTO:-0800
TZNAME:PST
DTSTART:20221106T090000
END:STANDARD
BEGIN:DAYLIGHT
TZOFFSETFROM:-0800
TZOFFSETTO:-0700
TZNAME:PDT
DTSTART:20230312T100000
END:DAYLIGHT
BEGIN:STANDARD
TZOFFSETFROM:-0700
TZOFFSETTO:-0800
TZNAME:PST
DTSTART:20231105T090000
END:STANDARD
BEGIN:DAYLIGHT
TZOFFSETFROM:-0800
TZOFFSETTO:-0700
TZNAME:PDT
DTSTART:20240310T100000
END:DAYLIGHT
BEGIN:STANDARD
TZOFFSETFROM:-0700
TZOFFSETTO:-0800
TZNAME:PST
DTSTART:20241103T090000
END:STANDARD
END:VTIMEZONE
BEGIN:VEVENT
DTSTART;TZID=America/Los_Angeles:20230321T110000
DTEND;TZID=America/Los_Angeles:20230321T120000
DTSTAMP:20260424T165010
CREATED:20220730T013956Z
LAST-MODIFIED:20230317T161829Z
UID:1740657-1679396400-1679400000@ramayogainstitute.com
SUMMARY:New Moon Prosperity with Malyvahn
DESCRIPTION:TUNE IN\nJoin us for this special new series “Prosperity Hour.” These practices will brighten your day and expand the aura in all directions unlocking your hidden treasures. Invest an hour to charge up and experience your power to set a projection that lasts. Health\, Wealth\, Happiness. Thank you. \nMalyvahn studied with Tej & Harijiwan. Kundalini Yoga and Meditation was a lighting fast practice for her self growth and healing. An entrepreneur at heart. Her goal is to hold a healing space\, guided by the teachings\, where each student can reach their highest bliss of prosperity!
URL:https://ramayogainstitute.com/event/prosperity-hour-with-malyvahn-2022-10-04-2023-03-21/
LOCATION:Online
CATEGORIES:In Person,RA MA TV Live
ATTACH;FMTTYPE=image/jpeg:https://ramayogainstitute.com/wp-content/uploads/2022/01/Malyvahn-6.jpg
END:VEVENT
BEGIN:VEVENT
DTSTART;TZID=America/Los_Angeles:20230321T190000
DTEND;TZID=America/Los_Angeles:20230321T200000
DTSTAMP:20260424T165010
CREATED:20230317T013131Z
LAST-MODIFIED:20230317T034259Z
UID:1781790-1679425200-1679428800@ramayogainstitute.com
SUMMARY:Live Concert with John Cosmic & Mandev
DESCRIPTION:TUNE IN
URL:https://ramayogainstitute.com/event/live-concert-with-john-cosmic-mandev/
LOCATION:Online
CATEGORIES:Community Content,In Person,RA MA TV Live
ATTACH;FMTTYPE=image/jpeg:https://ramayogainstitute.com/wp-content/uploads/2023/03/john-cosmic-cal-picture.jpg
END:VEVENT
BEGIN:VEVENT
DTSTART;TZID=America/Los_Angeles:20230322T110000
DTEND;TZID=America/Los_Angeles:20230322T120000
DTSTAMP:20260424T165010
CREATED:20211217T191549Z
LAST-MODIFIED:20230330T010335Z
UID:1742171-1679482800-1679486400@ramayogainstitute.com
SUMMARY:Energy with Marta Ulbricht
DESCRIPTION:Learn More & Tune In
URL:https://ramayogainstitute.com/event/marta-ulbricht-kundalini-12-22-21-2022-08-17-2022-08-31-2023-03-22/
LOCATION:Online
CATEGORIES:In Person,RA MA TV Live
ATTACH;FMTTYPE=image/jpeg:https://ramayogainstitute.com/wp-content/uploads/2021/12/Marta-Ulbricht.jpg
END:VEVENT
BEGIN:VEVENT
DTSTART;TZID=America/Los_Angeles:20230322T173000
DTEND;TZID=America/Los_Angeles:20230322T184500
DTSTAMP:20260424T165010
CREATED:20230317T014344Z
LAST-MODIFIED:20230317T014344Z
UID:1781796-1679506200-1679510700@ramayogainstitute.com
SUMMARY:Beam with Jen
DESCRIPTION:TUNE IN\nEnhance your pranic capacity and mental strength to stay steady\, solid\, and well positioned for your highest destiny and ultimate fulfillment. \nJen Saltiel has been practicing and working with the Kundalini Yoga technology since 2012. As a devout student of Guru Jagat’s and member of RA MA Institute Global team\, she has a deep connection with the teachings and genuine love and desire to deliver them to the world. Her classes are clear\, uplifting\, rhythmic\, and meditative.
URL:https://ramayogainstitute.com/event/beam-with-jen-3/
LOCATION:Online
CATEGORIES:In Person,RA MA TV Live
ATTACH;FMTTYPE=image/jpeg:https://ramayogainstitute.com/wp-content/uploads/2021/08/Jen-Saltiel.jpeg
END:VEVENT
BEGIN:VEVENT
DTSTART;TZID=America/Los_Angeles:20230323T080000
DTEND;TZID=America/Los_Angeles:20230323T093000
DTSTAMP:20260424T165010
CREATED:20230317T014608Z
LAST-MODIFIED:20230317T014608Z
UID:1781798-1679558400-1679563800@ramayogainstitute.com
SUMMARY:Metabolism Reboot with Rebecca Underdown
DESCRIPTION:TUNE IN\nJoin us for this 4 class series designed to detox the winter body\, fire up the metabolism and turn negative health habits into sustainable positive ones. \nMarch 2nd- “Everything is Chemical”- Strengthen Your Hormonal Secretions for a healthy\, happy body \nMarch 9th- “Get On Up” Awaken Your Metabolism Strength for weight loss \nMarch 16th- “Overcome Your Weaknesses” Release addictive behaviors and experience your most confident self \nMarch 23rd- “Knowing Is Your Victory Path ” Loving your perfectly imperfect body for a higher than human experience.
URL:https://ramayogainstitute.com/event/metabolism-reboot-with-rebecca-underdown-4/
LOCATION:RA MA New York & Online
CATEGORIES:In Person,RA MA TV Live
ATTACH;FMTTYPE=image/jpeg:https://ramayogainstitute.com/wp-content/uploads/2022/12/Rebecca-Underdown.jpg
END:VEVENT
END:VCALENDAR