BEGIN:VCALENDAR
VERSION:2.0
PRODID:-//RA MA LIFE - ECPv6.15.15//NONSGML v1.0//EN
CALSCALE:GREGORIAN
METHOD:PUBLISH
X-ORIGINAL-URL:https://ramayogainstitute.com
X-WR-CALDESC:Events for RA MA LIFE
REFRESH-INTERVAL;VALUE=DURATION:PT1H
X-Robots-Tag:noindex
X-PUBLISHED-TTL:PT1H
BEGIN:VTIMEZONE
TZID:America/Los_Angeles
BEGIN:DAYLIGHT
TZOFFSETFROM:-0800
TZOFFSETTO:-0700
TZNAME:PDT
DTSTART:20210314T100000
END:DAYLIGHT
BEGIN:STANDARD
TZOFFSETFROM:-0700
TZOFFSETTO:-0800
TZNAME:PST
DTSTART:20211107T090000
END:STANDARD
BEGIN:DAYLIGHT
TZOFFSETFROM:-0800
TZOFFSETTO:-0700
TZNAME:PDT
DTSTART:20220313T100000
END:DAYLIGHT
BEGIN:STANDARD
TZOFFSETFROM:-0700
TZOFFSETTO:-0800
TZNAME:PST
DTSTART:20221106T090000
END:STANDARD
BEGIN:DAYLIGHT
TZOFFSETFROM:-0800
TZOFFSETTO:-0700
TZNAME:PDT
DTSTART:20230312T100000
END:DAYLIGHT
BEGIN:STANDARD
TZOFFSETFROM:-0700
TZOFFSETTO:-0800
TZNAME:PST
DTSTART:20231105T090000
END:STANDARD
END:VTIMEZONE
BEGIN:VEVENT
DTSTART;TZID=America/Los_Angeles:20221006T080000
DTEND;TZID=America/Los_Angeles:20221006T093000
DTSTAMP:20260425T064641
CREATED:20220926T035717Z
LAST-MODIFIED:20221001T222755Z
UID:1741303-1665043200-1665048600@ramayogainstitute.com
SUMMARY:Open and Align Your 8 Chakras
DESCRIPTION:TUNE IN\n\n\nGet ready for a Chakra tune up in this 8 week Kundalini Yoga & Meditation series with Rebecca Underdown. \nSeptember 29- Root Chakra- Strengthen Your Security and Self-Loyalty\nOct. 6th- Second Chakra- Balance Your Sexuality and Creativity\nOctober 13th- Third (Navel) Chakra- Raise Your Self-Esteem and Personal Power\nOctober 20th- Fourth (Heart) Chakra- Forgiveness and Compassion For Freedom\nOctober 27th- Fifth (Throat) Chakra- Impact With Your Word\nNovember 3rd- Sixth Chakra (Third Eye)- Discernment of Fact vs Fiction\nNovember 10th- Seventh (Crown) Chakra- Experience Heaven on Earth\nNovember 17th- Eight Chakra- Auric Body- Project To Protect \n\n\nRebecca Underdown began practicing Kundalini yoga in 2000 and studying with Tej\, Harijiwan and Guru Jagat in 2015. Rebecca holds a BA in Eastern Religions from Boston University and a Masters Degree in Chinese Acupuncture & Herbal Medicine. She is the founder of the skincare company Veridatta.
URL:https://ramayogainstitute.com/event/open-and-align-your-8-chakras-2022-10-06/
LOCATION:RA MA New York & Online
CATEGORIES:In Person,RA MA TV Live
ATTACH;FMTTYPE=image/jpeg:https://ramayogainstitute.com/wp-content/uploads/2022/09/Rebecca-Underdown.jpg
END:VEVENT
BEGIN:VEVENT
DTSTART;TZID=America/Los_Angeles:20221007T130000
DTEND;TZID=America/Los_Angeles:20221007T140000
DTSTAMP:20260425T064641
CREATED:20221005T011148Z
LAST-MODIFIED:20221005T011932Z
UID:1742678-1665147600-1665151200@ramayogainstitute.com
SUMMARY:Kundalini Training: Mantra & Mudra QA
DESCRIPTION:A Q&A Opportunity with Harijiwan About the Upcoming Kundalini Training \nRSVP \n\n\n\nLEARN MORE ABOUT THE UPCOMING TRAINING
URL:https://ramayogainstitute.com/event/kundalini-training-mantra-mudra-qa/
LOCATION:Online on Zoom
CATEGORIES:Community Content,Courses & Events,RA MA TV Live
ATTACH;FMTTYPE=image/jpeg:https://ramayogainstitute.com/wp-content/uploads/2022/09/Harijiwan-Select.jpg
END:VEVENT
BEGIN:VEVENT
DTSTART;TZID=America/Los_Angeles:20221008T090000
DTEND;TZID=America/Los_Angeles:20221008T103000
DTSTAMP:20260425T064641
CREATED:20211209T010530Z
LAST-MODIFIED:20221001T222950Z
UID:1711116-1665219600-1665225000@ramayogainstitute.com
SUMMARY:Kundalini Yoga & Meditation with Shabadpreet
DESCRIPTION:Shabadpreet is the CEO of RA MA Institute for Applied Yogic Science and Technology with locations in Los Angeles\, California; Mallorca\, Spain; New York City\, and virtually on RA MA TV. \nWith the passing of Guru Jagat\, Shabadpreet continues RA MA’s Mission as a crossroads of consciousness\, wellbeing\, and creation-culture. Known for her healing approach\, Shabadpreet can also be found teaching in our Kundalini Trainings and in our three Global Women’s Programs. \nShabadpreet’s classes are fun\, meditative\, and deeply healing and provide a variety of tools that you can take into your daily life. \nYou can book private sessions with Shabadpreet here. \nTUNE IN
URL:https://ramayogainstitute.com/event/shabadpreet-kundalini-12-11-21-2022-01-08-2022-01-15-2022-05-21-2022-05-28-2022-10-08/
LOCATION:Online
CATEGORIES:Community Content,In Person,RA MA TV Live
ATTACH;FMTTYPE=image/jpeg:https://ramayogainstitute.com/wp-content/uploads/2022/05/Shabadpreet-Calendar-Icon.jpg
END:VEVENT
BEGIN:VEVENT
DTSTART;TZID=America/Los_Angeles:20221008T110000
DTEND;TZID=America/Los_Angeles:20221008T123000
DTSTAMP:20260425T064641
CREATED:20220326T233512Z
LAST-MODIFIED:20221001T223650Z
UID:1739140-1665226800-1665232200@ramayogainstitute.com
SUMMARY:Living Miracles with Mandev
DESCRIPTION:Mandev Khalsa is an award-winning filmmaker and creator of My Moon Map™\, an IOS mobile app to track your moods and behavior pattern using the ancient yogic science of the Moon Centers. For years\, Mandev has deeply researched esoteric energetic structures in yogic teachings to discover energy and power. \nMandev teaches at RA MA Institute. Her classes feature deep breathing\, mantra\, meditation\, and gong relaxation. She seamlessly guides the class through a mandala of yogic postures\, pranayam\, and meditation with an emphasis on conscious breathing\, proper posture\, applying precise techniques to open an infinite flow of energy in you. \nMandev provides invaluable insight into how to apply yogic teachings in a practical\, modern way. She teaches how love\, happiness and prosperity is a frequency you can subscribe to. Her classes focus on removing blocks\, installing prosperity patterns\, weaving celestial sound codes\, karma clearing\, third eye-opening\, mind crystallizing\, heart opening\, soul downloading. Each class with Mandev is fun\, deeply transformative\, and profoundly healing. \nShe travels the world with her teacher and husband Harijiwan leading Kundalini Trainings\, yatras\, and women’s programs. \nMandev recently launched a complimentary virtual women’s community: The Inner Moon Circle\, inviting women around the world to realize the infinite stream of energy at their fingertips through mapping the Moon Centers\, unlocking the power of the auric field\, and exploring and applying the vast ocean of women’s teachings Kundalini Yoga has to offer. \nConnect with Mandev on Instagram @mandevkhalsa & @mymoonmap \nFind out about upcoming yoga classes\, trainings\, yatras and more events mymoonmap.com \nYou can book private sessions with Mandev here. \nTUNE IN
URL:https://ramayogainstitute.com/event/kundalini-yoga-meditation-with-mandev-6-2022-05-12-2022-05-19-2022-09-14-2022-10-08/
LOCATION:Online
CATEGORIES:In Person,RA MA TV Live
ATTACH;FMTTYPE=image/jpeg:https://ramayogainstitute.com/wp-content/uploads/2022/08/Mandev-Stage-Photo-small.jpg
END:VEVENT
BEGIN:VEVENT
DTSTART;TZID=America/Los_Angeles:20221009T090000
DTEND;TZID=America/Los_Angeles:20221009T103000
DTSTAMP:20260425T064641
CREATED:20211028T002901Z
LAST-MODIFIED:20221001T220605Z
UID:1703188-1665306000-1665311400@ramayogainstitute.com
SUMMARY:Celebrating Guru Ram Das' Birthday with Gurujas
DESCRIPTION:Gurujas teaches that Kundalini Yoga is an experientially-based system–a science of joy\, fulfillment and love. She also believes that happiness is a vibrational frequency\, and can be an enduring state of being. Gurujas is the lead singer of the Grammy Award winning group White Sun. \nLearn More & Tune In
URL:https://ramayogainstitute.com/event/kundalini-yoga-meditation-with-gurujas-11-2021-12-05-2022-01-09-2022-02-27-2022-04-19-2022-04-26-2022-10-09/
LOCATION:Online
CATEGORIES:In Person,RA MA TV Live
ATTACH;FMTTYPE=image/jpeg:https://ramayogainstitute.com/wp-content/uploads/2021/10/Gurujas-7.jpg
END:VEVENT
BEGIN:VEVENT
DTSTART;TZID=America/Los_Angeles:20221009T110000
DTEND;TZID=America/Los_Angeles:20221009T123000
DTSTAMP:20260425T064641
CREATED:20220525T000447Z
LAST-MODIFIED:20221001T224614Z
UID:1713395-1665313200-1665318600@ramayogainstitute.com
SUMMARY:The Gateway of Truth with Mikal Vega
DESCRIPTION:Mikal Vega\, is a former Navy SEAL and 22-year combat veteran who walked the road from trauma to recovery. It wasn’t until several years after returning home that he realized the extent of his “invisible injuries.”  He decided to follow his instinct toward alternative approaches. After exploring a variety of options in his own community\, Mikal found Kundalini Yoga which helped him to restore balance in his own life. In the end\, he made a radical leap forward – from the depths of post-traumatic stress to feeling liberated from his symptoms.\n\nMikal is committed to the development of an experiential based\, personalized process and daily practice in his students to facilitate true\, lasting change. Harnessing the lessons learned during his experientially developed philosophies\, it’s his vision to help others dismantle perceptual boundaries and to realize their own creative potential. Mikal embodies and broadcasts the warrior energy in his classes. His dedication to technical accuracy develops deep focus and powerful projection establishing balance of destructive energies through the cultivation of ones own creative force.\n\nTUNE IN 
URL:https://ramayogainstitute.com/event/vital-warrior-with-mikal-vega-4-2022-10-09/
LOCATION:Online
CATEGORIES:In Person,RA MA TV Live
ATTACH;FMTTYPE=image/jpeg:https://ramayogainstitute.com/wp-content/uploads/2021/07/mikal-vega-cal-icon.jpg
END:VEVENT
BEGIN:VEVENT
DTSTART;TZID=America/Los_Angeles:20221009T160000
DTEND;TZID=America/Los_Angeles:20221009T173000
DTSTAMP:20260425T064641
CREATED:20220326T233512Z
LAST-MODIFIED:20221001T220040Z
UID:1742187-1665331200-1665336600@ramayogainstitute.com
SUMMARY:Living Miracles with Mandev
DESCRIPTION:Mandev Khalsa is an award-winning filmmaker and creator of My Moon Map™\, an IOS mobile app to track your moods and behavior pattern using the ancient yogic science of the Moon Centers. For years\, Mandev has deeply researched esoteric energetic structures in yogic teachings to discover energy and power. \nMandev teaches at RA MA Institute. Her classes feature deep breathing\, mantra\, meditation\, and gong relaxation. She seamlessly guides the class through a mandala of yogic postures\, pranayam\, and meditation with an emphasis on conscious breathing\, proper posture\, applying precise techniques to open an infinite flow of energy in you. \nMandev provides invaluable insight into how to apply yogic teachings in a practical\, modern way. She teaches how love\, happiness and prosperity is a frequency you can subscribe to. Her classes focus on removing blocks\, installing prosperity patterns\, weaving celestial sound codes\, karma clearing\, third eye-opening\, mind crystallizing\, heart opening\, soul downloading. Each class with Mandev is fun\, deeply transformative\, and profoundly healing. \nShe travels the world with her teacher and husband Harijiwan leading Kundalini Trainings\, yatras\, and women’s programs. \nMandev recently launched a complimentary virtual women’s community: The Inner Moon Circle\, inviting women around the world to realize the infinite stream of energy at their fingertips through mapping the Moon Centers\, unlocking the power of the auric field\, and exploring and applying the vast ocean of women’s teachings Kundalini Yoga has to offer. \nConnect with Mandev on Instagram @mandevkhalsa & @mymoonmap \nFind out about upcoming yoga classes\, trainings\, yatras and more events mymoonmap.com \nYou can book private sessions with Mandev here. \nTUNE IN
URL:https://ramayogainstitute.com/event/kundalini-yoga-meditation-with-mandev-6-2022-05-12-2022-05-19-2022-09-14-2022-10-06-2022-10-09/
LOCATION:Online
CATEGORIES:In Person,RA MA TV Live
ATTACH;FMTTYPE=image/jpeg:https://ramayogainstitute.com/wp-content/uploads/2022/08/Mandev-Stage-Photo-small.jpg
END:VEVENT
END:VCALENDAR