BEGIN:VCALENDAR
VERSION:2.0
PRODID:-//RA MA LIFE - ECPv6.15.15//NONSGML v1.0//EN
CALSCALE:GREGORIAN
METHOD:PUBLISH
X-WR-CALNAME:RA MA LIFE
X-ORIGINAL-URL:https://ramayogainstitute.com
X-WR-CALDESC:Events for RA MA LIFE
REFRESH-INTERVAL;VALUE=DURATION:PT1H
X-Robots-Tag:noindex
X-PUBLISHED-TTL:PT1H
BEGIN:VTIMEZONE
TZID:America/Los_Angeles
BEGIN:DAYLIGHT
TZOFFSETFROM:-0800
TZOFFSETTO:-0700
TZNAME:PDT
DTSTART:20210314T100000
END:DAYLIGHT
BEGIN:STANDARD
TZOFFSETFROM:-0700
TZOFFSETTO:-0800
TZNAME:PST
DTSTART:20211107T090000
END:STANDARD
BEGIN:DAYLIGHT
TZOFFSETFROM:-0800
TZOFFSETTO:-0700
TZNAME:PDT
DTSTART:20220313T100000
END:DAYLIGHT
BEGIN:STANDARD
TZOFFSETFROM:-0700
TZOFFSETTO:-0800
TZNAME:PST
DTSTART:20221106T090000
END:STANDARD
BEGIN:DAYLIGHT
TZOFFSETFROM:-0800
TZOFFSETTO:-0700
TZNAME:PDT
DTSTART:20230312T100000
END:DAYLIGHT
BEGIN:STANDARD
TZOFFSETFROM:-0700
TZOFFSETTO:-0800
TZNAME:PST
DTSTART:20231105T090000
END:STANDARD
END:VTIMEZONE
BEGIN:VEVENT
DTSTART;TZID=America/Los_Angeles:20220704T110000
DTEND;TZID=America/Los_Angeles:20220704T123000
DTSTAMP:20260425T141154
CREATED:20220630T044220Z
LAST-MODIFIED:20220630T044221Z
UID:1720589-1656932400-1656937800@ramayogainstitute.com
SUMMARY:Sovereign Mind with Harijiwan
DESCRIPTION:Kundalini Yoga\, Deep Meditation & Gong\nA Special Independence Day Class with Harijiwan \nSIGN UP \nWATCH NOW (LIVE MEMBERS)  \n  \n 
URL:https://ramayogainstitute.com/event/sovereign-mind-harijiwan-07-04-2022/
LOCATION:Online
CATEGORIES:In Person,Pay Per View Workshops,RA MA TV Live
ATTACH;FMTTYPE=image/jpeg:https://ramayogainstitute.com/wp-content/uploads/2022/06/Harijiwan-Solstice.jpg
END:VEVENT
BEGIN:VEVENT
DTSTART;TZID=America/Los_Angeles:20220705T130000
DTEND;TZID=America/Los_Angeles:20220705T140000
DTSTAMP:20260425T141154
CREATED:20220705T004900Z
LAST-MODIFIED:20220705T005646Z
UID:1721558-1657026000-1657029600@ramayogainstitute.com
SUMMARY:Summer Mallorca Residency Q&A Call
DESCRIPTION:Join Harijiwan for a live complimentary Q&A Zoom call to learn more about the upcoming events happening on Mallorca this July. \nKundalini Training: Becoming a Teacher\nFriday\, July 15-Tuesday\, July 19\, 2022 \nRA MA Mystery School: The Knights of Templar\nThursday\, July 21-Sunday\, July 24\, 2022 \nBring your questions or come to listen. \nTUNE IN
URL:https://ramayogainstitute.com/event/summer-mallorca-residency-qa-call/
LOCATION:Online on Zoom
CATEGORIES:Community Content,RA MA TV Live
ATTACH;FMTTYPE=image/jpeg:https://ramayogainstitute.com/wp-content/uploads/2022/07/Mallorca.jpg
END:VEVENT
BEGIN:VEVENT
DTSTART;TZID=America/Los_Angeles:20220706T090000
DTEND;TZID=America/Los_Angeles:20220706T103000
DTSTAMP:20260425T141154
CREATED:20220326T233512Z
LAST-MODIFIED:20220705T004053Z
UID:1700249-1657098000-1657103400@ramayogainstitute.com
SUMMARY:Kundalini Yoga & Meditation with Nathan Hirschaut
DESCRIPTION:Artist. Helping you live an explosively creative\, conscious\, and embodied life. Dancer • Yogi • Coach • Filmmaker• Practitioner \nTune In
URL:https://ramayogainstitute.com/event/kundalini-yoga-meditation-with-mandev-6-2022-05-12-2022-05-19-2022-07-06/
LOCATION:Online
CATEGORIES:In Person,RA MA TV Live
ATTACH;FMTTYPE=image/jpeg:https://ramayogainstitute.com/wp-content/uploads/2022/03/Nathan-Hirschaut.jpg
END:VEVENT
BEGIN:VEVENT
DTSTART;TZID=America/Los_Angeles:20220706T160000
DTEND;TZID=America/Los_Angeles:20220706T173000
DTSTAMP:20260425T141154
CREATED:20220703T004844Z
LAST-MODIFIED:20220718T024719Z
UID:1721348-1657123200-1657128600@ramayogainstitute.com
SUMMARY:How to Relax with Seva Jagat
DESCRIPTION:Kundalini Yoga & Meditation to train and strengthen your nervous system so you can truly relax\, de-stress\, or be alert by command.
URL:https://ramayogainstitute.com/event/how-to-relax-with-seva-jagat/2022-07-06/
LOCATION:RA MA New York & Online
CATEGORIES:In Person,RA MA TV Live
ATTACH;FMTTYPE=image/jpeg:https://ramayogainstitute.com/wp-content/uploads/2022/05/Seva-Jagat.jpg
END:VEVENT
BEGIN:VEVENT
DTSTART;TZID=America/Los_Angeles:20220707T090000
DTEND;TZID=America/Los_Angeles:20220707T103000
DTSTAMP:20260425T141154
CREATED:20220326T233512Z
LAST-MODIFIED:20220703T005032Z
UID:1700250-1657184400-1657189800@ramayogainstitute.com
SUMMARY:Kundalini Yoga & Meditation with Teg Prakash
DESCRIPTION:Teg Prakash is a Kundalini Yoga teacher\, astrologer\, and intuitive sound healer with a passionate curiosity for the teachings of Kundalini Yoga\, as taught by Yogi Bhajan\, and seeks to bring people to a true sense of their soul through astrology\, their personal power through yoga\, and their peace through the power of sound. \nTune In
URL:https://ramayogainstitute.com/event/kundalini-yoga-meditation-with-mandev-6-2022-05-12-2022-05-19-2022-07-07/
LOCATION:Online
CATEGORIES:In Person,RA MA TV Live
ATTACH;FMTTYPE=image/jpeg:https://ramayogainstitute.com/wp-content/uploads/2022/06/Teg-Prakash-Looking-Up-Vimeo-Thumbnail.jpg
END:VEVENT
BEGIN:VEVENT
DTSTART;TZID=America/Los_Angeles:20220708T090000
DTEND;TZID=America/Los_Angeles:20220708T103000
DTSTAMP:20260425T141154
CREATED:20220326T233512Z
LAST-MODIFIED:20220703T005204Z
UID:1700251-1657270800-1657276200@ramayogainstitute.com
SUMMARY:Kundalini Yoga & Meditation with Teg Prakash
DESCRIPTION:Teg Prakash is a Kundalini Yoga teacher\, astrologer\, and intuitive sound healer with a passionate curiosity for the teachings of Kundalini Yoga\, as taught by Yogi Bhajan\, and seeks to bring people to a true sense of their soul through astrology\, their personal power through yoga\, and their peace through the power of sound. \nTune In
URL:https://ramayogainstitute.com/event/kundalini-yoga-meditation-with-mandev-6-2022-05-12-2022-05-19-2022-07-08/
LOCATION:Online
CATEGORIES:In Person,RA MA TV Live
ATTACH;FMTTYPE=image/jpeg:https://ramayogainstitute.com/wp-content/uploads/2022/06/Teg-Prakash-Looking-Up-Vimeo-Thumbnail.jpg
END:VEVENT
BEGIN:VEVENT
DTSTART;TZID=America/Los_Angeles:20220708T110000
DTEND;TZID=America/Los_Angeles:20220708T120000
DTSTAMP:20260425T141154
CREATED:20220703T010035Z
LAST-MODIFIED:20220808T062553Z
UID:1721354-1657278000-1657281600@ramayogainstitute.com
SUMMARY:Artist Rising with Kim Krans
DESCRIPTION:In this four-part series\, artist and author Kim Krans shares her favorite practices for building creative vision\, confidence\, and follow-through. Each week is an exploration of one of the four phases in the creative process: DECIDE\, REPEAT\, DISSOLVE\, TRANSMIT. All levels welcome\, bring pen and paper. Strengthen the artist within. \n What you will learn: \n\nwhy your creativity matters\nhow to stoke the creative fire\nbreath and mantra especially suited for artists\nmovement and kriyas to support your creative vision\nhow to utilize creative downloads\n\nTUNE IN
URL:https://ramayogainstitute.com/event/artist-rising-with-kim-krans/2022-07-08/
LOCATION:Online
CATEGORIES:In Person,RA MA TV Live
ATTACH;FMTTYPE=image/jpeg:https://ramayogainstitute.com/wp-content/uploads/2022/07/Kim-Krans.jpg
END:VEVENT
BEGIN:VEVENT
DTSTART;TZID=America/Los_Angeles:20220708T180000
DTEND;TZID=America/Los_Angeles:20220708T200000
DTSTAMP:20260425T141154
CREATED:20220701T051144Z
LAST-MODIFIED:20220701T051145Z
UID:1720839-1657303200-1657310400@ramayogainstitute.com
SUMMARY:Alchemy Deck Launch Party
DESCRIPTION:Tune In
URL:https://ramayogainstitute.com/event/alchemy-deck-launch-party/
LOCATION:Online
CATEGORIES:Community Content,In Person,RA MA TV Live
ATTACH;FMTTYPE=image/jpeg:https://ramayogainstitute.com/wp-content/uploads/2022/06/Kim-Krans.jpg
END:VEVENT
END:VCALENDAR