BEGIN:VCALENDAR
VERSION:2.0
PRODID:-//RA MA LIFE - ECPv6.15.15//NONSGML v1.0//EN
CALSCALE:GREGORIAN
METHOD:PUBLISH
X-WR-CALNAME:RA MA LIFE
X-ORIGINAL-URL:https://ramayogainstitute.com
X-WR-CALDESC:Events for RA MA LIFE
REFRESH-INTERVAL;VALUE=DURATION:PT1H
X-Robots-Tag:noindex
X-PUBLISHED-TTL:PT1H
BEGIN:VTIMEZONE
TZID:America/Los_Angeles
BEGIN:DAYLIGHT
TZOFFSETFROM:-0800
TZOFFSETTO:-0700
TZNAME:PDT
DTSTART:20220313T100000
END:DAYLIGHT
BEGIN:STANDARD
TZOFFSETFROM:-0700
TZOFFSETTO:-0800
TZNAME:PST
DTSTART:20221106T090000
END:STANDARD
BEGIN:DAYLIGHT
TZOFFSETFROM:-0800
TZOFFSETTO:-0700
TZNAME:PDT
DTSTART:20230312T100000
END:DAYLIGHT
BEGIN:STANDARD
TZOFFSETFROM:-0700
TZOFFSETTO:-0800
TZNAME:PST
DTSTART:20231105T090000
END:STANDARD
BEGIN:DAYLIGHT
TZOFFSETFROM:-0800
TZOFFSETTO:-0700
TZNAME:PDT
DTSTART:20240310T100000
END:DAYLIGHT
BEGIN:STANDARD
TZOFFSETFROM:-0700
TZOFFSETTO:-0800
TZNAME:PST
DTSTART:20241103T090000
END:STANDARD
END:VTIMEZONE
BEGIN:VEVENT
DTSTART;TZID=America/Los_Angeles:20230720T190000
DTEND;TZID=America/Los_Angeles:20230720T203000
DTSTAMP:20260425T083324
CREATED:20230406T215907Z
LAST-MODIFIED:20230721T014037Z
UID:1815011-1689879600-1689885000@ramayogainstitute.com
SUMMARY:Kundalini Yoga & Meditation with Jot Gianpreet
DESCRIPTION:TUNE IN
URL:https://ramayogainstitute.com/event/kundalini-yoga-meditation-with-alexis-di-salvo-2-2023-07-20/
LOCATION:Online
CATEGORIES:In Person,RA MA TV Live
ATTACH;FMTTYPE=image/jpeg:https://ramayogainstitute.com/wp-content/uploads/2023/06/RA-MA-Los-Angeles-Kundalini-Yoga-Meditation.jpg
END:VEVENT
BEGIN:VEVENT
DTSTART;TZID=America/Los_Angeles:20230724T170000
DTEND;TZID=America/Los_Angeles:20230724T180000
DTSTAMP:20260425T083324
CREATED:20230724T230339Z
LAST-MODIFIED:20230724T230339Z
UID:1815780-1690218000-1690221600@ramayogainstitute.com
SUMMARY:Long Mul Mantra Monday with Mandev and Special Guest Harijiwan
DESCRIPTION:TUNE IN 
URL:https://ramayogainstitute.com/event/long-mul-mantra-monday-with-mandev-and-special-guest-harijiwan/
LOCATION:Online on RA MA TV
CATEGORIES:RA MA TV Live
ATTACH;FMTTYPE=image/jpeg:https://ramayogainstitute.com/wp-content/uploads/2023/05/L1320521_Harijiwan-Mandev-RA-MA-TV-small.jpg
END:VEVENT
BEGIN:VEVENT
DTSTART;TZID=America/Los_Angeles:20230724T190000
DTEND;TZID=America/Los_Angeles:20230724T201500
DTSTAMP:20260425T083324
CREATED:20230106T004156Z
LAST-MODIFIED:20230725T005141Z
UID:1796384-1690225200-1690229700@ramayogainstitute.com
SUMMARY:Kundalini Yoga & Meditation with Jot Gianpreet
DESCRIPTION:TUNE IN\n 
URL:https://ramayogainstitute.com/event/beam-with-jen-2023-07-24/
LOCATION:Online
CATEGORIES:In Person,RA MA TV Live
ATTACH;FMTTYPE=image/jpeg:https://ramayogainstitute.com/wp-content/uploads/2023/06/RA-MA-Los-Angeles-Kundalini-Yoga-Meditation.jpg
END:VEVENT
BEGIN:VEVENT
DTSTART;TZID=America/Los_Angeles:20230731T110000
DTEND;TZID=America/Los_Angeles:20230731T121500
DTSTAMP:20260425T083324
CREATED:20230729T033628Z
LAST-MODIFIED:20230802T033955Z
UID:1816593-1690801200-1690805700@ramayogainstitute.com
SUMMARY:Kundalini Yoga & Meditation
DESCRIPTION:TUNE IN\nVirtually on RA MA TV Live
URL:https://ramayogainstitute.com/event/kundalini-yoga-meditation-4/2023-07-31/
LOCATION:Online
CATEGORIES:In Person,RA MA TV Live
ATTACH;FMTTYPE=image/jpeg:https://ramayogainstitute.com/wp-content/uploads/2021/12/Students-Training-Los-Angeles.jpg
END:VEVENT
BEGIN:VEVENT
DTSTART;TZID=America/Los_Angeles:20230801T090000
DTEND;TZID=America/Los_Angeles:20230801T170000
DTSTAMP:20260425T083324
CREATED:20230509T035506Z
LAST-MODIFIED:20230729T035312Z
UID:1806523-1690880400-1690909200@ramayogainstitute.com
SUMMARY:Remembering & Celebrating Guru Jagat
DESCRIPTION:TUNE IN \nIn commemoration of the 2-year anniversary of Guru Jagat’s passing\, enjoy an all-day marathon of Guru Jagat classes streaming on the RA MA TV Golden Archives.\n*Included with RA MA TV Live or RA MA TV Membership \nGuru Jagat was a celebrated and iconoclastic thought leader who forged a new path of modern wellness. She embodied “creation culture” as an author\, fashion designer\, teacher\, musician\, chef\, and entrepreneur. She founded RA MA in 2013 and left a lasting legacy amongst her students\, family and friends. Read Guru Jagat’s obituary here and celebrate the tribute of her life.
URL:https://ramayogainstitute.com/event/a-golden-archive-class-with-guru-jagat-2023-08-01/
LOCATION:Online on RA MA TV
CATEGORIES:Courses & Events,RA MA TV Live
ATTACH;FMTTYPE=image/jpeg:https://ramayogainstitute.com/wp-content/uploads/2023/07/Guru_Jagat_Kundalini_Yoga_Header4.jpg
END:VEVENT
BEGIN:VEVENT
DTSTART;TZID=America/Los_Angeles:20230802T190000
DTEND;TZID=America/Los_Angeles:20230802T210000
DTSTAMP:20260425T083324
CREATED:20230729T035617Z
LAST-MODIFIED:20230729T035619Z
UID:1816623-1691002800-1691010000@ramayogainstitute.com
SUMMARY:The Flow of Grace
DESCRIPTION:SIGN UP\nTUNE IN\nThe Flow of Grace: Opening to the Presence and Power of the Divine\nDivine Satsang Led by Pujya Sadhvi Bhagawati Saraswatiji\nWednesday\, August 2\, 2023\n7:00pm PDT \nVirtually on RA MA TV\nIn Person @ RA MA Los Angeles
URL:https://ramayogainstitute.com/event/the-flow-of-grace-2/
LOCATION:Online
CATEGORIES:Pay Per View Workshops,RA MA TV Live
ATTACH;FMTTYPE=image/jpeg:https://ramayogainstitute.com/wp-content/uploads/2023/07/RAMA_TheFlowofGrace_Header.jpg
END:VEVENT
BEGIN:VEVENT
DTSTART;TZID=America/Los_Angeles:20230803T090000
DTEND;TZID=America/Los_Angeles:20230803T103000
DTSTAMP:20260425T083324
CREATED:20230729T033628Z
LAST-MODIFIED:20230803T040858Z
UID:1816599-1691053200-1691058600@ramayogainstitute.com
SUMMARY:Kundalini Yoga & Meditation
DESCRIPTION:TUNE IN\nVirtually on RA MA TV Live
URL:https://ramayogainstitute.com/event/kundalini-yoga-meditation-4-2023-08-03/
LOCATION:Online
CATEGORIES:In Person,RA MA TV Live
ATTACH;FMTTYPE=image/jpeg:https://ramayogainstitute.com/wp-content/uploads/2023/07/Screen-Shot-2023-08-02-at-9.08.00-PM.jpg
END:VEVENT
BEGIN:VEVENT
DTSTART;TZID=America/Los_Angeles:20230806T160000
DTEND;TZID=America/Los_Angeles:20230806T173000
DTSTAMP:20260425T083324
CREATED:20230729T033628Z
LAST-MODIFIED:20230806T000654Z
UID:1816604-1691337600-1691343000@ramayogainstitute.com
SUMMARY:Kundalini Yoga & Meditation with Jot Gianpreet
DESCRIPTION:TUNE IN\nVirtually on RA MA TV Live
URL:https://ramayogainstitute.com/event/kundalini-yoga-meditation-4-2023-08-06/2023-08-06/
LOCATION:Online
CATEGORIES:In Person,RA MA TV Live
ATTACH;FMTTYPE=image/jpeg:https://ramayogainstitute.com/wp-content/uploads/2023/06/RA-MA-Los-Angeles-Kundalini-Yoga-Meditation.jpg
END:VEVENT
BEGIN:VEVENT
DTSTART;TZID=America/Los_Angeles:20230807T090000
DTEND;TZID=America/Los_Angeles:20230807T103000
DTSTAMP:20260425T083324
CREATED:20220326T233049Z
LAST-MODIFIED:20230805T233714Z
UID:1794763-1691398800-1691404200@ramayogainstitute.com
SUMMARY:Kundalini Yoga & Meditation + Long Mul Mantra Monday with John Cosmic
DESCRIPTION:TUNE IN\nSpiritual rapper\, psychedelic guitarist\, released album “A Call to Awaken”. Sci-Fi author\, released “Mystic Emergency”. Fitness book author. Realtor for the greater LA area. A kundalini yoga practitioner that aims to share the power of the practice.
URL:https://ramayogainstitute.com/event/kundalini-yoga-and-meditation-long-mul-mantra-with-mandev-2022-05-23-2022-09-12-2023-01-02-2023-01-09-2023-08-07/
LOCATION:Online
CATEGORIES:In Person,RA MA TV Live
ATTACH;FMTTYPE=image/jpeg:https://ramayogainstitute.com/wp-content/uploads/2023/03/john-cosmic-cal-picture.jpg
END:VEVENT
BEGIN:VEVENT
DTSTART;TZID=America/Los_Angeles:20230811T173000
DTEND;TZID=America/Los_Angeles:20230811T184500
DTSTAMP:20260425T083324
CREATED:20230520T002826Z
LAST-MODIFIED:20230809T044859Z
UID:1800776-1691775000-1691779500@ramayogainstitute.com
SUMMARY:Kundalini Yoga & Meditation with Erdem
DESCRIPTION:TUNE IN\n 
URL:https://ramayogainstitute.com/event/excel-2023-06-12-2023-08-11/
LOCATION:Online
CATEGORIES:In Person,RA MA TV Live
ATTACH;FMTTYPE=image/jpeg:https://ramayogainstitute.com/wp-content/uploads/2023/06/RA-MA-Los-Angeles-Kundalini-Yoga-Meditation.jpg
END:VEVENT
BEGIN:VEVENT
DTSTART;TZID=America/Los_Angeles:20230813T110000
DTEND;TZID=America/Los_Angeles:20230813T120000
DTSTAMP:20260425T083324
CREATED:20230812T085909Z
LAST-MODIFIED:20230812T090209Z
UID:1819407-1691924400-1691928000@ramayogainstitute.com
SUMMARY:The Jap-Ji Course | Live Q&A Call
DESCRIPTION:SIGN UP\nLearn more about the upcoming Kundalini Training exploring Jap-ji happening Thursday\, August 17 – Monday\, August 21\, 2023
URL:https://ramayogainstitute.com/event/the-jap-ji-course-live-qa-call/
LOCATION:Online on Zoom
CATEGORIES:Community Content,Courses & Events,RA MA TV Live
ATTACH;FMTTYPE=image/jpeg:https://ramayogainstitute.com/wp-content/uploads/2023/07/Japji_KundaliniTraining_Header-1.jpg
END:VEVENT
BEGIN:VEVENT
DTSTART;TZID=America/Los_Angeles:20230817T110000
DTEND;TZID=America/Los_Angeles:20230817T120000
DTSTAMP:20260425T083324
CREATED:20230406T225249Z
LAST-MODIFIED:20230813T213131Z
UID:1819770-1692270000-1692273600@ramayogainstitute.com
SUMMARY:PROSPERITY
DESCRIPTION:TUNE IN\nProsperity activating Kundalini Yoga & Meditation. These practices will brighten your day and expand the aura in all directions unlocking your hidden treasures. Invest an hour to charge up and experience your power to set a projection that lasts. Health\, Wealth\, Happiness. Thank you. \nMalyvahn studied with Tej & Harijiwan. Kundalini Yoga and Meditation was a lighting fast practice for her self growth and healing. An entrepreneur at heart. Her goal is to hold a healing space\, guided by the teachings\, where each student can reach their highest bliss of prosperity!
URL:https://ramayogainstitute.com/event/prosperity-hour-with-malyvahn-6-2023-08-17/
LOCATION:Online on Zoom
CATEGORIES:RA MA TV Live
ATTACH;FMTTYPE=image/jpeg:https://ramayogainstitute.com/wp-content/uploads/2022/01/Malyvahn-6.jpg
END:VEVENT
BEGIN:VEVENT
DTSTART;TZID=America/Los_Angeles:20230817T160000
DTEND;TZID=America/Los_Angeles:20230817T173000
DTSTAMP:20260425T083324
CREATED:20230729T034342Z
LAST-MODIFIED:20230812T082855Z
UID:1819267-1692288000-1692293400@ramayogainstitute.com
SUMMARY:Remembering Infinity with Pritam Siri
DESCRIPTION:TUNE IN\n\n\n\n\n\n\nKundalini Yoga & Meditation experiences to touch your cosmic self and strengthen your relationship with your own greatness.\n\n\n\n\n\n\nPritam Siri is an artist and yogi based in New York City. She has dedicated her time to studying\, working\, and traveling with Guru Jagat from 2016 until her passing in 2021. She is an active student of Kundalini Yoga and Meditation as Taught by Yogi Bhajan and is committed to practicing and sharing kundalini yoga technology.\nHer classes are open and welcome to beginners and seasoned practitioners.
URL:https://ramayogainstitute.com/event/kundalini-yoga-meditation-with-pritam-siri-10-2023-08-15/2023-08-17/
LOCATION:RA MA New York & Online
CATEGORIES:In Person,RA MA TV Live
ATTACH;FMTTYPE=image/jpeg:https://ramayogainstitute.com/wp-content/uploads/2022/09/Pritam-Siri.jpg
END:VEVENT
BEGIN:VEVENT
DTSTART;TZID=America/Los_Angeles:20230826T030000
DTEND;TZID=America/Los_Angeles:20230826T031500
DTSTAMP:20260425T083324
CREATED:20230824T084317Z
LAST-MODIFIED:20230824T084317Z
UID:1822759-1693018800-1693019700@ramayogainstitute.com
SUMMARY:11 Minute Global Simultaneous Chant
DESCRIPTION:TUNE IN\n11 Minute Global Simultaneous Chant of Guru Guru Wahe Guru Guru Ram Das Guru
URL:https://ramayogainstitute.com/event/11-minute-global-simultaneous-chant/
CATEGORIES:Community Content,In Person,RA MA TV Live
ATTACH;FMTTYPE=image/jpeg:https://ramayogainstitute.com/wp-content/uploads/2023/08/YogiBhajan_Birthday_Carousel.jpg
END:VEVENT
BEGIN:VEVENT
DTSTART;TZID=America/Los_Angeles:20230826T080000
DTEND;TZID=America/Los_Angeles:20230826T093000
DTSTAMP:20260425T083324
CREATED:20230725T002548Z
LAST-MODIFIED:20230822T003302Z
UID:1815841-1693036800-1693042200@ramayogainstitute.com
SUMMARY:Transcendent Blessings with Kelle Jacob
DESCRIPTION:Tune in virtually on RA MA TV LIVE or IN PERSON @ RA MA New York \nSaturday @11:00am – 12:30pm EDT \n In honor of Yogi Bhajan’s legacy\, we invite you to experience the profound wisdom and powerful teachings that he bestowed upon us. This dynamic Kundalini Yoga session will guide you through ancient techniques aimed at awakening your inner energy\, illuminating your path\, and connecting you with the universal flow of blessings. \nIntroducing Kelle Jacob\, a catalyst for profound personal transformation\, guiding seekers on a path of power\, wisdom\, and growth through Kundalini yoga and meditation. With a multidisciplinary background in neuroscience\, integrative nutrition\, and ancient technologies\, Kelle merges ancient wisdom with modern science to ignite the dormant potential within individuals. Together\, Kelle and their students explore the intricate landscapes of the human spirit\, unlocking creativity\, vitality\, and purpose. Whether one is an executive\, a high-performing professional\, or simply seeking inner alignment\, Kelle surpasses expectations and leads individuals to new heights of success and self-mastery. Join Kelle on this extraordinary journey to unlock true potential and embrace the boundless power within\, manifesting a life of limitless possibilities together. \n  \n 
URL:https://ramayogainstitute.com/event/kundalini-yoga-meditation-with-kelle-jacob-2023-08-26/
LOCATION:RA MA New York & Online
CATEGORIES:In Person,RA MA TV Live
ATTACH;FMTTYPE=image/jpeg:https://ramayogainstitute.com/wp-content/uploads/2023/06/Kelle-Jacobs-Kundalini-Yoga-Meditation-Teacher.jpg
END:VEVENT
BEGIN:VEVENT
DTSTART;TZID=America/Los_Angeles:20230830T090000
DTEND;TZID=America/Los_Angeles:20230830T160000
DTSTAMP:20260425T083324
CREATED:20230827T020432Z
LAST-MODIFIED:20230827T020610Z
UID:1824662-1693386000-1693411200@ramayogainstitute.com
SUMMARY:All Day Marathon: The Golden Archives with Guru Jagat
DESCRIPTION:TUNE IN\nCelebrate the birthday of Guru Jagat with an all day marathon of laughs & kundalini yoga & meditation classes.\nIncluded for RA MA TV & TV LIVE members.
URL:https://ramayogainstitute.com/event/all-day-marathon-the-golden-archives-with-guru-jagat/
LOCATION:Online on RA MA TV
CATEGORIES:RA MA TV Live
ATTACH;FMTTYPE=image/jpeg:https://ramayogainstitute.com/wp-content/uploads/2023/07/Guru_Jagat_Kundalini_Yoga_Header4.jpg
END:VEVENT
BEGIN:VEVENT
DTSTART;TZID=America/Los_Angeles:20230830T110000
DTEND;TZID=America/Los_Angeles:20230830T120000
DTSTAMP:20260425T083324
CREATED:20230406T222604Z
LAST-MODIFIED:20230827T014327Z
UID:1787716-1693393200-1693396800@ramayogainstitute.com
SUMMARY:Infinite Heart Infinite Mind with Marta Ulbricht
DESCRIPTION:TUNE IN\nMarta first started practicing Kundalini Yoga and met her teacher Guru Jagat in 2018. She spent the next 4 years working closely with Guru Jagat\, traveling the world with her\, and now it’s her mission to carry forward the same love for these teachings that her teacher showed her. Marta’s Love & Devotion is her inspiration for all of the music that she composes.
URL:https://ramayogainstitute.com/event/energy-with-marta-ulbricht-2-2023-08-30/
LOCATION:Online
CATEGORIES:In Person,RA MA TV Live
ATTACH;FMTTYPE=image/jpeg:https://ramayogainstitute.com/wp-content/uploads/2021/12/Marta-Ulbricht.jpg
END:VEVENT
BEGIN:VEVENT
DTSTART;TZID=America/Los_Angeles:20230830T160000
DTEND;TZID=America/Los_Angeles:20230830T183000
DTSTAMP:20260425T083324
CREATED:20230821T223747Z
LAST-MODIFIED:20230827T015214Z
UID:1821954-1693411200-1693420200@ramayogainstitute.com
SUMMARY:Mother of Creation Full Moon Celebration with Pritam Siri
DESCRIPTION:TUNE IN\n  \nCelebrating the birthday of Guru Jagat — thought leader\, author\, poet\, yogi\, and founder of RA MA.\n7pm – 8:30pm EDT\nKundalini Yoga & Meditation \n+ 8:30pm – 9:30pm EDT\nRA MA CREATION CULTURE\nDinner\, Music & Performances\nRA MA New York & Virtually on RA MA TV Live \nPritam Siri is an artist and yogi based in New York City. She has dedicated her time to studying\, working\, and traveling with Guru Jagat from 2016 until her passing in 2021. She is an active student of Kundalini Yoga and Meditation as Taught by Yogi Bhajan and is committed to practicing and sharing kundalini yoga technology. Her classes are open and welcome to beginners and seasoned practitioners.
URL:https://ramayogainstitute.com/event/kundalini-yoga-meditation-with-pritam-siri-11-2023-08-30/
LOCATION:Online
CATEGORIES:In Person,RA MA TV Live
ATTACH;FMTTYPE=image/jpeg:https://ramayogainstitute.com/wp-content/uploads/2023/08/pritam-siri.jpeg
END:VEVENT
BEGIN:VEVENT
DTSTART;TZID=America/Los_Angeles:20230831T110000
DTEND;TZID=America/Los_Angeles:20230831T120000
DTSTAMP:20260425T083324
CREATED:20230406T225249Z
LAST-MODIFIED:20230830T222256Z
UID:1787601-1693479600-1693483200@ramayogainstitute.com
SUMMARY:PROSPERITY
DESCRIPTION:TUNE IN\nProsperity activating Kundalini Yoga & Meditation. These practices will brighten your day and expand the aura in all directions unlocking your hidden treasures. Invest an hour to charge up and experience your power to set a projection that lasts. Health\, Wealth\, Happiness. Thank you. \n 
URL:https://ramayogainstitute.com/event/prosperity-hour-with-malyvahn-6-2023-08-31/
LOCATION:Online
CATEGORIES:In Person,RA MA TV Live
ATTACH;FMTTYPE=image/jpeg:https://ramayogainstitute.com/wp-content/uploads/2023/06/RA-MA-Los-Angeles-Kundalini-Yoga-Meditation.jpg
END:VEVENT
BEGIN:VEVENT
DTSTART;TZID=America/Los_Angeles:20230904T103000
DTEND;TZID=America/Los_Angeles:20230904T120000
DTSTAMP:20260425T083324
CREATED:20230830T230846Z
LAST-MODIFIED:20230831T205759Z
UID:1827681-1693823400-1693828800@ramayogainstitute.com
SUMMARY:Labor Day- Kundalini Yoga\, Meditation & Gong with Harijiwan
DESCRIPTION:SIGN UP\nTUNE IN (TV LIVE MEMBERS)\nSpecial Labor Day Class \nHarijiwan has been teaching Kundalini Yoga since 1975. He is the founder of the GRAMMY®-Award-Winning band\, White Sun. With over 44 years of experience in the science of Kundalini Yoga\, Harijiwan incorporates a vast knowledge of various methodologies and training into his practice. Today\, and throughout his years as a teacher and healer\, Harijiwan remains committed to expanding his knowledge and experience to provide his students with the most progressive\, effective\, self-empowering approaches that increase overall joy and wholeness within the context of everyday experiences. \n*Included for RA MA TV Live Members
URL:https://ramayogainstitute.com/event/kundalini-yoga-meditation-gong-with-harijiwan/
CATEGORIES:In Person,Pay Per View Workshops,RA MA TV Live
ATTACH;FMTTYPE=image/jpeg:https://ramayogainstitute.com/wp-content/uploads/2023/07/L1020126_Harijiwan-Gong-RA-MA-Los-Angeles-edit_16x9small.jpg
END:VEVENT
BEGIN:VEVENT
DTSTART;TZID=America/Los_Angeles:20230905T190000
DTEND;TZID=America/Los_Angeles:20230905T203000
DTSTAMP:20260425T083324
CREATED:20230509T035506Z
LAST-MODIFIED:20230830T232033Z
UID:1806528-1693940400-1693945800@ramayogainstitute.com
SUMMARY:A Golden Archive Class with Guru Jagat
DESCRIPTION:TUNE IN\nGuru Jagat was a celebrated and iconoclastic thought leader who forged a new path of modern wellness. She embodied “creation culture” as an author\, fashion designer\, teacher\, musician\, chef\, and entrepreneur. She founded RA MA in 2013 and left a lasting legacy amongst her students\, family and friends. Read Guru Jagat’s obituary here and celebrate the tribute of her life.
URL:https://ramayogainstitute.com/event/a-golden-archive-class-with-guru-jagat-2023-09-05/
LOCATION:Online on RA MA TV
CATEGORIES:RA MA TV Live
ATTACH;FMTTYPE=image/jpeg:https://ramayogainstitute.com/wp-content/uploads/2022/12/Architects-Sound-Ajai-Alai-Guru-Jagat-Banner.jpg
END:VEVENT
BEGIN:VEVENT
DTSTART;TZID=America/Los_Angeles:20230907T110000
DTEND;TZID=America/Los_Angeles:20230907T120000
DTSTAMP:20260425T083324
CREATED:20230406T225249Z
LAST-MODIFIED:20230905T042250Z
UID:1787603-1694084400-1694088000@ramayogainstitute.com
SUMMARY:PROSPERITY HOUR with Jot Gianpreet
DESCRIPTION:TUNE IN\nProsperity activating Kundalini Yoga & Meditation. These practices will brighten your day and expand the aura in all directions unlocking your hidden treasures. Invest an hour to charge up and experience your power to set a projection that lasts. Health\, Wealth\, Happiness. Thank you. \nJot Gianpreet  studied with Tej & Harijiwan. Kundalini Yoga and Meditation was a lighting fast practice for her self growth and healing.  Her goal is to hold a healing space\, guided by the teachings\, where each student can reach their highest bliss of prosperity!
URL:https://ramayogainstitute.com/event/prosperity-hour-with-jotgianpreet-6-2023-09-07/2023-09-07/
LOCATION:Online
CATEGORIES:In Person,RA MA TV Live
ATTACH;FMTTYPE=image/jpeg:https://ramayogainstitute.com/wp-content/uploads/2023/04/RAMA_Kundalini_Nuria_Hermosa_Header.jpg
END:VEVENT
BEGIN:VEVENT
DTSTART;TZID=America/Los_Angeles:20230907T190000
DTEND;TZID=America/Los_Angeles:20230907T203000
DTSTAMP:20260425T083324
CREATED:20230308T220405Z
LAST-MODIFIED:20230908T003733Z
UID:1795641-1694113200-1694118600@ramayogainstitute.com
SUMMARY:Kundalini Yoga &  Meditation  with Teg Prakash
DESCRIPTION:TUNE IN\n  \nTeg Prakash is a Kundalini Yoga teacher\, astrologer\, and intuitive sound healer with a passionate curiosity for the teachings of Kundalini Yoga\, as taught by Yogi Bhajan\, and seeks to bring people to a true sense of their soul through astrology\, their personal power through yoga\, and their peace through the power of sound.
URL:https://ramayogainstitute.com/event/kundalini-yoga-meditation-with-shabadpreet-2-2023-05-23-2023-09-07/
LOCATION:Online
CATEGORIES:In Person,RA MA TV Live
ATTACH;FMTTYPE=image/jpeg:https://ramayogainstitute.com/wp-content/uploads/2023/01/Teg_Prakash_Website_Pic.jpg
END:VEVENT
BEGIN:VEVENT
DTSTART;TZID=America/Los_Angeles:20230909T110000
DTEND;TZID=America/Los_Angeles:20230909T123000
DTSTAMP:20260425T083324
CREATED:20230908T182146Z
LAST-MODIFIED:20230909T212004Z
UID:1835319-1694257200-1694262600@ramayogainstitute.com
SUMMARY:Kundalini Yoga & Meditation with Charandev
DESCRIPTION:TUNE IN \nCharandev has taught kundalini yoga classes and led trainings for several years. He delivers the teachings in an energetic\, practical manner. He sees the kundalini technology as a high performance vehicle that arrives at the highest human experiences. \nCharandev is a longtime student of Harijiwan and has followed his teacher to Mexico\, India\, Nepal and Tibet to gain a real experience of the mystical kundalini energy.
URL:https://ramayogainstitute.com/event/kundalini-yoga-meditation-with-charandev/
LOCATION:Online
CATEGORIES:In Person,RA MA TV Live
ATTACH;FMTTYPE=image/png:https://ramayogainstitute.com/wp-content/uploads/2021/03/charandev-featured-2.png
END:VEVENT
BEGIN:VEVENT
DTSTART;TZID=America/Los_Angeles:20230910T160000
DTEND;TZID=America/Los_Angeles:20230910T173000
DTSTAMP:20260425T083324
CREATED:20230813T212923Z
LAST-MODIFIED:20230901T074131Z
UID:1822144-1694361600-1694367000@ramayogainstitute.com
SUMMARY:Kundalini Yoga & Meditation with Atma Santokh
DESCRIPTION:TUNE IN\nKundalini Yoga to get HOT (& TRANSCENDENT) featuring house music mantra beats created by Atma Santokh \nSpending time with Atma Santokh is an invitation into joyful integration of the vast perfection of Spirit into this faceted human vehicle\, arriving home in rich and rising expression Me. Experience challenging mudras\, deep mantra selections\, and transformative meditation experiences with practical\, engaging\, and down-to-earth verbiage to express the deep love he has for\, and practical application of\, the Kundalini Yoga teachings and techniques.
URL:https://ramayogainstitute.com/event/kundalini-yoga-meditation-with-atma-santokh-3-2023-09-10/
LOCATION:Online on RA MA TV
CATEGORIES:In Person,RA MA TV Live
ATTACH;FMTTYPE=image/jpeg:https://ramayogainstitute.com/wp-content/uploads/2022/11/Atma-Santokh.jpg
END:VEVENT
BEGIN:VEVENT
DTSTART;TZID=America/Los_Angeles:20230911T090000
DTEND;TZID=America/Los_Angeles:20230911T103000
DTSTAMP:20260425T083324
CREATED:20220326T233049Z
LAST-MODIFIED:20230908T185522Z
UID:1794768-1694422800-1694428200@ramayogainstitute.com
SUMMARY:Kundalini Yoga & Meditation + Long Mul Mantra Monday with Mandev
DESCRIPTION:TUNE IN\nMandev Khalsa is an award-winning filmmaker and creator of My Moon Map™\, an IOS mobile app to track your moods and behavior pattern using the ancient yogic science of the Moon Centers. For years\, Mandev has deeply researched esoteric energetic structures in yogic teachings to discover energy and power. \nMandev teaches at RA MA Institute. Her classes feature deep breathing\, mantra\, meditation\, and gong relaxation. She seamlessly guides the class through a mandala of yogic postures\, pranayam\, and meditation with an emphasis on conscious breathing\, proper posture\, applying precise techniques to open an infinite flow of energy in you.
URL:https://ramayogainstitute.com/event/kundalini-yoga-and-meditation-long-mul-mantra-with-mandev-2022-05-23-2022-09-12-2023-01-02-2023-01-09-2023-09-11/2023-09-11/
LOCATION:Online
CATEGORIES:In Person,RA MA TV Live
ATTACH;FMTTYPE=image/jpeg:https://ramayogainstitute.com/wp-content/uploads/2023/05/Mandev-Celstial-photoshoot-2-Photo-by-Santosh-SMALL-1.jpg
END:VEVENT
BEGIN:VEVENT
DTSTART;TZID=America/Los_Angeles:20230911T190000
DTEND;TZID=America/Los_Angeles:20230911T201500
DTSTAMP:20260425T083324
CREATED:20230908T041210Z
LAST-MODIFIED:20230908T041338Z
UID:1834453-1694458800-1694463300@ramayogainstitute.com
SUMMARY:BEAM: Kundalini Yoga & Meditation with Jen Saltiel
DESCRIPTION:TUNE IN \nJen Saltiel has been practicing and working with the Kundalini Yoga technology since 2012. \nAs a devout student of Guru Jagat’s and member of RA MA Institute Global team\, \nshe has a deep connection with the teachings and genuine love and desire to deliver them to the world. Her classes are clear\, uplifting\, rhythmic\, and meditative.
URL:https://ramayogainstitute.com/event/beam-kundalini-yoga-meditation-with-jen-saltiel/2023-09-11/
LOCATION:Online
CATEGORIES:In Person,RA MA TV Live
ATTACH;FMTTYPE=image/jpeg:https://ramayogainstitute.com/wp-content/uploads/2022/06/Jen-Saltiel-Vimeo-Thumbnail.jpg
END:VEVENT
BEGIN:VEVENT
DTSTART;TZID=America/Los_Angeles:20230912T110000
DTEND;TZID=America/Los_Angeles:20230912T120000
DTSTAMP:20260425T083324
CREATED:20230406T225249Z
LAST-MODIFIED:20230908T182811Z
UID:1787604-1694516400-1694520000@ramayogainstitute.com
SUMMARY:PROSPERITY - Kundalini Yoga & Meditation with Malyvahn
DESCRIPTION:TUNE IN\nProsperity activating Kundalini Yoga & Meditation. These practices will brighten your day and expand the aura in all directions unlocking your hidden treasures. Invest an hour to charge up and experience your power to set a projection that lasts. Health\, Wealth\, Happiness. Thank you. \nMsalyvahn  studied with Tej & Harijiwan. Kundalini Yoga and Meditation was a lighting fast practice for her self growth and healing.  Her goal is to hold a healing space\, guided by the teachings\, where each student can reach their highest bliss of prosperity!
URL:https://ramayogainstitute.com/event/prosperity-hour-with-malyvahn-6-2023-09-07-2023-09-12/2023-09-12/
LOCATION:Online
CATEGORIES:In Person,RA MA TV Live
ATTACH;FMTTYPE=image/jpeg:https://ramayogainstitute.com/wp-content/uploads/2022/11/Malyvahn.jpg
END:VEVENT
BEGIN:VEVENT
DTSTART;TZID=America/Los_Angeles:20230913T173000
DTEND;TZID=America/Los_Angeles:20230913T190000
DTSTAMP:20260425T083324
CREATED:20230908T041907Z
LAST-MODIFIED:20230913T043710Z
UID:1834468-1694626200-1694631600@ramayogainstitute.com
SUMMARY:BEAM: Kundalini Yoga & Meditation with Jen Saltiel
DESCRIPTION:TUNE IN\nJen Saltiel has been practicing and working with the Kundalini Yoga technology since 2012. As a devout student of Guru Jagat’s and member of RA MA Institute Global team\, she has a deep connection with the teachings and genuine love and desire to deliver them to the world. Her classes are clear\, uplifting\, rhythmic\, and meditative. \n 
URL:https://ramayogainstitute.com/event/kundalini-yoga-meditation-with-jen-saltiel/2023-09-13/
LOCATION:Online
CATEGORIES:In Person,RA MA TV Live
ATTACH;FMTTYPE=image/jpeg:https://ramayogainstitute.com/wp-content/uploads/2022/06/Jen-Saltiel-Vimeo-Thumbnail.jpg
END:VEVENT
BEGIN:VEVENT
DTSTART;TZID=America/Los_Angeles:20230914T110000
DTEND;TZID=America/Los_Angeles:20230914T120000
DTSTAMP:20260425T083324
CREATED:20230406T225249Z
LAST-MODIFIED:20230908T154425Z
UID:1787605-1694689200-1694692800@ramayogainstitute.com
SUMMARY:PROSPERITY: New Moon in Virgo with Jot Gianpreet
DESCRIPTION:TUNE IN\nProsperity activating Kundalini Yoga & Meditation. These practices will brighten your day and expand the aura in all directions unlocking your hidden treasures. Invest an hour to charge up and experience your power to set a projection that lasts. Health\, Wealth\, Happiness. Thank you. \nJot Gianpreet  studied with Tej & Harijiwan. Kundalini Yoga and Meditation was a lighting fast practice for her self growth and healing.  Her goal is to hold a healing space\, guided by the teachings\, where each student can reach their highest bliss of prosperity!
URL:https://ramayogainstitute.com/event/prosperity-hour-with-malyvahn-6-2023-09-07-2023-09-14/
LOCATION:Online
CATEGORIES:In Person,RA MA TV Live
ATTACH;FMTTYPE=image/jpeg:https://ramayogainstitute.com/wp-content/uploads/2023/04/Jot-Gianpreet.jpeg
END:VEVENT
END:VCALENDAR