BEGIN:VCALENDAR
VERSION:2.0
PRODID:-//RA MA LIFE - ECPv6.15.15//NONSGML v1.0//EN
CALSCALE:GREGORIAN
METHOD:PUBLISH
X-WR-CALNAME:RA MA LIFE
X-ORIGINAL-URL:https://ramayogainstitute.com
X-WR-CALDESC:Events for RA MA LIFE
REFRESH-INTERVAL;VALUE=DURATION:PT1H
X-Robots-Tag:noindex
X-PUBLISHED-TTL:PT1H
BEGIN:VTIMEZONE
TZID:America/Los_Angeles
BEGIN:DAYLIGHT
TZOFFSETFROM:-0800
TZOFFSETTO:-0700
TZNAME:PDT
DTSTART:20240310T100000
END:DAYLIGHT
BEGIN:STANDARD
TZOFFSETFROM:-0700
TZOFFSETTO:-0800
TZNAME:PST
DTSTART:20241103T090000
END:STANDARD
BEGIN:DAYLIGHT
TZOFFSETFROM:-0800
TZOFFSETTO:-0700
TZNAME:PDT
DTSTART:20250309T100000
END:DAYLIGHT
BEGIN:STANDARD
TZOFFSETFROM:-0700
TZOFFSETTO:-0800
TZNAME:PST
DTSTART:20251102T090000
END:STANDARD
BEGIN:DAYLIGHT
TZOFFSETFROM:-0800
TZOFFSETTO:-0700
TZNAME:PDT
DTSTART:20260308T100000
END:DAYLIGHT
BEGIN:STANDARD
TZOFFSETFROM:-0700
TZOFFSETTO:-0800
TZNAME:PST
DTSTART:20261101T090000
END:STANDARD
END:VTIMEZONE
BEGIN:VEVENT
DTSTART;TZID=America/Los_Angeles:20250802T003000
DTEND;TZID=America/Los_Angeles:20250802T020000
DTSTAMP:20260422T151958
CREATED:20251125T164749Z
LAST-MODIFIED:20260102T152446Z
UID:2001190-1754094600-1754100000@ramayogainstitute.com
SUMMARY:KUNDALINI YOGA & MEDITATION with Teg Prakash
DESCRIPTION:
URL:https://ramayogainstitute.com/event/kundalini-yoga-meditation-7/2025-08-02/
LOCATION:Online on RA MA TV
CATEGORIES:In Person,RA MA TV Live
ATTACH;FMTTYPE=image/jpeg:https://ramayogainstitute.com/wp-content/uploads/2025/08/teg_prakash_laugh_thumb.jpg
END:VEVENT
BEGIN:VEVENT
DTSTART;TZID=America/Los_Angeles:20250803T003000
DTEND;TZID=America/Los_Angeles:20250803T020000
DTSTAMP:20260422T151958
CREATED:20251125T164749Z
LAST-MODIFIED:20260102T152505Z
UID:2001192-1754181000-1754186400@ramayogainstitute.com
SUMMARY:KUNDALINI YOGA & MEDITATION with Teg Prakash
DESCRIPTION:
URL:https://ramayogainstitute.com/event/kundalini-yoga-meditation-7/2025-08-03/
LOCATION:Online on RA MA TV
CATEGORIES:In Person,RA MA TV Live
ATTACH;FMTTYPE=image/jpeg:https://ramayogainstitute.com/wp-content/uploads/2025/08/teg_prakash_laugh_thumb.jpg
END:VEVENT
BEGIN:VEVENT
DTSTART;TZID=America/Los_Angeles:20250803T090000
DTEND;TZID=America/Los_Angeles:20250803T103000
DTSTAMP:20260422T151958
CREATED:20250303T204732Z
LAST-MODIFIED:20250303T204732Z
UID:2012824-1754211600-1754217000@ramayogainstitute.com
SUMMARY:GURU JAGAT GOLDEN ARCHIVES
DESCRIPTION:
URL:https://ramayogainstitute.com/event/guru-jagat-golden-archives-2-2025-08-03/
LOCATION:Online on Zoom
CATEGORIES:RA MA TV Live,RA MA TV ZOOM
ATTACH;FMTTYPE=image/jpeg:https://ramayogainstitute.com/wp-content/uploads/2024/07/GuruJagat_Remember_Header.jpg
END:VEVENT
BEGIN:VEVENT
DTSTART;TZID=America/Los_Angeles:20250806T003000
DTEND;TZID=America/Los_Angeles:20250806T020000
DTSTAMP:20260422T151958
CREATED:20241108T045802Z
LAST-MODIFIED:20260102T150443Z
UID:1971323-1754440200-1754445600@ramayogainstitute.com
SUMMARY:KUNDALINI YOGA & MEDITATION with Siri Manprem
DESCRIPTION:
URL:https://ramayogainstitute.com/event/kundalini-yoga-and-meditation-with-siri-manprem-3/2025-08-06/
LOCATION:Online on RA MA TV
CATEGORIES:In Person,RA MA TV Live
ATTACH;FMTTYPE=image/png:https://ramayogainstitute.com/wp-content/uploads/2020/01/siri-manprem-e1732668581561.png
END:VEVENT
BEGIN:VEVENT
DTSTART;TZID=America/Los_Angeles:20250808T003000
DTEND;TZID=America/Los_Angeles:20250808T020000
DTSTAMP:20260422T151958
CREATED:20260206T160116Z
LAST-MODIFIED:20260206T160638Z
UID:2009767-1754613000-1754618400@ramayogainstitute.com
SUMMARY:KUNDALINI YOGA & MEDITATION
DESCRIPTION:
URL:https://ramayogainstitute.com/event/kundalini-yoga-meditation-9/2025-08-08/
LOCATION:Online on RA MA TV
CATEGORIES:In Person,RA MA TV Live
ATTACH;FMTTYPE=image/jpeg:https://ramayogainstitute.com/wp-content/uploads/2025/08/Atma-green-wall-01.jpg
END:VEVENT
BEGIN:VEVENT
DTSTART;TZID=America/Los_Angeles:20250808T083000
DTEND;TZID=America/Los_Angeles:20250808T100000
DTSTAMP:20260422T151958
CREATED:20250806T181445Z
LAST-MODIFIED:20250806T181445Z
UID:1990433-1754641800-1754647200@ramayogainstitute.com
SUMMARY:THE MERCURY FREQUENCY | 8/8 Breathwork & Numerology
DESCRIPTION:Get deep into the numerology of 8\, the power of prana\, and the planet Mercury’s influence on each of our lives.
URL:https://ramayogainstitute.com/event/the-mercury-frequency-8-8-breathwork-numerology/
LOCATION:RA MA Mallorca & Online
CATEGORIES:In Person,RA MA TV Live
ATTACH;FMTTYPE=image/jpeg:https://ramayogainstitute.com/wp-content/uploads/2024/04/teg_prakash_AWAKEN_thumb_2.jpg
END:VEVENT
BEGIN:VEVENT
DTSTART;TZID=America/Los_Angeles:20250809T003000
DTEND;TZID=America/Los_Angeles:20250809T020000
DTSTAMP:20260422T151958
CREATED:20251125T164749Z
LAST-MODIFIED:20260102T152507Z
UID:2001193-1754699400-1754704800@ramayogainstitute.com
SUMMARY:KUNDALINI YOGA & MEDITATION with Teg Prakash
DESCRIPTION:
URL:https://ramayogainstitute.com/event/kundalini-yoga-meditation-7/2025-08-09/
LOCATION:Online on RA MA TV
CATEGORIES:In Person,RA MA TV Live
ATTACH;FMTTYPE=image/jpeg:https://ramayogainstitute.com/wp-content/uploads/2025/08/teg_prakash_laugh_thumb.jpg
END:VEVENT
BEGIN:VEVENT
DTSTART;TZID=America/Los_Angeles:20250810T003000
DTEND;TZID=America/Los_Angeles:20250810T020000
DTSTAMP:20260422T151958
CREATED:20251125T164749Z
LAST-MODIFIED:20260102T152508Z
UID:2001194-1754785800-1754791200@ramayogainstitute.com
SUMMARY:KUNDALINI YOGA & MEDITATION with Teg Prakash
DESCRIPTION:
URL:https://ramayogainstitute.com/event/kundalini-yoga-meditation-7/2025-08-10/
LOCATION:Online on RA MA TV
CATEGORIES:In Person,RA MA TV Live
ATTACH;FMTTYPE=image/jpeg:https://ramayogainstitute.com/wp-content/uploads/2025/08/teg_prakash_laugh_thumb.jpg
END:VEVENT
BEGIN:VEVENT
DTSTART;TZID=America/Los_Angeles:20250810T090000
DTEND;TZID=America/Los_Angeles:20250810T103000
DTSTAMP:20260422T151958
CREATED:20250303T204732Z
LAST-MODIFIED:20250303T204732Z
UID:2012825-1754816400-1754821800@ramayogainstitute.com
SUMMARY:GURU JAGAT GOLDEN ARCHIVES
DESCRIPTION:
URL:https://ramayogainstitute.com/event/guru-jagat-golden-archives-2-2025-08-10/
LOCATION:Online on Zoom
CATEGORIES:RA MA TV Live,RA MA TV ZOOM
ATTACH;FMTTYPE=image/jpeg:https://ramayogainstitute.com/wp-content/uploads/2024/07/GuruJagat_Remember_Header.jpg
END:VEVENT
BEGIN:VEVENT
DTSTART;TZID=America/Los_Angeles:20250811T100000
DTEND;TZID=America/Los_Angeles:20250811T113000
DTSTAMP:20260422T151958
CREATED:20250303T205723Z
LAST-MODIFIED:20250807T141326Z
UID:1990492-1754906400-1754911800@ramayogainstitute.com
SUMMARY:Harmonize | Meditation & Sound Bath with Teg Prakash
DESCRIPTION:
URL:https://ramayogainstitute.com/event/inspire-with-dhyan-ramgeet-2025-08-11/
LOCATION:Online on RA MA TV
CATEGORIES:In Person,RA MA TV Live
ATTACH;FMTTYPE=image/jpeg:https://ramayogainstitute.com/wp-content/uploads/2025/08/teg_prakash_tree_thumb.jpg
END:VEVENT
BEGIN:VEVENT
DTSTART;TZID=America/Los_Angeles:20250813T003000
DTEND;TZID=America/Los_Angeles:20250813T020000
DTSTAMP:20260422T151958
CREATED:20241108T045802Z
LAST-MODIFIED:20260102T150447Z
UID:1972137-1755045000-1755050400@ramayogainstitute.com
SUMMARY:KUNDALINI YOGA & MEDITATION with Siri Manprem
DESCRIPTION:
URL:https://ramayogainstitute.com/event/kundalini-yoga-and-meditation-with-siri-manprem-3/2025-08-13/
LOCATION:Online on RA MA TV
CATEGORIES:In Person,RA MA TV Live
ATTACH;FMTTYPE=image/png:https://ramayogainstitute.com/wp-content/uploads/2020/01/siri-manprem-e1732668581561.png
END:VEVENT
BEGIN:VEVENT
DTSTART;TZID=America/Los_Angeles:20250815T003000
DTEND;TZID=America/Los_Angeles:20250815T020000
DTSTAMP:20260422T151958
CREATED:20260206T160116Z
LAST-MODIFIED:20260206T160640Z
UID:2009768-1755217800-1755223200@ramayogainstitute.com
SUMMARY:KUNDALINI YOGA & MEDITATION
DESCRIPTION:
URL:https://ramayogainstitute.com/event/kundalini-yoga-meditation-9/2025-08-15/
LOCATION:Online on RA MA TV
CATEGORIES:In Person,RA MA TV Live
ATTACH;FMTTYPE=image/jpeg:https://ramayogainstitute.com/wp-content/uploads/2025/08/Atma-green-wall-01.jpg
END:VEVENT
BEGIN:VEVENT
DTSTART;TZID=America/Los_Angeles:20250816T003000
DTEND;TZID=America/Los_Angeles:20250816T020000
DTSTAMP:20260422T151958
CREATED:20251125T164749Z
LAST-MODIFIED:20260102T152509Z
UID:2001195-1755304200-1755309600@ramayogainstitute.com
SUMMARY:KUNDALINI YOGA & MEDITATION with Teg Prakash
DESCRIPTION:
URL:https://ramayogainstitute.com/event/kundalini-yoga-meditation-7/2025-08-16/
LOCATION:Online on RA MA TV
CATEGORIES:In Person,RA MA TV Live
ATTACH;FMTTYPE=image/jpeg:https://ramayogainstitute.com/wp-content/uploads/2025/08/teg_prakash_laugh_thumb.jpg
END:VEVENT
BEGIN:VEVENT
DTSTART;TZID=America/Los_Angeles:20250817T003000
DTEND;TZID=America/Los_Angeles:20250817T020000
DTSTAMP:20260422T151958
CREATED:20251125T164749Z
LAST-MODIFIED:20260102T152515Z
UID:2001196-1755390600-1755396000@ramayogainstitute.com
SUMMARY:KUNDALINI YOGA & MEDITATION with Teg Prakash
DESCRIPTION:
URL:https://ramayogainstitute.com/event/kundalini-yoga-meditation-7/2025-08-17/
LOCATION:Online on RA MA TV
CATEGORIES:In Person,RA MA TV Live
ATTACH;FMTTYPE=image/jpeg:https://ramayogainstitute.com/wp-content/uploads/2025/08/teg_prakash_laugh_thumb.jpg
END:VEVENT
BEGIN:VEVENT
DTSTART;TZID=America/Los_Angeles:20250817T090000
DTEND;TZID=America/Los_Angeles:20250817T103000
DTSTAMP:20260422T151958
CREATED:20250303T204732Z
LAST-MODIFIED:20250303T204732Z
UID:2012826-1755421200-1755426600@ramayogainstitute.com
SUMMARY:GURU JAGAT GOLDEN ARCHIVES
DESCRIPTION:
URL:https://ramayogainstitute.com/event/guru-jagat-golden-archives-2-2025-08-17/
LOCATION:Online on Zoom
CATEGORIES:RA MA TV Live,RA MA TV ZOOM
ATTACH;FMTTYPE=image/jpeg:https://ramayogainstitute.com/wp-content/uploads/2024/07/GuruJagat_Remember_Header.jpg
END:VEVENT
BEGIN:VEVENT
DTSTART;TZID=America/Los_Angeles:20250820T003000
DTEND;TZID=America/Los_Angeles:20250820T020000
DTSTAMP:20260422T151958
CREATED:20241108T045802Z
LAST-MODIFIED:20260102T150448Z
UID:1972822-1755649800-1755655200@ramayogainstitute.com
SUMMARY:KUNDALINI YOGA & MEDITATION with Siri Manprem
DESCRIPTION:
URL:https://ramayogainstitute.com/event/kundalini-yoga-and-meditation-with-siri-manprem-3/2025-08-20/
LOCATION:Online on RA MA TV
CATEGORIES:In Person,RA MA TV Live
ATTACH;FMTTYPE=image/png:https://ramayogainstitute.com/wp-content/uploads/2020/01/siri-manprem-e1732668581561.png
END:VEVENT
BEGIN:VEVENT
DTSTART;TZID=America/Los_Angeles:20250820T100000
DTEND;TZID=America/Los_Angeles:20250820T113000
DTSTAMP:20260422T151958
CREATED:20250422T010927Z
LAST-MODIFIED:20250818T225512Z
UID:1981852-1755684000-1755689400@ramayogainstitute.com
SUMMARY:Listening Heart | Mantra Meditation & Alchemy Crystal Sound Bath
DESCRIPTION:Mantric meditation to attune to subtle whispers of truth\, guidance\, and presence. surrender to the crystal alchemy bowls as their intuitive tones carry us into a deep\, uplifting sound bath.\ninvites clarity\, connection\, and healing for your mind\, body\, and spirit into your week
URL:https://ramayogainstitute.com/event/kundalini-yoga-gong-2025-08-20/
LOCATION:Online on RA MA TV
CATEGORIES:In Person,RA MA TV Live
ATTACH;FMTTYPE=image/jpeg:https://ramayogainstitute.com/wp-content/uploads/2024/11/ConsciousWakeUp_AnnaCaldwell_Header.jpg
END:VEVENT
BEGIN:VEVENT
DTSTART;TZID=America/Los_Angeles:20250822T003000
DTEND;TZID=America/Los_Angeles:20250822T020000
DTSTAMP:20260422T151958
CREATED:20260206T160116Z
LAST-MODIFIED:20260206T160641Z
UID:2009769-1755822600-1755828000@ramayogainstitute.com
SUMMARY:KUNDALINI YOGA & MEDITATION
DESCRIPTION:
URL:https://ramayogainstitute.com/event/kundalini-yoga-meditation-9/2025-08-22/
LOCATION:Online on RA MA TV
CATEGORIES:In Person,RA MA TV Live
ATTACH;FMTTYPE=image/jpeg:https://ramayogainstitute.com/wp-content/uploads/2025/08/Atma-green-wall-01.jpg
END:VEVENT
BEGIN:VEVENT
DTSTART;TZID=America/Los_Angeles:20250823T003000
DTEND;TZID=America/Los_Angeles:20250823T020000
DTSTAMP:20260422T151958
CREATED:20251125T164749Z
LAST-MODIFIED:20260102T152516Z
UID:2001197-1755909000-1755914400@ramayogainstitute.com
SUMMARY:KUNDALINI YOGA & MEDITATION with Teg Prakash
DESCRIPTION:
URL:https://ramayogainstitute.com/event/kundalini-yoga-meditation-7/2025-08-23/
LOCATION:Online on RA MA TV
CATEGORIES:In Person,RA MA TV Live
ATTACH;FMTTYPE=image/jpeg:https://ramayogainstitute.com/wp-content/uploads/2025/08/teg_prakash_laugh_thumb.jpg
END:VEVENT
BEGIN:VEVENT
DTSTART;TZID=America/Los_Angeles:20250824T003000
DTEND;TZID=America/Los_Angeles:20250824T020000
DTSTAMP:20260422T151958
CREATED:20251125T164749Z
LAST-MODIFIED:20260102T152516Z
UID:2001198-1755995400-1756000800@ramayogainstitute.com
SUMMARY:KUNDALINI YOGA & MEDITATION with Teg Prakash
DESCRIPTION:
URL:https://ramayogainstitute.com/event/kundalini-yoga-meditation-7/2025-08-24/
LOCATION:Online on RA MA TV
CATEGORIES:In Person,RA MA TV Live
ATTACH;FMTTYPE=image/jpeg:https://ramayogainstitute.com/wp-content/uploads/2025/08/teg_prakash_laugh_thumb.jpg
END:VEVENT
BEGIN:VEVENT
DTSTART;TZID=America/Los_Angeles:20250824T090000
DTEND;TZID=America/Los_Angeles:20250824T103000
DTSTAMP:20260422T151958
CREATED:20250303T204732Z
LAST-MODIFIED:20250303T204732Z
UID:2012828-1756026000-1756031400@ramayogainstitute.com
SUMMARY:GURU JAGAT GOLDEN ARCHIVES
DESCRIPTION:
URL:https://ramayogainstitute.com/event/guru-jagat-golden-archives-2-2025-08-24/
LOCATION:Online on Zoom
CATEGORIES:RA MA TV Live,RA MA TV ZOOM
ATTACH;FMTTYPE=image/jpeg:https://ramayogainstitute.com/wp-content/uploads/2024/07/GuruJagat_Remember_Header.jpg
END:VEVENT
BEGIN:VEVENT
DTSTART;TZID=America/Los_Angeles:20250827T003000
DTEND;TZID=America/Los_Angeles:20250827T020000
DTSTAMP:20260422T151958
CREATED:20241108T045802Z
LAST-MODIFIED:20260102T150448Z
UID:1973832-1756254600-1756260000@ramayogainstitute.com
SUMMARY:KUNDALINI YOGA & MEDITATION with Siri Manprem
DESCRIPTION:
URL:https://ramayogainstitute.com/event/kundalini-yoga-and-meditation-with-siri-manprem-3/2025-08-27/
LOCATION:Online on RA MA TV
CATEGORIES:In Person,RA MA TV Live
ATTACH;FMTTYPE=image/png:https://ramayogainstitute.com/wp-content/uploads/2020/01/siri-manprem-e1732668581561.png
END:VEVENT
BEGIN:VEVENT
DTSTART;TZID=America/Los_Angeles:20250829T003000
DTEND;TZID=America/Los_Angeles:20250829T020000
DTSTAMP:20260422T151958
CREATED:20260206T160116Z
LAST-MODIFIED:20260206T160642Z
UID:2009770-1756427400-1756432800@ramayogainstitute.com
SUMMARY:KUNDALINI YOGA & MEDITATION
DESCRIPTION:
URL:https://ramayogainstitute.com/event/kundalini-yoga-meditation-9/2025-08-29/
LOCATION:Online on RA MA TV
CATEGORIES:In Person,RA MA TV Live
ATTACH;FMTTYPE=image/jpeg:https://ramayogainstitute.com/wp-content/uploads/2025/08/Atma-green-wall-01.jpg
END:VEVENT
BEGIN:VEVENT
DTSTART;TZID=America/Los_Angeles:20250830T003000
DTEND;TZID=America/Los_Angeles:20250830T020000
DTSTAMP:20260422T151958
CREATED:20251125T164749Z
LAST-MODIFIED:20260102T152517Z
UID:2001199-1756513800-1756519200@ramayogainstitute.com
SUMMARY:KUNDALINI YOGA & MEDITATION with Teg Prakash
DESCRIPTION:
URL:https://ramayogainstitute.com/event/kundalini-yoga-meditation-7/2025-08-30/
LOCATION:Online on RA MA TV
CATEGORIES:In Person,RA MA TV Live
ATTACH;FMTTYPE=image/jpeg:https://ramayogainstitute.com/wp-content/uploads/2025/08/teg_prakash_laugh_thumb.jpg
END:VEVENT
BEGIN:VEVENT
DTSTART;TZID=America/Los_Angeles:20250831T003000
DTEND;TZID=America/Los_Angeles:20250831T020000
DTSTAMP:20260422T151958
CREATED:20251125T164749Z
LAST-MODIFIED:20260102T152518Z
UID:2001200-1756600200-1756605600@ramayogainstitute.com
SUMMARY:KUNDALINI YOGA & MEDITATION with Teg Prakash
DESCRIPTION:
URL:https://ramayogainstitute.com/event/kundalini-yoga-meditation-7/2025-08-31/
LOCATION:Online on RA MA TV
CATEGORIES:In Person,RA MA TV Live
ATTACH;FMTTYPE=image/jpeg:https://ramayogainstitute.com/wp-content/uploads/2025/08/teg_prakash_laugh_thumb.jpg
END:VEVENT
BEGIN:VEVENT
DTSTART;TZID=America/Los_Angeles:20250831T090000
DTEND;TZID=America/Los_Angeles:20250831T103000
DTSTAMP:20260422T151958
CREATED:20250303T204732Z
LAST-MODIFIED:20250303T204732Z
UID:2012829-1756630800-1756636200@ramayogainstitute.com
SUMMARY:GURU JAGAT GOLDEN ARCHIVES
DESCRIPTION:
URL:https://ramayogainstitute.com/event/guru-jagat-golden-archives-2-2025-08-31/
LOCATION:Online on Zoom
CATEGORIES:RA MA TV Live,RA MA TV ZOOM
ATTACH;FMTTYPE=image/jpeg:https://ramayogainstitute.com/wp-content/uploads/2024/07/GuruJagat_Remember_Header.jpg
END:VEVENT
BEGIN:VEVENT
DTSTART;TZID=America/Los_Angeles:20250903T003000
DTEND;TZID=America/Los_Angeles:20250903T020000
DTSTAMP:20260422T151958
CREATED:20241108T045802Z
LAST-MODIFIED:20260102T150450Z
UID:1975230-1756859400-1756864800@ramayogainstitute.com
SUMMARY:KUNDALINI YOGA & MEDITATION with Siri Manprem
DESCRIPTION:
URL:https://ramayogainstitute.com/event/kundalini-yoga-and-meditation-with-siri-manprem-3/2025-09-03/
LOCATION:Online on RA MA TV
CATEGORIES:In Person,RA MA TV Live
ATTACH;FMTTYPE=image/png:https://ramayogainstitute.com/wp-content/uploads/2020/01/siri-manprem-e1732668581561.png
END:VEVENT
BEGIN:VEVENT
DTSTART;TZID=America/Los_Angeles:20250905T003000
DTEND;TZID=America/Los_Angeles:20250905T020000
DTSTAMP:20260422T151958
CREATED:20260206T160116Z
LAST-MODIFIED:20260206T160644Z
UID:2009771-1757032200-1757037600@ramayogainstitute.com
SUMMARY:KUNDALINI YOGA & MEDITATION
DESCRIPTION:
URL:https://ramayogainstitute.com/event/kundalini-yoga-meditation-9/2025-09-05/
LOCATION:Online on RA MA TV
CATEGORIES:In Person,RA MA TV Live
ATTACH;FMTTYPE=image/jpeg:https://ramayogainstitute.com/wp-content/uploads/2025/08/Atma-green-wall-01.jpg
END:VEVENT
BEGIN:VEVENT
DTSTART;TZID=America/Los_Angeles:20250905T100000
DTEND;TZID=America/Los_Angeles:20250905T113000
DTSTAMP:20260422T151958
CREATED:20250303T210710Z
LAST-MODIFIED:20250901T111214Z
UID:1982827-1757066400-1757071800@ramayogainstitute.com
SUMMARY:Kundalini Yoga & Meditation
DESCRIPTION:
URL:https://ramayogainstitute.com/event/source-fertility-practices-2025-09-05/
LOCATION:Online on RA MA TV
CATEGORIES:In Person,RA MA TV Live
ATTACH;FMTTYPE=image/jpeg:https://ramayogainstitute.com/wp-content/uploads/2023/03/Johanna.jpeg
END:VEVENT
BEGIN:VEVENT
DTSTART;TZID=America/Los_Angeles:20250906T003000
DTEND;TZID=America/Los_Angeles:20250906T020000
DTSTAMP:20260422T151958
CREATED:20251125T164749Z
LAST-MODIFIED:20260102T152519Z
UID:2001201-1757118600-1757124000@ramayogainstitute.com
SUMMARY:KUNDALINI YOGA & MEDITATION with Teg Prakash
DESCRIPTION:
URL:https://ramayogainstitute.com/event/kundalini-yoga-meditation-7/2025-09-06/
LOCATION:Online on RA MA TV
CATEGORIES:In Person,RA MA TV Live
ATTACH;FMTTYPE=image/jpeg:https://ramayogainstitute.com/wp-content/uploads/2025/08/teg_prakash_laugh_thumb.jpg
END:VEVENT
END:VCALENDAR