BEGIN:VCALENDAR
VERSION:2.0
PRODID:-//RA MA LIFE - ECPv6.15.15//NONSGML v1.0//EN
CALSCALE:GREGORIAN
METHOD:PUBLISH
X-WR-CALNAME:RA MA LIFE
X-ORIGINAL-URL:https://ramayogainstitute.com
X-WR-CALDESC:Events for RA MA LIFE
REFRESH-INTERVAL;VALUE=DURATION:PT1H
X-Robots-Tag:noindex
X-PUBLISHED-TTL:PT1H
BEGIN:VTIMEZONE
TZID:America/Los_Angeles
BEGIN:DAYLIGHT
TZOFFSETFROM:-0800
TZOFFSETTO:-0700
TZNAME:PDT
DTSTART:20240310T100000
END:DAYLIGHT
BEGIN:STANDARD
TZOFFSETFROM:-0700
TZOFFSETTO:-0800
TZNAME:PST
DTSTART:20241103T090000
END:STANDARD
BEGIN:DAYLIGHT
TZOFFSETFROM:-0800
TZOFFSETTO:-0700
TZNAME:PDT
DTSTART:20250309T100000
END:DAYLIGHT
BEGIN:STANDARD
TZOFFSETFROM:-0700
TZOFFSETTO:-0800
TZNAME:PST
DTSTART:20251102T090000
END:STANDARD
BEGIN:DAYLIGHT
TZOFFSETFROM:-0800
TZOFFSETTO:-0700
TZNAME:PDT
DTSTART:20260308T100000
END:DAYLIGHT
BEGIN:STANDARD
TZOFFSETFROM:-0700
TZOFFSETTO:-0800
TZNAME:PST
DTSTART:20261101T090000
END:STANDARD
END:VTIMEZONE
BEGIN:VEVENT
DTSTART;TZID=America/Los_Angeles:20250604T003000
DTEND;TZID=America/Los_Angeles:20250604T020000
DTSTAMP:20260422T152001
CREATED:20241108T045802Z
LAST-MODIFIED:20260102T150435Z
UID:1964128-1748997000-1749002400@ramayogainstitute.com
SUMMARY:KUNDALINI YOGA & MEDITATION with Siri Manprem
DESCRIPTION:
URL:https://ramayogainstitute.com/event/kundalini-yoga-and-meditation-with-siri-manprem-3/2025-06-04/
LOCATION:Online on RA MA TV
CATEGORIES:In Person,RA MA TV Live
ATTACH;FMTTYPE=image/png:https://ramayogainstitute.com/wp-content/uploads/2020/01/siri-manprem-e1732668581561.png
END:VEVENT
BEGIN:VEVENT
DTSTART;TZID=America/Los_Angeles:20250606T003000
DTEND;TZID=America/Los_Angeles:20250606T020000
DTSTAMP:20260422T152001
CREATED:20260206T160116Z
LAST-MODIFIED:20260206T160116Z
UID:2009836-1749169800-1749175200@ramayogainstitute.com
SUMMARY:KUNDALINI YOGA & MEDITATION
DESCRIPTION:
URL:https://ramayogainstitute.com/event/kundalini-yoga-meditation-9/2025-06-06/
LOCATION:Online on RA MA TV
CATEGORIES:In Person,RA MA TV Live
ATTACH;FMTTYPE=image/jpeg:https://ramayogainstitute.com/wp-content/uploads/2025/08/Atma-green-wall-01.jpg
END:VEVENT
BEGIN:VEVENT
DTSTART;TZID=America/Los_Angeles:20250611T003000
DTEND;TZID=America/Los_Angeles:20250611T020000
DTSTAMP:20260422T152001
CREATED:20241108T045802Z
LAST-MODIFIED:20260102T150436Z
UID:1965091-1749601800-1749607200@ramayogainstitute.com
SUMMARY:KUNDALINI YOGA & MEDITATION with Siri Manprem
DESCRIPTION:
URL:https://ramayogainstitute.com/event/kundalini-yoga-and-meditation-with-siri-manprem-3/2025-06-11/
LOCATION:Online on RA MA TV
CATEGORIES:In Person,RA MA TV Live
ATTACH;FMTTYPE=image/png:https://ramayogainstitute.com/wp-content/uploads/2020/01/siri-manprem-e1732668581561.png
END:VEVENT
BEGIN:VEVENT
DTSTART;TZID=America/Los_Angeles:20250613T003000
DTEND;TZID=America/Los_Angeles:20250613T020000
DTSTAMP:20260422T152001
CREATED:20260206T160116Z
LAST-MODIFIED:20260206T160116Z
UID:2009837-1749774600-1749780000@ramayogainstitute.com
SUMMARY:KUNDALINI YOGA & MEDITATION
DESCRIPTION:
URL:https://ramayogainstitute.com/event/kundalini-yoga-meditation-9/2025-06-13/
LOCATION:Online on RA MA TV
CATEGORIES:In Person,RA MA TV Live
ATTACH;FMTTYPE=image/jpeg:https://ramayogainstitute.com/wp-content/uploads/2025/08/Atma-green-wall-01.jpg
END:VEVENT
BEGIN:VEVENT
DTSTART;TZID=America/Los_Angeles:20250617T003000
DTEND;TZID=America/Los_Angeles:20250617T020000
DTSTAMP:20260422T152001
CREATED:20250617T025727Z
LAST-MODIFIED:20250617T025729Z
UID:1986554-1750120200-1750125600@ramayogainstitute.com
SUMMARY:Begonia Nam Devmeet
DESCRIPTION:
URL:https://ramayogainstitute.com/event/begonia-nam-devmeet/
LOCATION:RA MA Institute Mallorca\, Carrer de Despuig\, 51\, Palma\, Illes Balears\, 07013\, Spain
CATEGORIES:In Person,RA MA TV Live
ATTACH;FMTTYPE=image/png:https://ramayogainstitute.com/wp-content/uploads/2025/03/Begonia_Dev_Namgeet.png
END:VEVENT
BEGIN:VEVENT
DTSTART;TZID=America/Los_Angeles:20250618T003000
DTEND;TZID=America/Los_Angeles:20250618T020000
DTSTAMP:20260422T152002
CREATED:20241108T045802Z
LAST-MODIFIED:20260102T150436Z
UID:1965809-1750206600-1750212000@ramayogainstitute.com
SUMMARY:KUNDALINI YOGA & MEDITATION with Siri Manprem
DESCRIPTION:
URL:https://ramayogainstitute.com/event/kundalini-yoga-and-meditation-with-siri-manprem-3/2025-06-18/
LOCATION:Online on RA MA TV
CATEGORIES:In Person,RA MA TV Live
ATTACH;FMTTYPE=image/png:https://ramayogainstitute.com/wp-content/uploads/2020/01/siri-manprem-e1732668581561.png
END:VEVENT
BEGIN:VEVENT
DTSTART;TZID=America/Los_Angeles:20250619T003000
DTEND;TZID=America/Los_Angeles:20250619T020000
DTSTAMP:20260422T152002
CREATED:20250617T030625Z
LAST-MODIFIED:20250617T030627Z
UID:1986556-1750293000-1750298400@ramayogainstitute.com
SUMMARY:Kundalini Yoga and Meditation with Atma Santokh
DESCRIPTION:
URL:https://ramayogainstitute.com/event/kundalini-yoga-and-meditation-with-atma-santokh-5/
LOCATION:RA MA Institute Mallorca\, Carrer de Despuig\, 51\, Palma\, Illes Balears\, 07013\, Spain
CATEGORIES:In Person,RA MA TV Live
ATTACH;FMTTYPE=image/jpeg:https://ramayogainstitute.com/wp-content/uploads/2025/03/Atma-Santokh_palma_02.jpg
END:VEVENT
BEGIN:VEVENT
DTSTART;TZID=America/Los_Angeles:20250620T003000
DTEND;TZID=America/Los_Angeles:20250620T020000
DTSTAMP:20260422T152002
CREATED:20241107T043700Z
LAST-MODIFIED:20250617T031023Z
UID:1966063-1750379400-1750384800@ramayogainstitute.com
SUMMARY:Kundalini Yoga and Meditation with Begonia Nam Devmeet
DESCRIPTION:
URL:https://ramayogainstitute.com/event/kundalini-yoga-and-meditation-with-magdalena-3-2025-06-20/
LOCATION:Online on RA MA TV
CATEGORIES:In Person,RA MA TV Live
ATTACH;FMTTYPE=image/png:https://ramayogainstitute.com/wp-content/uploads/2025/03/Begonia_Dev_Namgeet.png
END:VEVENT
BEGIN:VEVENT
DTSTART;TZID=America/Los_Angeles:20250620T003000
DTEND;TZID=America/Los_Angeles:20250620T020000
DTSTAMP:20260422T152002
CREATED:20260206T160116Z
LAST-MODIFIED:20260206T160116Z
UID:2009838-1750379400-1750384800@ramayogainstitute.com
SUMMARY:KUNDALINI YOGA & MEDITATION
DESCRIPTION:
URL:https://ramayogainstitute.com/event/kundalini-yoga-meditation-9/2025-06-20/
LOCATION:Online on RA MA TV
CATEGORIES:In Person,RA MA TV Live
ATTACH;FMTTYPE=image/jpeg:https://ramayogainstitute.com/wp-content/uploads/2025/08/Atma-green-wall-01.jpg
END:VEVENT
BEGIN:VEVENT
DTSTART;TZID=America/Los_Angeles:20250625T003000
DTEND;TZID=America/Los_Angeles:20250625T020000
DTSTAMP:20260422T152002
CREATED:20241108T045802Z
LAST-MODIFIED:20260102T150438Z
UID:1966598-1750811400-1750816800@ramayogainstitute.com
SUMMARY:KUNDALINI YOGA & MEDITATION with Siri Manprem
DESCRIPTION:
URL:https://ramayogainstitute.com/event/kundalini-yoga-and-meditation-with-siri-manprem-3/2025-06-25/
LOCATION:Online on RA MA TV
CATEGORIES:In Person,RA MA TV Live
ATTACH;FMTTYPE=image/png:https://ramayogainstitute.com/wp-content/uploads/2020/01/siri-manprem-e1732668581561.png
END:VEVENT
BEGIN:VEVENT
DTSTART;TZID=America/Los_Angeles:20250627T003000
DTEND;TZID=America/Los_Angeles:20250627T020000
DTSTAMP:20260422T152002
CREATED:20260206T160116Z
LAST-MODIFIED:20260206T160631Z
UID:2009761-1750984200-1750989600@ramayogainstitute.com
SUMMARY:KUNDALINI YOGA & MEDITATION
DESCRIPTION:
URL:https://ramayogainstitute.com/event/kundalini-yoga-meditation-9/2025-06-27/
LOCATION:Online on RA MA TV
CATEGORIES:In Person,RA MA TV Live
ATTACH;FMTTYPE=image/jpeg:https://ramayogainstitute.com/wp-content/uploads/2025/08/Atma-green-wall-01.jpg
END:VEVENT
BEGIN:VEVENT
DTSTART;TZID=America/Los_Angeles:20250628T003000
DTEND;TZID=America/Los_Angeles:20250628T020000
DTSTAMP:20260422T152002
CREATED:20251125T164749Z
LAST-MODIFIED:20260102T152433Z
UID:2001180-1751070600-1751076000@ramayogainstitute.com
SUMMARY:KUNDALINI YOGA & MEDITATION with Teg Prakash
DESCRIPTION:
URL:https://ramayogainstitute.com/event/kundalini-yoga-meditation-7/2025-06-28/
LOCATION:Online on RA MA TV
CATEGORIES:In Person,RA MA TV Live
ATTACH;FMTTYPE=image/jpeg:https://ramayogainstitute.com/wp-content/uploads/2025/08/teg_prakash_laugh_thumb.jpg
END:VEVENT
BEGIN:VEVENT
DTSTART;TZID=America/Los_Angeles:20250629T003000
DTEND;TZID=America/Los_Angeles:20250629T020000
DTSTAMP:20260422T152002
CREATED:20251125T164749Z
LAST-MODIFIED:20260102T152437Z
UID:2001181-1751157000-1751162400@ramayogainstitute.com
SUMMARY:KUNDALINI YOGA & MEDITATION with Teg Prakash
DESCRIPTION:
URL:https://ramayogainstitute.com/event/kundalini-yoga-meditation-7/2025-06-29/
LOCATION:Online on RA MA TV
CATEGORIES:In Person,RA MA TV Live
ATTACH;FMTTYPE=image/jpeg:https://ramayogainstitute.com/wp-content/uploads/2025/08/teg_prakash_laugh_thumb.jpg
END:VEVENT
BEGIN:VEVENT
DTSTART;TZID=America/Los_Angeles:20250629T090000
DTEND;TZID=America/Los_Angeles:20250629T103000
DTSTAMP:20260422T152002
CREATED:20250303T204732Z
LAST-MODIFIED:20250303T204732Z
UID:2012819-1751187600-1751193000@ramayogainstitute.com
SUMMARY:GURU JAGAT GOLDEN ARCHIVES
DESCRIPTION:
URL:https://ramayogainstitute.com/event/guru-jagat-golden-archives-2-2025-06-29/
LOCATION:Online on Zoom
CATEGORIES:RA MA TV Live,RA MA TV ZOOM
ATTACH;FMTTYPE=image/jpeg:https://ramayogainstitute.com/wp-content/uploads/2024/07/GuruJagat_Remember_Header.jpg
END:VEVENT
BEGIN:VEVENT
DTSTART;TZID=America/Los_Angeles:20250629T230000
DTEND;TZID=America/Los_Angeles:20250630T080000
DTSTAMP:20260422T152002
CREATED:20250630T213736Z
LAST-MODIFIED:20250630T213737Z
UID:1987603-1751238000-1751270400@ramayogainstitute.com
SUMMARY:Kundalini Yoga and Meditation | with Atma Santokh
DESCRIPTION:
URL:https://ramayogainstitute.com/event/kundalini-yoga-and-meditation-with-atma-santokh-6/
LOCATION:RA MA Institute Mallorca\, Carrer de Despuig\, 51\, Palma\, Illes Balears\, 07013\, Spain
CATEGORIES:In Person,RA MA TV Live
ATTACH;FMTTYPE=image/jpeg:https://ramayogainstitute.com/wp-content/uploads/2025/06/Untitled-design-86-1.jpg
END:VEVENT
BEGIN:VEVENT
DTSTART;TZID=America/Los_Angeles:20250702T003000
DTEND;TZID=America/Los_Angeles:20250702T020000
DTSTAMP:20260422T152002
CREATED:20241108T045802Z
LAST-MODIFIED:20260102T150439Z
UID:1967703-1751416200-1751421600@ramayogainstitute.com
SUMMARY:KUNDALINI YOGA & MEDITATION with Siri Manprem
DESCRIPTION:
URL:https://ramayogainstitute.com/event/kundalini-yoga-and-meditation-with-siri-manprem-3/2025-07-02/
LOCATION:Online on RA MA TV
CATEGORIES:In Person,RA MA TV Live
ATTACH;FMTTYPE=image/png:https://ramayogainstitute.com/wp-content/uploads/2020/01/siri-manprem-e1732668581561.png
END:VEVENT
BEGIN:VEVENT
DTSTART;TZID=America/Los_Angeles:20250703T003000
DTEND;TZID=America/Los_Angeles:20250703T020000
DTSTAMP:20260422T152002
CREATED:20250630T220534Z
LAST-MODIFIED:20250630T220535Z
UID:1987606-1751502600-1751508000@ramayogainstitute.com
SUMMARY:Kundalini Yoga and Meditation | with Atma Santokh
DESCRIPTION:
URL:https://ramayogainstitute.com/event/kundalini-yoga-and-meditation-with-atma-santokh-7/2025-07-03/
LOCATION:RA MA Institute Mallorca\, Carrer de Despuig\, 51\, Palma\, Illes Balears\, 07013\, Spain
CATEGORIES:In Person,RA MA TV Live
ATTACH;FMTTYPE=image/jpeg:https://ramayogainstitute.com/wp-content/uploads/2025/06/Untitled-design-86-1.jpg
END:VEVENT
BEGIN:VEVENT
DTSTART;TZID=America/Los_Angeles:20250704T003000
DTEND;TZID=America/Los_Angeles:20250704T020000
DTSTAMP:20260422T152002
CREATED:20260206T160116Z
LAST-MODIFIED:20260206T160632Z
UID:2009762-1751589000-1751594400@ramayogainstitute.com
SUMMARY:KUNDALINI YOGA & MEDITATION
DESCRIPTION:
URL:https://ramayogainstitute.com/event/kundalini-yoga-meditation-9/2025-07-04/
LOCATION:Online on RA MA TV
CATEGORIES:In Person,RA MA TV Live
ATTACH;FMTTYPE=image/jpeg:https://ramayogainstitute.com/wp-content/uploads/2025/08/Atma-green-wall-01.jpg
END:VEVENT
BEGIN:VEVENT
DTSTART;TZID=America/Los_Angeles:20250705T003000
DTEND;TZID=America/Los_Angeles:20250705T020000
DTSTAMP:20260422T152002
CREATED:20251125T164749Z
LAST-MODIFIED:20260102T152439Z
UID:2001182-1751675400-1751680800@ramayogainstitute.com
SUMMARY:KUNDALINI YOGA & MEDITATION with Teg Prakash
DESCRIPTION:
URL:https://ramayogainstitute.com/event/kundalini-yoga-meditation-7/2025-07-05/
LOCATION:Online on RA MA TV
CATEGORIES:In Person,RA MA TV Live
ATTACH;FMTTYPE=image/jpeg:https://ramayogainstitute.com/wp-content/uploads/2025/08/teg_prakash_laugh_thumb.jpg
END:VEVENT
BEGIN:VEVENT
DTSTART;TZID=America/Los_Angeles:20250706T003000
DTEND;TZID=America/Los_Angeles:20250706T020000
DTSTAMP:20260422T152002
CREATED:20251125T164749Z
LAST-MODIFIED:20260102T152440Z
UID:2001183-1751761800-1751767200@ramayogainstitute.com
SUMMARY:KUNDALINI YOGA & MEDITATION with Teg Prakash
DESCRIPTION:
URL:https://ramayogainstitute.com/event/kundalini-yoga-meditation-7/2025-07-06/
LOCATION:Online on RA MA TV
CATEGORIES:In Person,RA MA TV Live
ATTACH;FMTTYPE=image/jpeg:https://ramayogainstitute.com/wp-content/uploads/2025/08/teg_prakash_laugh_thumb.jpg
END:VEVENT
BEGIN:VEVENT
DTSTART;TZID=America/Los_Angeles:20250706T090000
DTEND;TZID=America/Los_Angeles:20250706T103000
DTSTAMP:20260422T152002
CREATED:20250303T204732Z
LAST-MODIFIED:20250303T204732Z
UID:2012820-1751792400-1751797800@ramayogainstitute.com
SUMMARY:GURU JAGAT GOLDEN ARCHIVES
DESCRIPTION:
URL:https://ramayogainstitute.com/event/guru-jagat-golden-archives-2-2025-07-06/
LOCATION:Online on Zoom
CATEGORIES:RA MA TV Live,RA MA TV ZOOM
ATTACH;FMTTYPE=image/jpeg:https://ramayogainstitute.com/wp-content/uploads/2024/07/GuruJagat_Remember_Header.jpg
END:VEVENT
BEGIN:VEVENT
DTSTART;TZID=America/Los_Angeles:20250709T003000
DTEND;TZID=America/Los_Angeles:20250709T020000
DTSTAMP:20260422T152002
CREATED:20241108T045802Z
LAST-MODIFIED:20260102T150440Z
UID:1968470-1752021000-1752026400@ramayogainstitute.com
SUMMARY:KUNDALINI YOGA & MEDITATION with Siri Manprem
DESCRIPTION:
URL:https://ramayogainstitute.com/event/kundalini-yoga-and-meditation-with-siri-manprem-3/2025-07-09/
LOCATION:Online on RA MA TV
CATEGORIES:In Person,RA MA TV Live
ATTACH;FMTTYPE=image/png:https://ramayogainstitute.com/wp-content/uploads/2020/01/siri-manprem-e1732668581561.png
END:VEVENT
BEGIN:VEVENT
DTSTART;TZID=America/Los_Angeles:20250711T003000
DTEND;TZID=America/Los_Angeles:20250711T020000
DTSTAMP:20260422T152002
CREATED:20260206T160116Z
LAST-MODIFIED:20260206T160633Z
UID:2009763-1752193800-1752199200@ramayogainstitute.com
SUMMARY:KUNDALINI YOGA & MEDITATION
DESCRIPTION:
URL:https://ramayogainstitute.com/event/kundalini-yoga-meditation-9/2025-07-11/
LOCATION:Online on RA MA TV
CATEGORIES:In Person,RA MA TV Live
ATTACH;FMTTYPE=image/jpeg:https://ramayogainstitute.com/wp-content/uploads/2025/08/Atma-green-wall-01.jpg
END:VEVENT
BEGIN:VEVENT
DTSTART;TZID=America/Los_Angeles:20250712T003000
DTEND;TZID=America/Los_Angeles:20250712T020000
DTSTAMP:20260422T152002
CREATED:20251125T164749Z
LAST-MODIFIED:20260102T152441Z
UID:2001184-1752280200-1752285600@ramayogainstitute.com
SUMMARY:KUNDALINI YOGA & MEDITATION with Teg Prakash
DESCRIPTION:
URL:https://ramayogainstitute.com/event/kundalini-yoga-meditation-7/2025-07-12/
LOCATION:Online on RA MA TV
CATEGORIES:In Person,RA MA TV Live
ATTACH;FMTTYPE=image/jpeg:https://ramayogainstitute.com/wp-content/uploads/2025/08/teg_prakash_laugh_thumb.jpg
END:VEVENT
BEGIN:VEVENT
DTSTART;TZID=America/Los_Angeles:20250713T003000
DTEND;TZID=America/Los_Angeles:20250713T020000
DTSTAMP:20260422T152002
CREATED:20251125T164749Z
LAST-MODIFIED:20260102T152442Z
UID:2001185-1752366600-1752372000@ramayogainstitute.com
SUMMARY:KUNDALINI YOGA & MEDITATION with Teg Prakash
DESCRIPTION:
URL:https://ramayogainstitute.com/event/kundalini-yoga-meditation-7/2025-07-13/
LOCATION:Online on RA MA TV
CATEGORIES:In Person,RA MA TV Live
ATTACH;FMTTYPE=image/jpeg:https://ramayogainstitute.com/wp-content/uploads/2025/08/teg_prakash_laugh_thumb.jpg
END:VEVENT
BEGIN:VEVENT
DTSTART;TZID=America/Los_Angeles:20250713T090000
DTEND;TZID=America/Los_Angeles:20250713T103000
DTSTAMP:20260422T152002
CREATED:20250303T204732Z
LAST-MODIFIED:20250303T204732Z
UID:2012821-1752397200-1752402600@ramayogainstitute.com
SUMMARY:GURU JAGAT GOLDEN ARCHIVES
DESCRIPTION:
URL:https://ramayogainstitute.com/event/guru-jagat-golden-archives-2-2025-07-13/
LOCATION:Online on Zoom
CATEGORIES:RA MA TV Live,RA MA TV ZOOM
ATTACH;FMTTYPE=image/jpeg:https://ramayogainstitute.com/wp-content/uploads/2024/07/GuruJagat_Remember_Header.jpg
END:VEVENT
BEGIN:VEVENT
DTSTART;TZID=America/Los_Angeles:20250716T003000
DTEND;TZID=America/Los_Angeles:20250716T020000
DTSTAMP:20260422T152002
CREATED:20241108T045802Z
LAST-MODIFIED:20260102T150440Z
UID:1969582-1752625800-1752631200@ramayogainstitute.com
SUMMARY:KUNDALINI YOGA & MEDITATION with Siri Manprem
DESCRIPTION:
URL:https://ramayogainstitute.com/event/kundalini-yoga-and-meditation-with-siri-manprem-3/2025-07-16/
LOCATION:Online on RA MA TV
CATEGORIES:In Person,RA MA TV Live
ATTACH;FMTTYPE=image/png:https://ramayogainstitute.com/wp-content/uploads/2020/01/siri-manprem-e1732668581561.png
END:VEVENT
BEGIN:VEVENT
DTSTART;TZID=America/Los_Angeles:20250716T100000
DTEND;TZID=America/Los_Angeles:20250716T113000
DTSTAMP:20260422T152002
CREATED:20250422T010927Z
LAST-MODIFIED:20250716T133210Z
UID:1981847-1752660000-1752665400@ramayogainstitute.com
SUMMARY:Harmony | Gong Meditation
DESCRIPTION:
URL:https://ramayogainstitute.com/event/kundalini-yoga-gong-2/
LOCATION:Online on RA MA TV
CATEGORIES:In Person,RA MA TV Live
ATTACH;FMTTYPE=image/jpeg:https://ramayogainstitute.com/wp-content/uploads/2023/09/RAMA_Begona.jpg
END:VEVENT
BEGIN:VEVENT
DTSTART;TZID=America/Los_Angeles:20250718T003000
DTEND;TZID=America/Los_Angeles:20250718T020000
DTSTAMP:20260422T152002
CREATED:20260206T160116Z
LAST-MODIFIED:20260206T160634Z
UID:2009764-1752798600-1752804000@ramayogainstitute.com
SUMMARY:KUNDALINI YOGA & MEDITATION
DESCRIPTION:
URL:https://ramayogainstitute.com/event/kundalini-yoga-meditation-9/2025-07-18/
LOCATION:Online on RA MA TV
CATEGORIES:In Person,RA MA TV Live
ATTACH;FMTTYPE=image/jpeg:https://ramayogainstitute.com/wp-content/uploads/2025/08/Atma-green-wall-01.jpg
END:VEVENT
BEGIN:VEVENT
DTSTART;TZID=America/Los_Angeles:20250719T003000
DTEND;TZID=America/Los_Angeles:20250719T020000
DTSTAMP:20260422T152002
CREATED:20251125T164749Z
LAST-MODIFIED:20260102T152443Z
UID:2001186-1752885000-1752890400@ramayogainstitute.com
SUMMARY:KUNDALINI YOGA & MEDITATION with Teg Prakash
DESCRIPTION:
URL:https://ramayogainstitute.com/event/kundalini-yoga-meditation-7/2025-07-19/
LOCATION:Online on RA MA TV
CATEGORIES:In Person,RA MA TV Live
ATTACH;FMTTYPE=image/jpeg:https://ramayogainstitute.com/wp-content/uploads/2025/08/teg_prakash_laugh_thumb.jpg
END:VEVENT
END:VCALENDAR