BEGIN:VCALENDAR
VERSION:2.0
PRODID:-//RA MA LIFE - ECPv6.15.15//NONSGML v1.0//EN
CALSCALE:GREGORIAN
METHOD:PUBLISH
X-ORIGINAL-URL:https://ramayogainstitute.com
X-WR-CALDESC:Events for RA MA LIFE
REFRESH-INTERVAL;VALUE=DURATION:PT1H
X-Robots-Tag:noindex
X-PUBLISHED-TTL:PT1H
BEGIN:VTIMEZONE
TZID:America/Los_Angeles
BEGIN:DAYLIGHT
TZOFFSETFROM:-0800
TZOFFSETTO:-0700
TZNAME:PDT
DTSTART:20230312T100000
END:DAYLIGHT
BEGIN:STANDARD
TZOFFSETFROM:-0700
TZOFFSETTO:-0800
TZNAME:PST
DTSTART:20231105T090000
END:STANDARD
BEGIN:DAYLIGHT
TZOFFSETFROM:-0800
TZOFFSETTO:-0700
TZNAME:PDT
DTSTART:20240310T100000
END:DAYLIGHT
BEGIN:STANDARD
TZOFFSETFROM:-0700
TZOFFSETTO:-0800
TZNAME:PST
DTSTART:20241103T090000
END:STANDARD
BEGIN:DAYLIGHT
TZOFFSETFROM:-0800
TZOFFSETTO:-0700
TZNAME:PDT
DTSTART:20250309T100000
END:DAYLIGHT
BEGIN:STANDARD
TZOFFSETFROM:-0700
TZOFFSETTO:-0800
TZNAME:PST
DTSTART:20251102T090000
END:STANDARD
BEGIN:DAYLIGHT
TZOFFSETFROM:-0800
TZOFFSETTO:-0700
TZNAME:PDT
DTSTART:20260308T100000
END:DAYLIGHT
BEGIN:STANDARD
TZOFFSETFROM:-0700
TZOFFSETTO:-0800
TZNAME:PST
DTSTART:20261101T090000
END:STANDARD
END:VTIMEZONE
BEGIN:VEVENT
DTSTART;TZID=America/Los_Angeles:20241017T084500
DTEND;TZID=America/Los_Angeles:20241017T173000
DTSTAMP:20260423T034631
CREATED:20241017T010725Z
LAST-MODIFIED:20241017T010725Z
UID:1954489-1729154700-1729186200@ramayogainstitute.com
SUMMARY:Full Super Moon in Aries
DESCRIPTION:SIGN UP\nTUNE IN\nFull Super Moon in Aries\n\n\n\n\n\nThursday\, October 17\, 2024\n8:45am – 5:30pm PDT \nThe Cosmic Boost:\nSuper Full Moon in Aries with Harmanjot\n8:45am-10:30am PDT\n11:45AM-1:30PM EDT\n5:45PM-7:30PM CEST\nVirtual Only on RA MA TV\nINCLUDED FOR RA MA TV LIVE \n\nSupermoon in Aries Kundalini Yoga & Meditation + Sound Healing\nwith Nam Satya & Ana Caldwell\n9:30am-11:45am PDT\n12:30PM-2:45PM EDT\n6:30PM-8:45PM CEST\nIN PERSON AT RA MA Mallorca\nVIRTUAL ON RA MA TV\nINCLUDED FOR RA MA TV LIVE \nFull Moon Dances of Victory with Pritam Siri\n4:00pm-5:30pm PDT\n7:00pm – 8:30pm EDT\n1:00AM-2:30AM +1 CEST\nIN PERSON AT RA MA New York\nVIRTUAL ON RA MA TV\nINCLUDED FOR RA MA TV LIVE \n\n\n 
URL:https://ramayogainstitute.com/event/full-super-moon-in-aries/
LOCATION:Online on RA MA TV
CATEGORIES:Courses & Events,In Person,Pay Per View Workshops,RA MA TV Live
ATTACH;FMTTYPE=image/png:https://ramayogainstitute.com/wp-content/uploads/2020/10/unnamed-2.png
END:VEVENT
BEGIN:VEVENT
DTSTART;TZID=America/Los_Angeles:20241020T033000
DTEND;TZID=America/Los_Angeles:20241020T060000
DTSTAMP:20260423T034631
CREATED:20241019T031405Z
LAST-MODIFIED:20241019T031405Z
UID:1954947-1729395000-1729404000@ramayogainstitute.com
SUMMARY:Kundalini Yoga and Meditation with RA MA Crew
DESCRIPTION:
URL:https://ramayogainstitute.com/event/kundalini-yoga-and-meditation-with-ra-ma-crew-7/2024-10-20/
CATEGORIES:In Person,RA MA TV Live
ATTACH;FMTTYPE=image/png:https://ramayogainstitute.com/wp-content/uploads/2023/05/Mallorca.png
END:VEVENT
BEGIN:VEVENT
DTSTART;TZID=America/Los_Angeles:20241020T090000
DTEND;TZID=America/Los_Angeles:20241020T103000
DTSTAMP:20260423T034631
CREATED:20241019T212404Z
LAST-MODIFIED:20241019T212404Z
UID:1955027-1729414800-1729420200@ramayogainstitute.com
SUMMARY:Guru Jagat Golden Archive Replay
DESCRIPTION:
URL:https://ramayogainstitute.com/event/guru-jagat-golden-archive-replay/2024-10-20/
LOCATION:Online on RA MA TV
CATEGORIES:RA MA TV Live
ATTACH;FMTTYPE=image/png:https://ramayogainstitute.com/wp-content/uploads/2024/04/guru-jagat-mallorca.png
END:VEVENT
BEGIN:VEVENT
DTSTART;TZID=America/Los_Angeles:20241023T033000
DTEND;TZID=America/Los_Angeles:20241023T060000
DTSTAMP:20260423T034631
CREATED:20241019T030240Z
LAST-MODIFIED:20241019T030240Z
UID:1954943-1729654200-1729663200@ramayogainstitute.com
SUMMARY:Kundalini Yoga and Meditation with Siri Manprem
DESCRIPTION:
URL:https://ramayogainstitute.com/event/kundalini-yoga-and-meditation-with-siri-manprem/2024-10-23/
LOCATION:Online on RA MA TV
CATEGORIES:In Person,RA MA TV Live
ATTACH;FMTTYPE=image/jpeg:https://ramayogainstitute.com/wp-content/uploads/2024/03/TheEquinox_2024_SiriManprem.jpg
END:VEVENT
BEGIN:VEVENT
DTSTART;TZID=America/Los_Angeles:20241023T093000
DTEND;TZID=America/Los_Angeles:20241023T110000
DTSTAMP:20260423T034631
CREATED:20241019T033142Z
LAST-MODIFIED:20241019T033142Z
UID:1954981-1729675800-1729681200@ramayogainstitute.com
SUMMARY:Kundalini Yoga and Meditation with Begonia
DESCRIPTION:
URL:https://ramayogainstitute.com/event/kundalini-yoga-and-meditation-with-begonia/2024-10-23/
LOCATION:Online on RA MA TV
CATEGORIES:In Person,RA MA TV Live
END:VEVENT
BEGIN:VEVENT
DTSTART;TZID=America/Los_Angeles:20241025T033000
DTEND;TZID=America/Los_Angeles:20241025T060000
DTSTAMP:20260423T034631
CREATED:20241019T033404Z
LAST-MODIFIED:20241019T033404Z
UID:1954985-1729827000-1729836000@ramayogainstitute.com
SUMMARY:Kundalini Yoga and Meditation with Magdalena
DESCRIPTION:
URL:https://ramayogainstitute.com/event/kundalini-yoga-and-meditation-with-magdalena-2/2024-10-25/
LOCATION:Online on RA MA TV
CATEGORIES:In Person,RA MA TV Live
ATTACH;FMTTYPE=image/png:https://ramayogainstitute.com/wp-content/uploads/2024/06/Magdalena-RA-MA-Mallorca.png
END:VEVENT
BEGIN:VEVENT
DTSTART;TZID=America/Los_Angeles:20241026T060000
DTEND;TZID=America/Los_Angeles:20241026T073000
DTSTAMP:20260423T034631
CREATED:20241026T023702Z
LAST-MODIFIED:20241026T033715Z
UID:1955567-1729922400-1729927800@ramayogainstitute.com
SUMMARY:Desiree Pais | Kundalini Yoga and Meditation
DESCRIPTION:
URL:https://ramayogainstitute.com/event/desiree-pais-kundalini-yoga-and-meditation/
LOCATION:Online on RA MA TV
CATEGORIES:In Person,RA MA TV Live
ATTACH;FMTTYPE=image/png:https://ramayogainstitute.com/wp-content/uploads/2023/09/Screenshot-2023-09-03-at-1.39.12-PM.png
END:VEVENT
BEGIN:VEVENT
DTSTART;TZID=America/Los_Angeles:20241026T080000
DTEND;TZID=America/Los_Angeles:20241026T093000
DTSTAMP:20260423T034631
CREATED:20241026T024121Z
LAST-MODIFIED:20241026T034521Z
UID:1955569-1729929600-1729935000@ramayogainstitute.com
SUMMARY:Tammy Kerner |Kundalini Yoga and Meditation
DESCRIPTION:
URL:https://ramayogainstitute.com/event/tammy-kerner-kundalini-yoga-and-meditation/
LOCATION:Online on RA MA TV
CATEGORIES:In Person,RA MA TV Live
ATTACH;FMTTYPE=image/png:https://ramayogainstitute.com/wp-content/uploads/2024/10/Screen-Shot-2024-10-25-at-10.39.46-PM.png
END:VEVENT
BEGIN:VEVENT
DTSTART;TZID=America/Los_Angeles:20241026T100000
DTEND;TZID=America/Los_Angeles:20241026T110000
DTSTAMP:20260423T034631
CREATED:20241026T024546Z
LAST-MODIFIED:20241026T033546Z
UID:1955573-1729936800-1729940400@ramayogainstitute.com
SUMMARY:Teg Prakash | Liminal Space | Kundalini Yoga and Meditation
DESCRIPTION:
URL:https://ramayogainstitute.com/event/teg-prakash-kundalini-yoga-and-meditation/
LOCATION:Online on RA MA TV
CATEGORIES:In Person,RA MA TV Live
ATTACH;FMTTYPE=image/jpeg:https://ramayogainstitute.com/wp-content/uploads/2024/04/teg_prakash_scorpio_looking_up.jpg
END:VEVENT
BEGIN:VEVENT
DTSTART;TZID=America/Los_Angeles:20241027T013000
DTEND;TZID=America/Los_Angeles:20241027T030000
DTSTAMP:20260423T034631
CREATED:20241026T035022Z
LAST-MODIFIED:20241026T035022Z
UID:1955629-1729992600-1729998000@ramayogainstitute.com
SUMMARY:RA MA Mallorca Crew | Kundalini Yoga and Meditation
DESCRIPTION:
URL:https://ramayogainstitute.com/event/ra-ma-mallorca-crew-kundalini-yoga-and-meditation/2024-10-27/
LOCATION:Online on RA MA TV
CATEGORIES:In Person,RA MA TV Live
ATTACH;FMTTYPE=image/png:https://ramayogainstitute.com/wp-content/uploads/2023/05/Mallorca.png
END:VEVENT
BEGIN:VEVENT
DTSTART;TZID=America/Los_Angeles:20241029T160000
DTEND;TZID=America/Los_Angeles:20241029T170000
DTSTAMP:20260423T034631
CREATED:20241028T035609Z
LAST-MODIFIED:20241028T035609Z
UID:1955963-1730217600-1730221200@ramayogainstitute.com
SUMMARY:ENERGIZE | Kundalini Yoga and Meditation with Siri Rishi
DESCRIPTION:
URL:https://ramayogainstitute.com/event/energize-kundalini-yoga-and-meditation-with-siri-rishi/2024-10-29/
LOCATION:Online on RA MA TV
CATEGORIES:In Person,RA MA TV Live
ATTACH;FMTTYPE=image/jpeg:https://ramayogainstitute.com/wp-content/uploads/2024/07/RAMA_888_LionsGate_SiriRishi_Square.jpg
END:VEVENT
BEGIN:VEVENT
DTSTART;TZID=America/Los_Angeles:20241030T013000
DTEND;TZID=America/Los_Angeles:20241030T030000
DTSTAMP:20260423T034631
CREATED:20241028T041339Z
LAST-MODIFIED:20241028T041339Z
UID:1955968-1730251800-1730257200@ramayogainstitute.com
SUMMARY:Kundalini Yoga and Meditation with Siri Manprem
DESCRIPTION:
URL:https://ramayogainstitute.com/event/kundalini-yoga-and-meditation-with-siri-manprem-2/2024-10-30/
LOCATION:Online on RA MA TV
CATEGORIES:In Person,RA MA TV Live
ATTACH;FMTTYPE=image/jpeg:https://ramayogainstitute.com/wp-content/uploads/2024/04/Siri-Manprem-Mallorca-Carousel.jpg
END:VEVENT
BEGIN:VEVENT
DTSTART;TZID=America/Los_Angeles:20241030T190000
DTEND;TZID=America/Los_Angeles:20241030T203000
DTSTAMP:20260423T034631
CREATED:20241028T040445Z
LAST-MODIFIED:20241028T040445Z
UID:1955965-1730314800-1730320200@ramayogainstitute.com
SUMMARY:Self Mastery | Kundalini Yoga and Meditation with Siri Rishi
DESCRIPTION:
URL:https://ramayogainstitute.com/event/self-mastery-kundalini-yoga-and-meditation-with-siri-rishi/2024-10-30/
LOCATION:Online on RA MA TV
CATEGORIES:In Person,RA MA TV Live
ATTACH;FMTTYPE=image/jpeg:https://ramayogainstitute.com/wp-content/uploads/2023/12/WinterSolstice_SiriRishi_Header.jpg
END:VEVENT
BEGIN:VEVENT
DTSTART;TZID=America/Los_Angeles:20241101T013000
DTEND;TZID=America/Los_Angeles:20241101T030000
DTSTAMP:20260423T034631
CREATED:20241028T052739Z
LAST-MODIFIED:20241028T053644Z
UID:1956034-1730424600-1730430000@ramayogainstitute.com
SUMMARY:Kundalini Yoga and Meditation with Magdalena
DESCRIPTION:
URL:https://ramayogainstitute.com/event/kundalini-yoga-and-meditation/2024-11-01/
LOCATION:Online on RA MA TV
CATEGORIES:In Person,RA MA TV Live
ATTACH;FMTTYPE=image/png:https://ramayogainstitute.com/wp-content/uploads/2024/06/Magdalena-RA-MA-Mallorca.png
END:VEVENT
BEGIN:VEVENT
DTSTART;TZID=America/Los_Angeles:20241101T050000
DTEND;TZID=America/Los_Angeles:20241101T140000
DTSTAMP:20260423T034631
CREATED:20241107T052539Z
LAST-MODIFIED:20241108T052406Z
UID:1957163-1730437200-1730469600@ramayogainstitute.com
SUMMARY:Kundalini Yoga and Meditation with Siri Rishi
DESCRIPTION:
URL:https://ramayogainstitute.com/event/kundalini-yoga-and-meditation-with-siri-rishi/
LOCATION:Online on RA MA TV
CATEGORIES:In Person,RA MA TV Live
ATTACH;FMTTYPE=image/jpeg:https://ramayogainstitute.com/wp-content/uploads/2024/01/SiriRishi_RAMA_Residency_Square2.jpg
END:VEVENT
BEGIN:VEVENT
DTSTART;TZID=America/Los_Angeles:20241102T080000
DTEND;TZID=America/Los_Angeles:20241102T093000
DTSTAMP:20260423T034631
CREATED:20241028T051213Z
LAST-MODIFIED:20241028T051429Z
UID:1956030-1730534400-1730539800@ramayogainstitute.com
SUMMARY:Energetic Blueprint For Success | Kundalini Yoga and Meditation with Kelle Jacob
DESCRIPTION:
URL:https://ramayogainstitute.com/event/energetic-blueprint-for-success-kundalini-yoga-and-meditation-with-kelle-jacob/2024-11-02/
LOCATION:Online on RA MA TV
CATEGORIES:In Person,RA MA TV Live
ATTACH;FMTTYPE=image/jpeg:https://ramayogainstitute.com/wp-content/uploads/2024/04/Kelle-Kunadlini-Corporate-Wellness-Program-1.jpg
END:VEVENT
BEGIN:VEVENT
DTSTART;TZID=America/Los_Angeles:20241107T160000
DTEND;TZID=America/Los_Angeles:20241107T170000
DTSTAMP:20260423T034631
CREATED:20241107T033215Z
LAST-MODIFIED:20241127T005725Z
UID:1957007-1730995200-1730998800@ramayogainstitute.com
SUMMARY:Kundalini Yoga and Meditation with Emily Bjelica
DESCRIPTION:
URL:https://ramayogainstitute.com/event/kundalini-yoga-live-emily-bjelica/
LOCATION:Online on RA MA TV
CATEGORIES:In Person,RA MA TV Live
ATTACH;FMTTYPE=image/png:https://ramayogainstitute.com/wp-content/uploads/2024/11/Screen-Shot-2024-11-23-at-9.13.14-AM-e1732668860226.png
END:VEVENT
BEGIN:VEVENT
DTSTART;TZID=America/Los_Angeles:20241107T160000
DTEND;TZID=America/Los_Angeles:20241107T173000
DTSTAMP:20260423T034631
CREATED:20241107T043118Z
LAST-MODIFIED:20241107T052015Z
UID:1957013-1730995200-1731000600@ramayogainstitute.com
SUMMARY:Aquarian Visions | Expanding The Heart with Siri Rishi and Desiree
DESCRIPTION:
URL:https://ramayogainstitute.com/event/aquarian-visions-expanding-the-heart-with-siri-rishi-and-desiree/
LOCATION:Online on RA MA TV
CATEGORIES:In Person,RA MA TV Live
ATTACH;FMTTYPE=image/jpeg:https://ramayogainstitute.com/wp-content/uploads/2024/07/RAMA_888_LionsGate_SiriRishi_Square.jpg
END:VEVENT
BEGIN:VEVENT
DTSTART;TZID=America/Los_Angeles:20241108T003000
DTEND;TZID=America/Los_Angeles:20241108T020000
DTSTAMP:20260423T034631
CREATED:20241107T043700Z
LAST-MODIFIED:20260206T153815Z
UID:1957015-1731025800-1731031200@ramayogainstitute.com
SUMMARY:KUNDALINI YOGA & MEDITATION
DESCRIPTION:
URL:https://ramayogainstitute.com/event/kundalini-yoga-and-meditation-with-magdalena-3/2024-11-08/
LOCATION:Online on RA MA TV
CATEGORIES:In Person,RA MA TV Live
ATTACH;FMTTYPE=image/jpeg:https://ramayogainstitute.com/wp-content/uploads/2024/11/teg_prakash_AWAKEN_thumb_2.jpg
END:VEVENT
BEGIN:VEVENT
DTSTART;TZID=America/Los_Angeles:20241108T003000
DTEND;TZID=America/Los_Angeles:20241108T020000
DTSTAMP:20260423T034631
CREATED:20260206T160116Z
LAST-MODIFIED:20260206T160553Z
UID:2009699-1731025800-1731031200@ramayogainstitute.com
SUMMARY:KUNDALINI YOGA & MEDITATION
DESCRIPTION:
URL:https://ramayogainstitute.com/event/kundalini-yoga-meditation-9/2024-11-08/
LOCATION:Online on RA MA TV
CATEGORIES:In Person,RA MA TV Live
ATTACH;FMTTYPE=image/jpeg:https://ramayogainstitute.com/wp-content/uploads/2025/08/Atma-green-wall-01.jpg
END:VEVENT
BEGIN:VEVENT
DTSTART;TZID=America/Los_Angeles:20241113T003000
DTEND;TZID=America/Los_Angeles:20241113T020000
DTSTAMP:20260423T034631
CREATED:20241108T045802Z
LAST-MODIFIED:20260102T150357Z
UID:1957517-1731457800-1731463200@ramayogainstitute.com
SUMMARY:KUNDALINI YOGA & MEDITATION with Siri Manprem
DESCRIPTION:
URL:https://ramayogainstitute.com/event/kundalini-yoga-and-meditation-with-siri-manprem-3/2024-11-13/
LOCATION:Online on RA MA TV
CATEGORIES:In Person,RA MA TV Live
ATTACH;FMTTYPE=image/png:https://ramayogainstitute.com/wp-content/uploads/2020/01/siri-manprem-e1732668581561.png
END:VEVENT
BEGIN:VEVENT
DTSTART;TZID=America/Los_Angeles:20241114T093000
DTEND;TZID=America/Los_Angeles:20241114T113000
DTSTAMP:20260423T034631
CREATED:20241108T235026Z
LAST-MODIFIED:20241110T011152Z
UID:1958068-1731576600-1731583800@ramayogainstitute.com
SUMMARY:Cosmic Sailing: Full Moon in Taurus with Anna Caldwell
DESCRIPTION:SIGN UP\nTUNE IN\n\n\nCosmic Sailing: Full Moon in Taurus with Anna Caldwell\nJoin Anna for a powerful opportunity to tap into the grounding and stability of Taurus Full Moon. As this Full Moon\, the last supermoon of 2024\, rises\, it brings the energy of completion and release\, especially around themes of security and self-worth. This is a potent time for embodying change\, while still being deeply rooted\, thanks to Taurus’s earthy influence. \nThursday\, November 14\, 2024\n6:30pm-8:30pm CET\n9:30am-11:30am PST\n12:30pm-2:30pm EST
URL:https://ramayogainstitute.com/event/cosmic-sailing-full-moon-in-taurus-with-anna-caldwell/
LOCATION:RA MA Mallorca & Online
CATEGORIES:In Person,Pay Per View Workshops,RA MA TV Live
ATTACH;FMTTYPE=image/jpeg:https://ramayogainstitute.com/wp-content/uploads/2024/09/ConsciousWakeUp_AnnaCaldwell_Header.jpg
END:VEVENT
BEGIN:VEVENT
DTSTART;TZID=America/Los_Angeles:20241128T050000
DTEND;TZID=America/Los_Angeles:20241128T063000
DTSTAMP:20260423T034631
CREATED:20241127T021123Z
LAST-MODIFIED:20241127T023950Z
UID:1962194-1732770000-1732775400@ramayogainstitute.com
SUMMARY:Gratitude and Tradition | Thanksgiving Day with Teg Prakash
DESCRIPTION:
URL:https://ramayogainstitute.com/event/gratitude-thanksgiving-day-teg-prakash/
CATEGORIES:Community Content,In Person,RA MA TV Live
ATTACH;FMTTYPE=image/jpeg:https://ramayogainstitute.com/wp-content/uploads/2024/04/teg_prakash_AWAKEN_thumb_2.jpg
END:VEVENT
BEGIN:VEVENT
DTSTART;TZID=America/Los_Angeles:20241128T070000
DTEND;TZID=America/Los_Angeles:20241128T083000
DTSTAMP:20260423T034631
CREATED:20241127T023745Z
LAST-MODIFIED:20241127T024032Z
UID:1962196-1732777200-1732782600@ramayogainstitute.com
SUMMARY:Thansgiving Cacao Ceremony with Estefania
DESCRIPTION:
URL:https://ramayogainstitute.com/event/thansgiving-cacao-estefania/
CATEGORIES:Community Content,In Person,RA MA TV Live
ATTACH;FMTTYPE=image/jpeg:https://ramayogainstitute.com/wp-content/uploads/2024/11/IMG_1890-e1732675033973.jpg
END:VEVENT
BEGIN:VEVENT
DTSTART;TZID=America/Los_Angeles:20241221T080000
DTEND;TZID=America/Los_Angeles:20241221T093000
DTSTAMP:20260423T034631
CREATED:20241107T051228Z
LAST-MODIFIED:20241221T020508Z
UID:1962117-1734768000-1734773400@ramayogainstitute.com
SUMMARY:SOL MINIMUS | Winter Solstice Kundalini with Teg Prakash
DESCRIPTION:
URL:https://ramayogainstitute.com/event/kundalini-yoga-kelle-jacob-2024-12-21/
LOCATION:Online on RA MA TV
CATEGORIES:In Person,RA MA TV Live
ATTACH;FMTTYPE=image/jpeg:https://ramayogainstitute.com/wp-content/uploads/2024/04/teg_prakash_scorpio_looking_up.jpg
END:VEVENT
BEGIN:VEVENT
DTSTART;TZID=America/Los_Angeles:20241224T160000
DTEND;TZID=America/Los_Angeles:20241224T173000
DTSTAMP:20260423T034631
CREATED:20241108T043043Z
LAST-MODIFIED:20241224T230153Z
UID:1957296-1735056000-1735061400@ramayogainstitute.com
SUMMARY:Kundalini Yoga and Meditation with Teg Prakash
DESCRIPTION:
URL:https://ramayogainstitute.com/event/kundalini-yoga-and-meditation-with-siri-rishi-2-2024-12-24/
LOCATION:Online on RA MA TV
CATEGORIES:In Person,RA MA TV Live
ATTACH;FMTTYPE=image/jpeg:https://ramayogainstitute.com/wp-content/uploads/2024/04/Teg_Prakash_4.22.24.jpeg
END:VEVENT
BEGIN:VEVENT
DTSTART;TZID=America/Los_Angeles:20241230T003000
DTEND;TZID=America/Los_Angeles:20241230T020000
DTSTAMP:20260423T034631
CREATED:20241107T043700Z
LAST-MODIFIED:20250104T044311Z
UID:1957890-1735518600-1735524000@ramayogainstitute.com
SUMMARY:Kundalini Yoga and Meditation with Magdalena
DESCRIPTION:
URL:https://ramayogainstitute.com/event/kundalini-yoga-and-meditation-with-magdalena-3-2024-12-30/
LOCATION:RA MA Institute Mallorca\, Carrer de Despuig\, 51\, Palma\, Illes Balears\, 07013\, Spain
CATEGORIES:In Person,RA MA TV Live
ATTACH;FMTTYPE=image/jpeg:https://ramayogainstitute.com/wp-content/uploads/2024/11/Magdalena_Thumbnail_01.jpg
END:VEVENT
BEGIN:VEVENT
DTSTART;TZID=America/Los_Angeles:20241230T084500
DTEND;TZID=America/Los_Angeles:20241230T173000
DTSTAMP:20260423T034631
CREATED:20241229T102336Z
LAST-MODIFIED:20241229T102336Z
UID:1966837-1735548300-1735579800@ramayogainstitute.com
SUMMARY:NEW MOON IN CAPRICORN
DESCRIPTION:SIGN UP\nTUNE IN\nNew Moon in Capricorn\n\n\n\n\n\nMONDAY\, DECEMBER 30\, 2024 \nAQUARIAN SADHANA\nNEW MOON IN CAPRICORN\nwith atma santokh\nMonday\, DecEMBER 30\, 2024\n4:00am-6:30am PST\n7:00am-9:30am EST\n1:00pm-3:30pm CET\nRA MA TV COMMUNITY CONTENT \nKUNDALINI YOGA & MEDITATION\nNEW MOON IN CAPRICORN with MAGDALENA\nMonday\, DECEMBER 30\, 2024\n12:30am-2:00am PST\n3:30am-5:00am EST\n9:30pm-11:00m CET\nRA MA mallorca \nKUNDALINI YOGA & MEDITATION\nNEW MOON IN CAPRICORN with MAGDALENA\nMonday\, DECEMBER 30\, 2024\n12:30am-2:00am PST\n3:30am-5:00am EST\n9:30pm-11:00m CET\nRA MA mallorca \nSPIRIT+MATTER\nNEW MOON IN CAPRICORN\nwith SHABADPREET\nMonday\, DecEMBER 30\, 2024\n7:30am-9:00am PST\n10:30AM-12:00PM EST\n4:30pm-6:00pm CET\nAQUARIAN WOMEN’S LEADERSHIP SOCIETY | ZOOM \nTHE GOAT: become THE MOUNTAIN\nNEW MOON IN CAPRICORN\nwith ATMA SANTOKH\nMonday\, DecEMBER 30\, 2024\n2:00pm-4:00pm PST\n5:00pm-7:00pm EST\n11:00pm-1:00am CET +1\nRA MA TOPANGA POP UP | RA MA TV \nTHE GOAT: become THE MOUNTAIN\nNEW MOON IN CAPRICORN\nwith ATMA SANTOKH\nMonday\, DecEMBER 30\, 2024\n2:00pm-4:00pm PST\n5:00pm-7:00pm EST\n11:00pm-1:00am CET +1\nRA MA TOPANGA POP UP | RA MA TV \n\n\n\n 
URL:https://ramayogainstitute.com/event/new-moon-in-capricorn/
LOCATION:RA MA Intitute New York and online
CATEGORIES:Courses & Events,In Person,Pay Per View Workshops,RA MA TV Live
ATTACH;FMTTYPE=image/jpeg:https://ramayogainstitute.com/wp-content/uploads/2023/05/NewMoon_Taurus_Kundalini_Header.jpg
END:VEVENT
BEGIN:VEVENT
DTSTART;TZID=America/Los_Angeles:20250104T080000
DTEND;TZID=America/Los_Angeles:20250104T093000
DTSTAMP:20260423T034631
CREATED:20241107T051228Z
LAST-MODIFIED:20250104T045010Z
UID:1962119-1735977600-1735983000@ramayogainstitute.com
SUMMARY:Kundalini Yoga and Meditation with Tammy Kerner
DESCRIPTION:
URL:https://ramayogainstitute.com/event/kundalini-yoga-kelle-jacob-2025-01-04/
LOCATION:Online on RA MA TV
CATEGORIES:In Person,RA MA TV Live
ATTACH;FMTTYPE=image/png:https://ramayogainstitute.com/wp-content/uploads/2024/11/Screen-Shot-2025-01-03-at-11.49.09-PM.png
END:VEVENT
BEGIN:VEVENT
DTSTART;TZID=America/Los_Angeles:20250106T003000
DTEND;TZID=America/Los_Angeles:20250106T020000
DTSTAMP:20260423T034631
CREATED:20241107T043700Z
LAST-MODIFIED:20250104T051839Z
UID:1957891-1736123400-1736128800@ramayogainstitute.com
SUMMARY:Kundalini Yoga and Meditation with Magdalena
DESCRIPTION:
URL:https://ramayogainstitute.com/event/kundalini-yoga-and-meditation-with-magdalena-3-2025-01-06/
LOCATION:RA MA Institute Mallorca\, Carrer de Despuig\, 51\, Palma\, Illes Balears\, 07013\, Spain
CATEGORIES:In Person,RA MA TV Live
ATTACH;FMTTYPE=image/jpeg:https://ramayogainstitute.com/wp-content/uploads/2024/11/Magdalena_Thumbnail_01.jpg
END:VEVENT
END:VCALENDAR