BEGIN:VCALENDAR
VERSION:2.0
PRODID:-//RA MA LIFE - ECPv6.15.15//NONSGML v1.0//EN
CALSCALE:GREGORIAN
METHOD:PUBLISH
X-WR-CALNAME:RA MA LIFE
X-ORIGINAL-URL:https://ramayogainstitute.com
X-WR-CALDESC:Events for RA MA LIFE
REFRESH-INTERVAL;VALUE=DURATION:PT1H
X-Robots-Tag:noindex
X-PUBLISHED-TTL:PT1H
BEGIN:VTIMEZONE
TZID:America/Los_Angeles
BEGIN:DAYLIGHT
TZOFFSETFROM:-0800
TZOFFSETTO:-0700
TZNAME:PDT
DTSTART:20250309T100000
END:DAYLIGHT
BEGIN:STANDARD
TZOFFSETFROM:-0700
TZOFFSETTO:-0800
TZNAME:PST
DTSTART:20251102T090000
END:STANDARD
BEGIN:DAYLIGHT
TZOFFSETFROM:-0800
TZOFFSETTO:-0700
TZNAME:PDT
DTSTART:20260308T100000
END:DAYLIGHT
BEGIN:STANDARD
TZOFFSETFROM:-0700
TZOFFSETTO:-0800
TZNAME:PST
DTSTART:20261101T090000
END:STANDARD
BEGIN:DAYLIGHT
TZOFFSETFROM:-0800
TZOFFSETTO:-0700
TZNAME:PDT
DTSTART:20270314T100000
END:DAYLIGHT
BEGIN:STANDARD
TZOFFSETFROM:-0700
TZOFFSETTO:-0800
TZNAME:PST
DTSTART:20271107T090000
END:STANDARD
END:VTIMEZONE
BEGIN:VEVENT
DTSTART;TZID=America/Los_Angeles:20261020T003000
DTEND;TZID=America/Los_Angeles:20261020T020000
DTSTAMP:20260423T004039
CREATED:20260206T154522Z
LAST-MODIFIED:20260206T154522Z
UID:2019032-1792456200-1792461600@ramayogainstitute.com
SUMMARY:LETTING LIGHT IN | Kundalini Yoga & Meditation
DESCRIPTION:Kundalini yoga and meditation for a soft morning.
URL:https://ramayogainstitute.com/event/letting-light-in-kundalini-yoga-meditation/2026-10-20/
LOCATION:Online on Zoom
CATEGORIES:RA MA TV Live,RA MA TV ZOOM
ATTACH;FMTTYPE=image/jpeg:https://ramayogainstitute.com/wp-content/uploads/2023/03/Johanna.jpeg
END:VEVENT
BEGIN:VEVENT
DTSTART;TZID=America/Los_Angeles:20261020T083000
DTEND;TZID=America/Los_Angeles:20261020T090000
DTSTAMP:20260423T004039
CREATED:20260223T162404Z
LAST-MODIFIED:20260223T162404Z
UID:2019034-1792485000-1792486800@ramayogainstitute.com
SUMMARY:GLOBAL MEDITATION
DESCRIPTION:
URL:https://ramayogainstitute.com/event/global-meditation-2026-02-25/2026-10-20/
LOCATION:Online on RA MA TV
CATEGORIES:In Person,RA MA TV Live,RA MA TV ZOOM
ATTACH;FMTTYPE=image/jpeg:https://ramayogainstitute.com/wp-content/uploads/2026/02/Sat_Kriya_1-e1773928469437.jpg
END:VEVENT
BEGIN:VEVENT
DTSTART;TZID=America/Los_Angeles:20261020T090000
DTEND;TZID=America/Los_Angeles:20261020T103000
DTSTAMP:20260423T004039
CREATED:20260415T143723Z
LAST-MODIFIED:20260415T143723Z
UID:2019035-1792486800-1792492200@ramayogainstitute.com
SUMMARY:FOR THE NERVES | With Teg Prakash
DESCRIPTION:Kundalini Yoga and Meditation to calm\, balance\, and nourish the nervous system.
URL:https://ramayogainstitute.com/event/for-the-nerves-with-teg-prakash/2026-10-20/
LOCATION:Online on RA MA TV
CATEGORIES:In Person,RA MA TV Live
ATTACH;FMTTYPE=image/jpeg:https://ramayogainstitute.com/wp-content/uploads/2025/07/teg_prakash_thumb_6.jpg
END:VEVENT
BEGIN:VEVENT
DTSTART;TZID=America/Los_Angeles:20261020T190000
DTEND;TZID=America/Los_Angeles:20261021T080000
DTSTAMP:20260423T004039
CREATED:20260416T141948Z
LAST-MODIFIED:20260416T141948Z
UID:2019096-1792522800-1792569600@ramayogainstitute.com
SUMMARY:AQUARIAN SADHANA
DESCRIPTION:2.5 hours of deep Kundalini Yoga and meditation practice in devotion to self.
URL:https://ramayogainstitute.com/event/aquarian-sadhana-18/2026-10-21/
LOCATION:Online on RA MA TV
CATEGORIES:RA MA TV Live
ATTACH;FMTTYPE=image/jpeg:https://ramayogainstitute.com/wp-content/uploads/2026/03/69-RamaXMondkind-69.jpg
END:VEVENT
BEGIN:VEVENT
DTSTART;TZID=America/Los_Angeles:20261021T003000
DTEND;TZID=America/Los_Angeles:20261021T020000
DTSTAMP:20260423T004039
CREATED:20241108T045802Z
LAST-MODIFIED:20241108T045802Z
UID:2019101-1792542600-1792548000@ramayogainstitute.com
SUMMARY:KUNDALINI YOGA & MEDITATION with Siri Manprem
DESCRIPTION:
URL:https://ramayogainstitute.com/event/kundalini-yoga-and-meditation-with-siri-manprem-3/2026-10-21/
LOCATION:Online on RA MA TV
CATEGORIES:In Person,RA MA TV Live
ATTACH;FMTTYPE=image/png:https://ramayogainstitute.com/wp-content/uploads/2020/01/siri-manprem-e1732668581561.png
END:VEVENT
BEGIN:VEVENT
DTSTART;TZID=America/Los_Angeles:20261021T003000
DTEND;TZID=America/Los_Angeles:20261021T020000
DTSTAMP:20260423T004039
CREATED:20260415T040357Z
LAST-MODIFIED:20260415T040357Z
UID:2019102-1792542600-1792548000@ramayogainstitute.com
SUMMARY:CREATING HAPPINESS | with Siri Manprem
DESCRIPTION:
URL:https://ramayogainstitute.com/event/creating-happiness-with-siri-manprem/2026-10-21/
LOCATION:RA MA Institute Mallorca\, Carrer de Despuig\, 51\, Palma\, Illes Balears\, 07013\, Spain
CATEGORIES:In Person,RA MA TV Live
ATTACH;FMTTYPE=image/jpeg:https://ramayogainstitute.com/wp-content/uploads/2026/04/SIRI-MANPREM_katherina-thumbs_3.jpg
END:VEVENT
BEGIN:VEVENT
DTSTART;TZID=America/Los_Angeles:20261021T083000
DTEND;TZID=America/Los_Angeles:20261021T090000
DTSTAMP:20260423T004039
CREATED:20260223T162404Z
LAST-MODIFIED:20260223T162404Z
UID:2019105-1792571400-1792573200@ramayogainstitute.com
SUMMARY:GLOBAL MEDITATION
DESCRIPTION:
URL:https://ramayogainstitute.com/event/global-meditation-2026-02-25/2026-10-21/
LOCATION:Online on RA MA TV
CATEGORIES:In Person,RA MA TV Live,RA MA TV ZOOM
ATTACH;FMTTYPE=image/jpeg:https://ramayogainstitute.com/wp-content/uploads/2026/02/Sat_Kriya_1-e1773928469437.jpg
END:VEVENT
BEGIN:VEVENT
DTSTART;TZID=America/Los_Angeles:20261021T090000
DTEND;TZID=America/Los_Angeles:20261021T100000
DTSTAMP:20260423T004039
CREATED:20251007T132924Z
LAST-MODIFIED:20251007T132924Z
UID:2019100-1792573200-1792576800@ramayogainstitute.com
SUMMARY:HARMONIZE | Meditation & Gong Bath
DESCRIPTION:Practice deep meditations and relax the body and mind with an integrative gong sound bath.
URL:https://ramayogainstitute.com/event/harmonize-meditation-gong-bath-2025-10-10/2026-10-21/
LOCATION:Online on RA MA TV
CATEGORIES:In Person,RA MA TV Live
ATTACH;FMTTYPE=image/jpeg:https://ramayogainstitute.com/wp-content/uploads/2025/08/teg_prakash_tree_thumb.jpg
END:VEVENT
BEGIN:VEVENT
DTSTART;TZID=America/Los_Angeles:20261021T090000
DTEND;TZID=America/Los_Angeles:20261021T100000
DTSTAMP:20260423T004039
CREATED:20260414T145837Z
LAST-MODIFIED:20260414T145837Z
UID:2019107-1792573200-1792576800@ramayogainstitute.com
SUMMARY:MEDITATION & HEALING GONG
DESCRIPTION:Meditate and receive deep healing from the Gong with an extended Gong lay-out.  No previous experience necessary\, all levels. \nMedita y recibe una profunda sanación del Gong con una disposición extendida del Gong. No se requiere experiencia previa\, todos los niveles.
URL:https://ramayogainstitute.com/event/meditation-healing-gong-2026-04-20/2026-10-21/
LOCATION:Online on RA MA TV
CATEGORIES:In Person,RA MA TV Live
ATTACH;FMTTYPE=image/jpeg:https://ramayogainstitute.com/wp-content/uploads/2025/08/teg_prakash_laugh_thumb.jpg
END:VEVENT
BEGIN:VEVENT
DTSTART;TZID=America/Los_Angeles:20261021T160000
DTEND;TZID=America/Los_Angeles:20261021T171500
DTSTAMP:20260423T004039
CREATED:20260415T220821Z
LAST-MODIFIED:20260415T220821Z
UID:2019104-1792598400-1792602900@ramayogainstitute.com
SUMMARY:POWER OF THE WORD | with Atma Santokh
DESCRIPTION:
URL:https://ramayogainstitute.com/event/power-of-the-word-with-atma-santokh/2026-10-21/
LOCATION:Online on RA MA TV
CATEGORIES:In Person,RA MA TV Live
ATTACH;FMTTYPE=image/jpeg:https://ramayogainstitute.com/wp-content/uploads/2025/03/Atma-Santokh_palma_02.jpg
END:VEVENT
BEGIN:VEVENT
DTSTART;TZID=America/Los_Angeles:20261021T180000
DTEND;TZID=America/Los_Angeles:20261021T190000
DTSTAMP:20260423T004039
CREATED:20260114T143849Z
LAST-MODIFIED:20260114T143849Z
UID:2019106-1792605600-1792609200@ramayogainstitute.com
SUMMARY:HARMONIZE | Meditation & Gong Bath
DESCRIPTION:Practice deep meditations and relax the body and mind with an integrative gong sound bath.
URL:https://ramayogainstitute.com/event/harmonize-meditation-gong-bath/2026-10-21/
LOCATION:Online on RA MA TV
CATEGORIES:In Person,RA MA TV Live,RA MA TV ZOOM
ATTACH;FMTTYPE=image/jpeg:https://ramayogainstitute.com/wp-content/uploads/2025/07/teg_prakash_thumb_6.jpg
END:VEVENT
END:VCALENDAR