BEGIN:VCALENDAR
VERSION:2.0
PRODID:-//RA MA LIFE - ECPv6.15.15//NONSGML v1.0//EN
CALSCALE:GREGORIAN
METHOD:PUBLISH
X-ORIGINAL-URL:https://ramayogainstitute.com
X-WR-CALDESC:Events for RA MA LIFE
REFRESH-INTERVAL;VALUE=DURATION:PT1H
X-Robots-Tag:noindex
X-PUBLISHED-TTL:PT1H
BEGIN:VTIMEZONE
TZID:America/Los_Angeles
BEGIN:DAYLIGHT
TZOFFSETFROM:-0800
TZOFFSETTO:-0700
TZNAME:PDT
DTSTART:20230312T100000
END:DAYLIGHT
BEGIN:STANDARD
TZOFFSETFROM:-0700
TZOFFSETTO:-0800
TZNAME:PST
DTSTART:20231105T090000
END:STANDARD
BEGIN:DAYLIGHT
TZOFFSETFROM:-0800
TZOFFSETTO:-0700
TZNAME:PDT
DTSTART:20240310T100000
END:DAYLIGHT
BEGIN:STANDARD
TZOFFSETFROM:-0700
TZOFFSETTO:-0800
TZNAME:PST
DTSTART:20241103T090000
END:STANDARD
BEGIN:DAYLIGHT
TZOFFSETFROM:-0800
TZOFFSETTO:-0700
TZNAME:PDT
DTSTART:20250309T100000
END:DAYLIGHT
BEGIN:STANDARD
TZOFFSETFROM:-0700
TZOFFSETTO:-0800
TZNAME:PST
DTSTART:20251102T090000
END:STANDARD
END:VTIMEZONE
BEGIN:VEVENT
DTSTART;TZID=America/Los_Angeles:20241221T080000
DTEND;TZID=America/Los_Angeles:20241221T093000
DTSTAMP:20260422T144812
CREATED:20241107T051228Z
LAST-MODIFIED:20241221T020508Z
UID:1962117-1734768000-1734773400@ramayogainstitute.com
SUMMARY:SOL MINIMUS | Winter Solstice Kundalini with Teg Prakash
DESCRIPTION:
URL:https://ramayogainstitute.com/event/kundalini-yoga-kelle-jacob-2024-12-21/
LOCATION:Online on RA MA TV
CATEGORIES:In Person,RA MA TV Live
ATTACH;FMTTYPE=image/jpeg:https://ramayogainstitute.com/wp-content/uploads/2024/04/teg_prakash_scorpio_looking_up.jpg
END:VEVENT
BEGIN:VEVENT
DTSTART;TZID=America/Los_Angeles:20241224T160000
DTEND;TZID=America/Los_Angeles:20241224T173000
DTSTAMP:20260422T144812
CREATED:20241108T043043Z
LAST-MODIFIED:20241224T230153Z
UID:1957296-1735056000-1735061400@ramayogainstitute.com
SUMMARY:Kundalini Yoga and Meditation with Teg Prakash
DESCRIPTION:
URL:https://ramayogainstitute.com/event/kundalini-yoga-and-meditation-with-siri-rishi-2-2024-12-24/
LOCATION:Online on RA MA TV
CATEGORIES:In Person,RA MA TV Live
ATTACH;FMTTYPE=image/jpeg:https://ramayogainstitute.com/wp-content/uploads/2024/04/Teg_Prakash_4.22.24.jpeg
END:VEVENT
BEGIN:VEVENT
DTSTART;TZID=America/Los_Angeles:20241230T003000
DTEND;TZID=America/Los_Angeles:20241230T020000
DTSTAMP:20260422T144812
CREATED:20241107T043700Z
LAST-MODIFIED:20250104T044311Z
UID:1957890-1735518600-1735524000@ramayogainstitute.com
SUMMARY:Kundalini Yoga and Meditation with Magdalena
DESCRIPTION:
URL:https://ramayogainstitute.com/event/kundalini-yoga-and-meditation-with-magdalena-3-2024-12-30/
LOCATION:RA MA Institute Mallorca\, Carrer de Despuig\, 51\, Palma\, Illes Balears\, 07013\, Spain
CATEGORIES:In Person,RA MA TV Live
ATTACH;FMTTYPE=image/jpeg:https://ramayogainstitute.com/wp-content/uploads/2024/11/Magdalena_Thumbnail_01.jpg
END:VEVENT
BEGIN:VEVENT
DTSTART;TZID=America/Los_Angeles:20241230T084500
DTEND;TZID=America/Los_Angeles:20241230T173000
DTSTAMP:20260422T144812
CREATED:20241229T102336Z
LAST-MODIFIED:20241229T102336Z
UID:1966837-1735548300-1735579800@ramayogainstitute.com
SUMMARY:NEW MOON IN CAPRICORN
DESCRIPTION:SIGN UP\nTUNE IN\nNew Moon in Capricorn\n\n\n\n\n\nMONDAY\, DECEMBER 30\, 2024 \nAQUARIAN SADHANA\nNEW MOON IN CAPRICORN\nwith atma santokh\nMonday\, DecEMBER 30\, 2024\n4:00am-6:30am PST\n7:00am-9:30am EST\n1:00pm-3:30pm CET\nRA MA TV COMMUNITY CONTENT \nKUNDALINI YOGA & MEDITATION\nNEW MOON IN CAPRICORN with MAGDALENA\nMonday\, DECEMBER 30\, 2024\n12:30am-2:00am PST\n3:30am-5:00am EST\n9:30pm-11:00m CET\nRA MA mallorca \nKUNDALINI YOGA & MEDITATION\nNEW MOON IN CAPRICORN with MAGDALENA\nMonday\, DECEMBER 30\, 2024\n12:30am-2:00am PST\n3:30am-5:00am EST\n9:30pm-11:00m CET\nRA MA mallorca \nSPIRIT+MATTER\nNEW MOON IN CAPRICORN\nwith SHABADPREET\nMonday\, DecEMBER 30\, 2024\n7:30am-9:00am PST\n10:30AM-12:00PM EST\n4:30pm-6:00pm CET\nAQUARIAN WOMEN’S LEADERSHIP SOCIETY | ZOOM \nTHE GOAT: become THE MOUNTAIN\nNEW MOON IN CAPRICORN\nwith ATMA SANTOKH\nMonday\, DecEMBER 30\, 2024\n2:00pm-4:00pm PST\n5:00pm-7:00pm EST\n11:00pm-1:00am CET +1\nRA MA TOPANGA POP UP | RA MA TV \nTHE GOAT: become THE MOUNTAIN\nNEW MOON IN CAPRICORN\nwith ATMA SANTOKH\nMonday\, DecEMBER 30\, 2024\n2:00pm-4:00pm PST\n5:00pm-7:00pm EST\n11:00pm-1:00am CET +1\nRA MA TOPANGA POP UP | RA MA TV \n\n\n\n 
URL:https://ramayogainstitute.com/event/new-moon-in-capricorn/
LOCATION:RA MA Intitute New York and online
CATEGORIES:Courses & Events,In Person,Pay Per View Workshops,RA MA TV Live
ATTACH;FMTTYPE=image/jpeg:https://ramayogainstitute.com/wp-content/uploads/2023/05/NewMoon_Taurus_Kundalini_Header.jpg
END:VEVENT
END:VCALENDAR