BEGIN:VCALENDAR
VERSION:2.0
PRODID:-//RA MA LIFE - ECPv6.15.15//NONSGML v1.0//EN
CALSCALE:GREGORIAN
METHOD:PUBLISH
X-ORIGINAL-URL:https://ramayogainstitute.com
X-WR-CALDESC:Events for RA MA LIFE
REFRESH-INTERVAL;VALUE=DURATION:PT1H
X-Robots-Tag:noindex
X-PUBLISHED-TTL:PT1H
BEGIN:VTIMEZONE
TZID:America/Los_Angeles
BEGIN:DAYLIGHT
TZOFFSETFROM:-0800
TZOFFSETTO:-0700
TZNAME:PDT
DTSTART:20230312T100000
END:DAYLIGHT
BEGIN:STANDARD
TZOFFSETFROM:-0700
TZOFFSETTO:-0800
TZNAME:PST
DTSTART:20231105T090000
END:STANDARD
BEGIN:DAYLIGHT
TZOFFSETFROM:-0800
TZOFFSETTO:-0700
TZNAME:PDT
DTSTART:20240310T100000
END:DAYLIGHT
BEGIN:STANDARD
TZOFFSETFROM:-0700
TZOFFSETTO:-0800
TZNAME:PST
DTSTART:20241103T090000
END:STANDARD
BEGIN:DAYLIGHT
TZOFFSETFROM:-0800
TZOFFSETTO:-0700
TZNAME:PDT
DTSTART:20250309T100000
END:DAYLIGHT
BEGIN:STANDARD
TZOFFSETFROM:-0700
TZOFFSETTO:-0800
TZNAME:PST
DTSTART:20251102T090000
END:STANDARD
END:VTIMEZONE
BEGIN:VEVENT
DTSTART;TZID=America/Los_Angeles:20241002T150000
DTEND;TZID=America/Los_Angeles:20241002T170000
DTSTAMP:20260423T030446
CREATED:20240925T072518Z
LAST-MODIFIED:20240926T041237Z
UID:1950380-1727881200-1727888400@ramayogainstitute.com
SUMMARY:Solar Eclipse: Self-to-Cosmos with Pritam Siri
DESCRIPTION:SIGN UP\nTUNE IN\nWe all have an axis and an orbit.\nOur axis relates to our health and happiness\,\nour orbit relates to our prosperity\, legacy and impact.\nIf both are in harmony you have health\, prosperity and ability to deliver and serve. Experience kundalini yoga & meditation to embody the cosmic harmony of this powerful day and celebrate elevated community. \nSolar Eclipse: Self-to-Cosmos with Pritam Siri\nExperience The Harmonic Convergence Of Infinity X You\nWednesday\, October 2\, 2024\n3:00pm – 5:00pm PDT\n6:00pm – 8:00pm EDT\nRA MA New York\nRA MA TV\n$50 in advance\, $55 day-of \n*Refreshments to follow
URL:https://ramayogainstitute.com/event/solar-eclipse-self-to-cosmos-with-pritam-siri/
LOCATION:RA MA Intitute New York and online
CATEGORIES:In Person,Pay Per View Workshops
ATTACH;FMTTYPE=image/jpeg:https://ramayogainstitute.com/wp-content/uploads/2023/08/B41A7038.jpg
END:VEVENT
BEGIN:VEVENT
DTSTART;TZID=America/Los_Angeles:20241002T200000
DTEND;TZID=America/Los_Angeles:20241002T213000
DTSTAMP:20260423T030446
CREATED:20240925T215331Z
LAST-MODIFIED:20240925T215331Z
UID:1950541-1727899200-1727904600@ramayogainstitute.com
SUMMARY:New Moon Eclipse Sound Bath with Ana Netanel
DESCRIPTION:SIGN UP\nTUNE IN\n\nNew Moon Eclipse Sound Bath with Ana Netanel\nWednesday\, October 2\, 2024\n8:00pm-9:30pm PDT\nIn Person at RA MA Los Angeles\nVirtually on RA MA TV\n$44 in advance\, $55 day-of \nThe final Eclipse of 2024 is occurring on the New Moon in Libra this coming Tuesday\, October 2. On this powerful day\, come to bathe in the cleansing and uplifting frequencies of ancient sound healing instruments with Ana Netanl and her team of Sound Healers. \nSound Bath is an acoustic sound healing journey that relaxes the body\, clears the subconscious\, calms the mind\, and activates your body’s natural healing systems. Bring a blanket and pillow\, and create your most comfortable space then lie down and let the cosmic vibrations wash away stress and all that no longer serves you. x \nExperience a cosmic symphony of healing created by a wide variety of ancient sound healing instruments— including planetary-tuned gongs\, crystal singing bowls\, Tibetan bowls\, and more to vibrate and activate every cell in your body\, leaving you feeling refreshed and rejuvenated.
URL:https://ramayogainstitute.com/event/new-moon-eclipse-sound-bath-with-ana-netanel/
LOCATION:RA MA Institute Los Angeles\, 1729 21st St\, Santa Monica\, CA\, 90404\, United States
CATEGORIES:Courses & Events,In Person,Pay Per View Workshops
ATTACH;FMTTYPE=image/jpeg:https://ramayogainstitute.com/wp-content/uploads/2024/03/Ana-Netanel-scaled.jpg
END:VEVENT
BEGIN:VEVENT
DTSTART;TZID=America/Los_Angeles:20241006T031500
DTEND;TZID=America/Los_Angeles:20241006T150000
DTSTAMP:20260423T030446
CREATED:20240927T004532Z
LAST-MODIFIED:20240927T215325Z
UID:1951134-1728184500-1728226800@ramayogainstitute.com
SUMMARY:Yogi Bhajan Remembrance Day
DESCRIPTION:SIGN UP\nTUNE IN\nYogi Bhajan Remembrance Day\nSunday\, October 6\, 2024\n3:15am-3:00pm PDT\nRA MA Los Angeles\nRA MA TV \n3:15am PDT + EDT\nGlobal Special Sadhana\non Yogi Bhajan Remembrance Day \n3:15AM – 4:00AM PDT & EDT\nJap-Ji and Yoga\n+\n4:00am PDT 2.5 Hours of Long Ek Ong Kars \n9:00am-10:30am PDT\nwith Gurujas\nRA MA Los Angeles\nRA MA TV Live \n11:00am-12:30am PDT\nwith Mikal\nRA MA Los Angeles\nRA MA TV Live \n1:00pm-3:00pm PDT\nEthers to Earth with Harijiwan and Mandev\nRA MA Los Angeles\nRA MA TV\n$60 in advance\, $60 Day of \n\n\n\n\n\n  \n 
URL:https://ramayogainstitute.com/event/yogi-bhajan-remembrance-day/
LOCATION:RA MA Los Angeles\, RA MA New York & Online
CATEGORIES:Courses & Events,In Person,Pay Per View Workshops,RA MA TV Live
ATTACH;FMTTYPE=image/jpeg:https://ramayogainstitute.com/wp-content/uploads/2024/09/YogiBhajanBday_Header.jpg
END:VEVENT
END:VCALENDAR