BEGIN:VCALENDAR
VERSION:2.0
PRODID:-//RA MA LIFE - ECPv6.15.15//NONSGML v1.0//EN
CALSCALE:GREGORIAN
METHOD:PUBLISH
X-ORIGINAL-URL:https://ramayogainstitute.com
X-WR-CALDESC:Events for RA MA LIFE
REFRESH-INTERVAL;VALUE=DURATION:PT1H
X-Robots-Tag:noindex
X-PUBLISHED-TTL:PT1H
BEGIN:VTIMEZONE
TZID:America/Los_Angeles
BEGIN:DAYLIGHT
TZOFFSETFROM:-0800
TZOFFSETTO:-0700
TZNAME:PDT
DTSTART:20230312T100000
END:DAYLIGHT
BEGIN:STANDARD
TZOFFSETFROM:-0700
TZOFFSETTO:-0800
TZNAME:PST
DTSTART:20231105T090000
END:STANDARD
BEGIN:DAYLIGHT
TZOFFSETFROM:-0800
TZOFFSETTO:-0700
TZNAME:PDT
DTSTART:20240310T100000
END:DAYLIGHT
BEGIN:STANDARD
TZOFFSETFROM:-0700
TZOFFSETTO:-0800
TZNAME:PST
DTSTART:20241103T090000
END:STANDARD
BEGIN:DAYLIGHT
TZOFFSETFROM:-0800
TZOFFSETTO:-0700
TZNAME:PDT
DTSTART:20250309T100000
END:DAYLIGHT
BEGIN:STANDARD
TZOFFSETFROM:-0700
TZOFFSETTO:-0800
TZNAME:PST
DTSTART:20251102T090000
END:STANDARD
END:VTIMEZONE
BEGIN:VEVENT
DTSTART;TZID=America/Los_Angeles:20240826T030000
DTEND;TZID=America/Los_Angeles:20240826T190000
DTSTAMP:20260423T012145
CREATED:20240817T231356Z
LAST-MODIFIED:20240817T231356Z
UID:1941665-1724641200-1724698800@ramayogainstitute.com
SUMMARY:Yogi Bhajan's Birthday 2024
DESCRIPTION:SIGN UP\nTUNE IN\nYogi Bhajan’s Birthday\nMonday\, August 26\, 2024\n3:00am – 7:00pm PDT\nRA MA Los Angeles  | RA MA New York  | RA MA Mallorca | RA MA TV \n  \n3:00am PDT | 6:00am EDT | 12:00pm CEST\nSpecial Sadhana\n11-Minute Global Simultaneous Guru Ram Das Chant \nLOS ANGELES\n3:15am PDT Japji\n3:30am PDT Yoga\n4:00am – 6:30am PDT 2.5 Hours of Long Ek Ong Kar \nNEW YORK\n3:00am EDT Japji\n3:15am EDT Yoga\n3:25am – 3:55am EDT 2.5 Hours of Long Ek Ong Kar \n12:30am – 2:00am PDT\n9:30am – 11:00am CEST\nBe the Light\nKundalini Yoga & Meditation\nwith Magdalena Lawniczek\nRA MA Mallorca\nRA MA TV Live \n6:00am-7:30am PDT \n9:00am-10:30am EDT\nHow Much Can You Love?\nYogi Bhajan Birthday Class\nwith Pritam Siri\nRA MA New York\nRA MA TV Live \n9:00am-10:30am PDT\nFlow of Miracles with Mandev\nYogi Bhajan’s Birthday Long Mul Mantra Monday\nRA MA Los Angeles\nRA MA TV Live \n11:00am-12:15pm PDT\nKundalini Yoga & Meditation\nwith Teg Prakash\nRA MA Los Angeles\nRA MA TV Live \n4:00pm – 5:30pm PDT\n7:00pm – 8:30pm EDT\nKundalini Yoga & Meditation\nwith Siri Rishi\nRA MA New York\nRA MA TV Live \n5:00pm-7:00pm PDT\nTantric Energy Alignment\nYogi Bhajan’s Birthday Workshop with Harijiwan\nRA MA Los Angeles\nRA MA TV\n$60 in advance\, $65 day of\n*In-Person Dinner to Follow at RA MA Los Angeles
URL:https://ramayogainstitute.com/event/yogi-bhajans-birthday-2024/
LOCATION:RA MA Los Angeles\, RA MA New York\, RA MA Mallorca\, Online
CATEGORIES:Courses & Events,In Person,Pay Per View Workshops,RA MA TV Live
ATTACH;FMTTYPE=image/jpeg:https://ramayogainstitute.com/wp-content/uploads/2023/08/YogiBhajan_Birthday_Header2.jpg
END:VEVENT
BEGIN:VEVENT
DTSTART;TZID=America/Los_Angeles:20240826T170000
DTEND;TZID=America/Los_Angeles:20240826T190000
DTSTAMP:20260423T012145
CREATED:20240817T232445Z
LAST-MODIFIED:20240817T234500Z
UID:1941668-1724691600-1724698800@ramayogainstitute.com
SUMMARY:Tantric Energy Alignment with Harijiwan
DESCRIPTION:SIGN UP\nTUNE IN\n\nTantric Energy Alignment\nYogi Bhajan’s Birthday Workshop with Harijiwan\nMonday\, August 26th\, 2024\n5:00pm-7:00pm PDT\nRA MA Los Angeles\nRA MA TV\n$60 in advance\, $65 day of\n*In-Person Dinner to Follow at RA MA Los Angeles \nEach soul has a longitude & latitude— the point of origin of your incarnation. \nOnly one soul can enter at that space & time. \nAn energetic window opens when a high being incarnates. On this day\, a great teacher came onto this planet. The infinite flow of this soul\, the tremendous opportunity & immense blessing that this incarnation provided is more accessible on this day. \nPractice two very special meditations with Harijiwan & Mandev. \nAlign yourself with the cosmic current & flow of miracles available to you now. \n\n\nHarijiwan has been teaching Kundalini Yoga since 1975. He is the founder of the GRAMMY®-Award-Winning band\, White Sun. With over 44 years of experience in the science of Kundalini Yoga\, Harijiwan incorporates a vast knowledge of various methodologies and training into his practice. Today\, and throughout his years as a teacher and healer\, Harijiwan remains committed to expanding his knowledge and experience to provide his students with the most progressive\, effective\, self-empowering approaches that increase overall joy and wholeness within the context of everyday experiences.
URL:https://ramayogainstitute.com/event/tantric-energy-alignment-with-harijiwan/
LOCATION:Online
CATEGORIES:In Person,Pay Per View Workshops
ATTACH;FMTTYPE=image/jpeg:https://ramayogainstitute.com/wp-content/uploads/2024/08/L1460161_Harijiwan-Gong_RA-MA-TV_small-scaled.jpg
END:VEVENT
BEGIN:VEVENT
DTSTART;TZID=America/Los_Angeles:20240828T080000
DTEND;TZID=America/Los_Angeles:20240828T094500
DTSTAMP:20260423T012145
CREATED:20240824T042305Z
LAST-MODIFIED:20240828T040708Z
UID:1943055-1724832000-1724838300@ramayogainstitute.com
SUMMARY:The Art of Meditative Self-Hypnosis | Magnetizing Mirror Clarity Series
DESCRIPTION:SIGN UP\nTUNE IN\n\nMagnetizing Mirror Clarity Series\n5-Part Series with Harijiwan & Mandev \nThe Art of Meditative Self-Hypnosis\nKundalini Yoga & Deep Meditation with Mandev\nWednesday\, August 28\, 2024\n11:00am – 12:45pm EDT\nRA MA New York\nRA MA TV Live\n$30 or RA MA ClassPass \nJoin Harijiwan & Mandev at RA MA New York to experience a rare and deeply esoteric realm. \nThese five sessions are a specially designed meditative arrangement of energy. Each session will guide you step by step into a new magnetic vibratory reality— culminating with the final workshop on Sunday\, September 1st. \nThis class is part of the following series : \nWednesday\, August 28\, 2024 \n7:00pm – 9:00pm EDT\nGuided Self-Trance Journey\nKundalini Yoga\, Meditation & Gong Workshop\nwith Harijiwan & Mandev\n$75 In Advance\, $80 Day Of\nRA MA New York\nRA MA TV \n———————– \nThursday\, August 29\, 2024 \n11:00am – 12:30pm EDT\nSelf-Hypnosis to Create Your Reality\nKundalini Yoga & Deep Meditation with Mandev\nRA MA New York\nRA MA TV Live \n7:00pm – 9:00pm EDT\nMystical Energy Realms\nKundalini Yoga\, Meditation & Gong Workshop\nwith Harijiwan & Mandev\n$75 In Advance\, $80 Day Of\nRA MA New York\nRA MA TV \n——————————- \nSunday\, September 1\, 2024\n\n10:00am – 12:00pm Noon EDT\nMagnetizing Mirror Clarity\nKundalini Yoga\, Meditation & Gong Workshop\nwith Harijiwan & Mandev\n$75 In Advance\, $80 Day Of\nRA MA New York\nRA MA TV \n—— \nTBC Full Residency Pass $250\nWorkshops $75 In Advance\, $80 Day Of\nClasses $30 Drop-In or ClassPass \n\n\nHarijiwan has been teaching Kundalini Yoga since 1975. He is the founder of the GRAMMY®-Award-Winning band\, White Sun. With over 44 years of experience in the science of Kundalini Yoga\, Harijiwan incorporates a vast knowledge of various methodologies and training into his practice. Today\, and throughout his years as a teacher and healer\, Harijiwan remains committed to expanding his knowledge and experience to provide his students with the most progressive\, effective\, self-empowering approaches that increase overall joy and wholeness within the context of everyday experiences.
URL:https://ramayogainstitute.com/event/magnetizing-mirror-clarity-series/
LOCATION:RA MA Intitute New York and online
CATEGORIES:In Person,Pay Per View Workshops
ATTACH;FMTTYPE=image/jpeg:https://ramayogainstitute.com/wp-content/uploads/2024/08/Crystalize_Mandev-NYC_Header.jpg
END:VEVENT
BEGIN:VEVENT
DTSTART;TZID=America/Los_Angeles:20240828T160000
DTEND;TZID=America/Los_Angeles:20240828T180000
DTSTAMP:20260423T012145
CREATED:20240828T040445Z
LAST-MODIFIED:20240828T040445Z
UID:1943647-1724860800-1724868000@ramayogainstitute.com
SUMMARY:Guided Self-Trance Journey | Magnetizing Mirror Clarity Series
DESCRIPTION:SIGN UP\nTUNE IN\n\nMagnetizing Mirror Clarity Series\n5-Part Series with Harijiwan & Mandev \nGuided Self-Trance Journey\nKundalini Yoga\, Meditation & Gong Workshop with Harijiwan & Mandev\nWednesday\, August 28\, 2024\n7:00pm – 9:00pm EDT\nRA MA New York\nRA MA TV\n$75 In Advance\, $80 Day Of \nJoin Harijiwan & Mandev at RA MA New York to experience a rare and deeply esoteric realm. \nThese five sessions are a specially designed meditative arrangement of energy. Each session will guide you step by step into a new magnetic vibratory reality— culminating with the final workshop on Sunday\, September 1st. \nThis class is part of the following series : \nWednesday\, August 28\, 2024 \n11:00am – 12:30pm EDT\nThe Art of Meditative Self-Hypnosis\nKundalini Yoga & Deep Meditation with Mandev\n$30 or RA MA ClassPass\nRA MA New York\nRA MA TV Live \n———————– \nThursday\, August 29\, 2024 \n11:00am – 12:30pm EDT\nSelf-Hypnosis to Create Your Reality\nKundalini Yoga & Deep Meditation with Mandev\nRA MA New York\nRA MA TV Live \n7:00pm – 9:00pm EDT\nMystical Energy Realms\nKundalini Yoga\, Meditation & Gong Workshop\nwith Harijiwan & Mandev\n$75 In Advance\, $80 Day Of\nRA MA New York\nRA MA TV \n——————————- \nSunday\, September 1\, 2024\n\n10:00am – 12:00pm Noon EDT\nMagnetizing Mirror Clarity\nKundalini Yoga\, Meditation & Gong Workshop\nwith Harijiwan & Mandev\n$75 In Advance\, $80 Day Of\nRA MA New York\nRA MA TV \n—— \nTBC Full Residency Pass $250\nWorkshops $75 In Advance\, $80 Day Of\nClasses $30 Drop-In or ClassPass \n\n\nHarijiwan has been teaching Kundalini Yoga since 1975. He is the founder of the GRAMMY®-Award-Winning band\, White Sun. With over 44 years of experience in the science of Kundalini Yoga\, Harijiwan incorporates a vast knowledge of various methodologies and training into his practice. Today\, and throughout his years as a teacher and healer\, Harijiwan remains committed to expanding his knowledge and experience to provide his students with the most progressive\, effective\, self-empowering approaches that increase overall joy and wholeness within the context of everyday experiences.
URL:https://ramayogainstitute.com/event/guided-self-trance-journey-magnetizing-mirror-clarity-series/
LOCATION:RA MA Intitute New York and online
CATEGORIES:In Person,Pay Per View Workshops
ATTACH;FMTTYPE=image/jpeg:https://ramayogainstitute.com/wp-content/uploads/2024/08/Crystalize_Harijiwan-Mandev-NYC.jpg
END:VEVENT
BEGIN:VEVENT
DTSTART;TZID=America/Los_Angeles:20240829T080000
DTEND;TZID=America/Los_Angeles:20240829T094500
DTSTAMP:20260423T012145
CREATED:20240824T042305Z
LAST-MODIFIED:20240828T041446Z
UID:1943059-1724918400-1724924700@ramayogainstitute.com
SUMMARY:Self-Hypnosis to Create Your Reality | Magnetizing Mirror Clarity Series
DESCRIPTION:SIGN UP\nTUNE IN\n\nMagnetizing Mirror Clarity Series\n5-Part Series with Harijiwan & Mandev \nSelf-Hypnosis to Create Your Reality\nKundalini Yoga & Deep Meditation with Mandev\nThursday\, August 29\, 2024\n11:00am – 12:45pm EDT\nRA MA New York\nRA MA TV Live \nThese five sessions are a specially designed meditative arrangement of energy. Each session will guide you step by step into a new magnetic vibratory reality— culminating with the final workshop on Sunday\, September 1st. \nJoin Harijiwan & Mandev at RA MA New York to experience a rare and deeply esoteric realm. \nWednesday\, August 28\, 2024 \n11:00am – 12:30pm EDT\nThe Art of Meditative Self-Hypnosis\nKundalini Yoga & Deep Meditation with Mandev\n$30 or RA MA ClassPass\nRA MA New York\nRA MA TV Live \n7:00pm – 9:00pm EDT\nGuided Self-Trance Journey\nKundalini Yoga\, Meditation & Gong Workshop\nwith Harijiwan & Mandev\n$75 In Advance\, $80 Day Of\nRA MA New York\nRA MA TV \n———————– \nThursday\, August 29\, 2024 \n7:00pm – 9:00pm EDT\nMystical Energy Realms\nKundalini Yoga\, Meditation & Gong Workshop\nwith Harijiwan & Mandev\n$75 In Advance\, $80 Day Of\nRA MA New York\nRA MA TV \n——————————- \nSunday\, September 1\, 2024\n\n10:00am – 12:00pm Noon EDT\nMagnetizing Mirror Clarity\nKundalini Yoga\, Meditation & Gong Workshop\nwith Harijiwan & Mandev\n$75 In Advance\, $80 Day Of\nRA MA New York\nRA MA TV \n—— \nTBC Full Residency Pass $250\nWorkshops $75 In Advance\, $80 Day Of\nClasses $30 Drop-In or ClassPass \n\n\nHarijiwan has been teaching Kundalini Yoga since 1975. He is the founder of the GRAMMY®-Award-Winning band\, White Sun. With over 44 years of experience in the science of Kundalini Yoga\, Harijiwan incorporates a vast knowledge of various methodologies and training into his practice. Today\, and throughout his years as a teacher and healer\, Harijiwan remains committed to expanding his knowledge and experience to provide his students with the most progressive\, effective\, self-empowering approaches that increase overall joy and wholeness within the context of everyday experiences.
URL:https://ramayogainstitute.com/event/magnetizing-mirror-clarity-series-2024-08-29/
LOCATION:RA MA Intitute New York and online
CATEGORIES:In Person,Pay Per View Workshops
ATTACH;FMTTYPE=image/jpeg:https://ramayogainstitute.com/wp-content/uploads/2024/08/Crystalize_Mandev-NYC_Header.jpg
END:VEVENT
BEGIN:VEVENT
DTSTART;TZID=America/Los_Angeles:20240829T160000
DTEND;TZID=America/Los_Angeles:20240829T180000
DTSTAMP:20260423T012145
CREATED:20240828T035637Z
LAST-MODIFIED:20240828T040647Z
UID:1943644-1724947200-1724954400@ramayogainstitute.com
SUMMARY:Mystical Energy Realms | Magnetizing Mirror Clarity Series
DESCRIPTION:SIGN UP\nTUNE IN\n\nMagnetizing Mirror Clarity Series\n5-Part Series with Harijiwan & Mandev \nMystical Energy Realms\nKundalini Yoga\, Meditation & Gong Workshop with Harijiwan & Mandev\nThursday\, August 29\, 2024\n7:00pm – 9:00pm EDT\nRA MA New York\nRA MA TV\n$75 In Advance\, $80 Day Of \nJoin Harijiwan & Mandev at RA MA New York to experience a rare and deeply esoteric realm. \nThese five sessions are a specially designed meditative arrangement of energy. Each session will guide you step by step into a new magnetic vibratory reality— culminating with the final workshop on Sunday\, September 1st. \nThis class is part of the following series : \nWednesday\, August 28\, 202411:00am – 12:30pm EDT\nThe Art of Meditative Self-Hypnosis\nKundalini Yoga & Deep Meditation with Mandev\n$30 or RA MA ClassPass\nRA MA New York\nRA MA TV Live \n7:00pm – 9:00pm EDT\nGuided Self-Trance Journey\nKundalini Yoga\, Meditation & Gong Workshop\nwith Harijiwan & Mandev\n$75 In Advance\, $80 Day Of\nRA MA New York\nRA MA TV \n———————– \nThursday\, August 29\, 2024 \n11:00am – 12:45pm EDT\nSelf-Hypnosis to Create Your Reality\nKundalini Yoga & Deep Meditation with Mandev\nRA MA New York\nRA MA TV Live \n——————————- \nSunday\, September 1\, 2024\n\n10:00am – 12:00pm Noon EDT\nMagnetizing Mirror Clarity\nKundalini Yoga\, Meditation & Gong Workshop\nwith Harijiwan & Mandev\n$75 In Advance\, $80 Day Of\nRA MA New York\nRA MA TV \n—— \nTBC Full Residency Pass $250\nWorkshops $75 In Advance\, $80 Day Of\nClasses $30 Drop-In or ClassPass \n\n\nHarijiwan has been teaching Kundalini Yoga since 1975. He is the founder of the GRAMMY®-Award-Winning band\, White Sun. With over 44 years of experience in the science of Kundalini Yoga\, Harijiwan incorporates a vast knowledge of various methodologies and training into his practice. Today\, and throughout his years as a teacher and healer\, Harijiwan remains committed to expanding his knowledge and experience to provide his students with the most progressive\, effective\, self-empowering approaches that increase overall joy and wholeness within the context of everyday experiences.
URL:https://ramayogainstitute.com/event/mystical-energy-realms-magnetizing-mirror-clarity-series/
LOCATION:RA MA Intitute New York and online
CATEGORIES:In Person,Pay Per View Workshops
ATTACH;FMTTYPE=image/jpeg:https://ramayogainstitute.com/wp-content/uploads/2024/08/Crystalize_Harijiwan-Mandev-NYC.jpg
END:VEVENT
BEGIN:VEVENT
DTSTART;TZID=America/Los_Angeles:20240830T040000
DTEND;TZID=America/Los_Angeles:20240830T213000
DTSTAMP:20260423T012145
CREATED:20240821T043515Z
LAST-MODIFIED:20240821T043515Z
UID:1942156-1724990400-1725053400@ramayogainstitute.com
SUMMARY:Guru Jagat's Birthday 2024
DESCRIPTION:SIGN UP\nTUNE IN\nGuru Jagat’s Birthday\nFriday\, August 30\, 2024\n 4:00am-9:30pm PDT\nRA MA Los Angeles  | RA MA New York  | RA MA Mallorca | RA MA TV \n4:00am – 6:30am PDT / EDT\nSpecial Sadhana\n2.5 Hours of Eka Mai Recitations\nIn-Person at RA MA Los Angeles\nIn-Person at RA MA New York\nVirtually on the RA MA TV Community Content Channel PDT/EDT\nVirtually on Zoom – Mallorca \n12:30am – 2:30am PDT\n9:30am-11:30am CEST\nKundalini Yoga\nwith Magdalena\nRA MA Mallorca\nRA MA TV Live \n9:30am – 12:00pm PDT\n6:30pm – 9:00pm CEST\nConscious Community & DJ Party\nwith Magdalena & Siri Manprem\nRA MA Mallorca\nRA MA TV Live \n3:00pm – 4:30pm PDT\n6:00pm – 7:30pm EDT Meditation & Sound Bath \n7:30pm – 9:30pm EDT Dinner & Dance\nMother of Creation\nMeditation & Sound Bath\nDance & Dinner to follow\nwith Pritam Siri\nRA MA New York\nRA MA TV Live \n5:30-7:30pm PDT\nGuru Jagat’s Birthday Celebration\nWorkshop with Shabadpreet\, Harmanjot\, & Jen\nRA MA Los Angeles\nRA MA TV\nRA MA TV Live\n$29 Drop-In \n7:30pm-8:30pm PDT\nHealing Gong\nwith Teg Prakash\nRA MA Los Angeles\nRA MA TV Live \n  \n 
URL:https://ramayogainstitute.com/event/guru-jagats-birthday-2024/
LOCATION:RA MA Los Angeles\, RA MA New York\, RA MA Mallorca\, Online
CATEGORIES:Courses & Events,In Person,Pay Per View Workshops,RA MA TV Live
ATTACH;FMTTYPE=image/jpeg:https://ramayogainstitute.com/wp-content/uploads/2024/03/Guru_Jagat_Kundalini_Yoga_Header4.jpg
END:VEVENT
BEGIN:VEVENT
DTSTART;TZID=America/Los_Angeles:20240901T070000
DTEND;TZID=America/Los_Angeles:20240901T090000
DTSTAMP:20260423T012145
CREATED:20240824T042305Z
LAST-MODIFIED:20240828T040536Z
UID:1943060-1725174000-1725181200@ramayogainstitute.com
SUMMARY:Magnetizing Mirror Clarity | Magnetizing Mirror Clarity Series
DESCRIPTION:SIGN UP\nTUNE IN\n\nMagnetizing Mirror Clarity Series\n5-Part Series with Harijiwan & Mandev \nMagnetizing Mirror Clarity\nKundalini Yoga\, Meditation & Gong Workshop with Harijiwan & Mandev\nSunday\, September 1\, 2024\n10:00am – 12:00pm Noon EDT\n$75 In Advance\, $80 Day Of\nRA MA New York\nRA MA TV \nJoin Harijiwan & Mandev at RA MA New York to experience a rare and deeply esoteric realm. \nThese five sessions are a specially designed meditative arrangement of energy. Each session will guide you step by step into a new magnetic vibratory reality— culminating with the final workshop on Sunday\, September 1st. \nThis class is part of the following series : \nWednesday\, August 28\, 2024 \n11:00am – 12:30pm EDT\nThe Art of Meditative Self-Hypnosis\nKundalini Yoga & Deep Meditation with Mandev\n$30 or RA MA ClassPass\nRA MA New York\nRA MA TV Live \n7:00pm – 9:00pm EDT\nGuided Self-Trance Journey\nKundalini Yoga\, Meditation & Gong Workshop\nwith Harijiwan & Mandev\n$75 In Advance\, $80 Day Of\nRA MA New York\nRA MA TV \n———————– \nThursday\, August 29\, 2024 \n11:00am – 12:30pm EDT\nSelf-Hypnosis to Create Your Reality\nKundalini Yoga & Deep Meditation with Mandev\nRA MA New York\nRA MA TV Live \n7:00pm – 9:00pm EDT\nMystical Energy Realms\nKundalini Yoga\, Meditation & Gong Workshop\nwith Harijiwan & Mandev\n$75 In Advance\, $80 Day Of\nRA MA New York\nRA MA TV \n———————– \nTBC Full Residency Pass $250\nWorkshops $75 In Advance\, $80 Day Of\nClasses $30 Drop-In or ClassPass \n\n\nHarijiwan has been teaching Kundalini Yoga since 1975. He is the founder of the GRAMMY®-Award-Winning band\, White Sun. With over 44 years of experience in the science of Kundalini Yoga\, Harijiwan incorporates a vast knowledge of various methodologies and training into his practice. Today\, and throughout his years as a teacher and healer\, Harijiwan remains committed to expanding his knowledge and experience to provide his students with the most progressive\, effective\, self-empowering approaches that increase overall joy and wholeness within the context of everyday experiences.
URL:https://ramayogainstitute.com/event/magnetizing-mirror-clarity-series-2024-09-01/
LOCATION:RA MA Intitute New York and online
CATEGORIES:In Person,Pay Per View Workshops
ATTACH;FMTTYPE=image/jpeg:https://ramayogainstitute.com/wp-content/uploads/2024/08/Crystalize_Harijiwan-Mandev-NYC.jpg
END:VEVENT
END:VCALENDAR