BEGIN:VCALENDAR
VERSION:2.0
PRODID:-//RA MA LIFE - ECPv6.15.15//NONSGML v1.0//EN
CALSCALE:GREGORIAN
METHOD:PUBLISH
X-WR-CALNAME:RA MA LIFE
X-ORIGINAL-URL:https://ramayogainstitute.com
X-WR-CALDESC:Events for RA MA LIFE
REFRESH-INTERVAL;VALUE=DURATION:PT1H
X-Robots-Tag:noindex
X-PUBLISHED-TTL:PT1H
BEGIN:VTIMEZONE
TZID:America/Los_Angeles
BEGIN:DAYLIGHT
TZOFFSETFROM:-0800
TZOFFSETTO:-0700
TZNAME:PDT
DTSTART:20230312T100000
END:DAYLIGHT
BEGIN:STANDARD
TZOFFSETFROM:-0700
TZOFFSETTO:-0800
TZNAME:PST
DTSTART:20231105T090000
END:STANDARD
BEGIN:DAYLIGHT
TZOFFSETFROM:-0800
TZOFFSETTO:-0700
TZNAME:PDT
DTSTART:20240310T100000
END:DAYLIGHT
BEGIN:STANDARD
TZOFFSETFROM:-0700
TZOFFSETTO:-0800
TZNAME:PST
DTSTART:20241103T090000
END:STANDARD
BEGIN:DAYLIGHT
TZOFFSETFROM:-0800
TZOFFSETTO:-0700
TZNAME:PDT
DTSTART:20250309T100000
END:DAYLIGHT
BEGIN:STANDARD
TZOFFSETFROM:-0700
TZOFFSETTO:-0800
TZNAME:PST
DTSTART:20251102T090000
END:STANDARD
END:VTIMEZONE
BEGIN:VEVENT
DTSTART;TZID=America/Los_Angeles:20240819T003000
DTEND;TZID=America/Los_Angeles:20240819T173000
DTSTAMP:20260423T030300
CREATED:20240812T031237Z
LAST-MODIFIED:20240812T031411Z
UID:1940774-1724027400-1724088600@ramayogainstitute.com
SUMMARY:Full Moon in Aquarius
DESCRIPTION:SIGN UP\nTUNE IN\nFull Moon in Aquarius\nMonday\, August 19\, 2024\n12:30am-5:30pm PDT\nRA MA Los Angeles | RA MA New York | RA MA Mallorca\nRA MA TV \n4:00am – 6:30am EDT\nFull Moon Special Sadhana\nBahota Karam Prosperity Mantra Recitations\nRA MA New York\nRA MA TV Community Content \n8:00am – 8:30am PDT\nLooking UP: Aquarius Full Moon Astrology\nwith Teg Prakash\nRA MA Los Angeles\nRA MA TV Community Content \n9:00am–10:30am PDT\nFull Moon Long Mul Mantra\nwith Mandev\nRA MA Los Angeles\nRA MA TV Live \n9:30am – 12:00pm PDT\nFull Moon in Aquarius\nKundalini Yoga & Crystal Bowl Healing Sound Bath\nwith Nam Satya & Anna Caldwell\nRA MA Mallorca \n11:00am – 12:30pm PDT\nSovereign: Kundalini Yoga & the Cosmos\nwith Teg Prakash\nRA MA Los Angeles\nRA MA TV Live \n7:00pm – 9:00pm EDT\n4:00pm – 6:00pm PDT\nFull Moon in Aquarius with Siri Rishi\nA kundalini yoga & meditation workshop\nRA MA New York\nRA MA TV Live \n5:00pm – 7:00pm PDT\nKundalini Yoga\, Meditation & Gong Workshop\nwith Harijiwan\nRA MA Los Angeles\nRA MA TV Live \n7:00pm – 8:30pm PDT\nLet Your Cup Overflow\nwith Atma Santokh\nRA MA Los Angeles\nRA MA TV Live
URL:https://ramayogainstitute.com/event/full-moon-in-aquarius/
LOCATION:RA MA Los Angeles\, RA MA New York & Online
CATEGORIES:Courses & Events,In Person,Pay Per View Workshops,RA MA TV Live
ATTACH;FMTTYPE=image/jpeg:https://ramayogainstitute.com/wp-content/uploads/2023/08/FullMoon_Guru_Jagat_Header2.jpg
END:VEVENT
BEGIN:VEVENT
DTSTART;TZID=America/Los_Angeles:20240819T090000
DTEND;TZID=America/Los_Angeles:20240819T113000
DTSTAMP:20260423T030300
CREATED:20240817T070949Z
LAST-MODIFIED:20240817T184115Z
UID:1941525-1724058000-1724067000@ramayogainstitute.com
SUMMARY:Full Moon in Aquarius with Nam Satya & Anna Caldwell
DESCRIPTION:SIGN UP\nTUNE IN\n\n\nMONDAY\, AUGUST 19\, 2024\n18:30 – 21:00 CEST\nIn-person At RA MA Mallorca & Virtually On RA MA TV\n$60 In Advance\, $65 Day of \nUse the energy of the full moon in the post-solstice window to create ease\, peace\, and clarity in your reality. \n⚡ Full Moon Kundalini Yoga\n⚡Healing Sound Bath
URL:https://ramayogainstitute.com/event/full-moon-in-aquarius-with-nam-satya-anna-caldwell/
LOCATION:RA MA Mallorca & Online
CATEGORIES:In Person,Pay Per View Workshops,RA MA TV Live
ATTACH;FMTTYPE=image/jpeg:https://ramayogainstitute.com/wp-content/uploads/2024/06/anna-caldwell-nam-satya_Header.jpg
END:VEVENT
BEGIN:VEVENT
DTSTART;TZID=America/Los_Angeles:20240819T170000
DTEND;TZID=America/Los_Angeles:20240819T190000
DTSTAMP:20260423T030300
CREATED:20240813T075814Z
LAST-MODIFIED:20240817T070821Z
UID:1941022-1724086800-1724094000@ramayogainstitute.com
SUMMARY:Full Moon in Aquarius with Harijiwan | August 2024
DESCRIPTION:SIGN UP\nTUNE IN\nFull Moon in Aquarius with Harijiwan\nPractice on the Full Moon in Aquarius in this Kundalini Yoga\, Meditation\, and Gong workshop with Harijiwan. \nMonday\, August 19\, 2024\n5:00pm-7:00pm PDT\nIn Person at RA MA Los Angeles\nVirtually on RA MA TV\n$60 early bird\, $65 day of \n\nHarijiwan has been teaching Kundalini Yoga since 1975. He is the founder of the GRAMMY®-Award-Winning band\, White Sun. With over 44 years of experience in the science of Kundalini Yoga\, Harijiwan incorporates a vast knowledge of various methodologies and training into his practice. Today\, and throughout his years as a teacher and healer\, Harijiwan remains committed to expanding his knowledge and experience to provide his students with the most progressive\, effective\, self-empowering approaches that increase overall joy and wholeness within the context of everyday experiences.
URL:https://ramayogainstitute.com/event/full-moon-in-aquarius-with-harijiwan-august-2024/
LOCATION:Online
CATEGORIES:In Person,Pay Per View Workshops
ATTACH;FMTTYPE=image/jpeg:https://ramayogainstitute.com/wp-content/uploads/2023/04/Harijiwan-Blue-Gong.jpg
END:VEVENT
BEGIN:VEVENT
DTSTART;TZID=America/Los_Angeles:20240824T150000
DTEND;TZID=America/Los_Angeles:20240824T180000
DTSTAMP:20260423T030300
CREATED:20240817T081637Z
LAST-MODIFIED:20240817T082231Z
UID:1941533-1724511600-1724522400@ramayogainstitute.com
SUMMARY:Adi Shakti Primal Power Mantra Immersion with Pritam Siri
DESCRIPTION:SIGN UP\nTUNE IN\n\n\n\n\n\nAdi Shakti: Primal Power Mantra Immersion\nwith Pritam Siri\nSaturday\, August 24\, 2024\n6:00pm – 9:00pm EDT\n-3 PDT | +6 CEST\nRA MA New York + RA MA TV\n$66 In Advance\, $77 Day of \nAn evening of Kundalini Yoga\, Immersive Mantra Meditation\, Gong Sound Bath\, Refreshments & Community \n\n 
URL:https://ramayogainstitute.com/event/adi-shakti-primal-power-mantra-immersion-with-pritam-siri/
LOCATION:RA MA Intitute New York and online
CATEGORIES:In Person,Pay Per View Workshops
ATTACH;FMTTYPE=image/jpeg:https://ramayogainstitute.com/wp-content/uploads/2024/08/AdiShakti_Pritam_Siri_Header.jpg
END:VEVENT
END:VCALENDAR