BEGIN:VCALENDAR
VERSION:2.0
PRODID:-//RA MA LIFE - ECPv6.15.15//NONSGML v1.0//EN
CALSCALE:GREGORIAN
METHOD:PUBLISH
X-WR-CALNAME:RA MA LIFE
X-ORIGINAL-URL:https://ramayogainstitute.com
X-WR-CALDESC:Events for RA MA LIFE
REFRESH-INTERVAL;VALUE=DURATION:PT1H
X-Robots-Tag:noindex
X-PUBLISHED-TTL:PT1H
BEGIN:VTIMEZONE
TZID:America/Los_Angeles
BEGIN:DAYLIGHT
TZOFFSETFROM:-0800
TZOFFSETTO:-0700
TZNAME:PDT
DTSTART:20230312T100000
END:DAYLIGHT
BEGIN:STANDARD
TZOFFSETFROM:-0700
TZOFFSETTO:-0800
TZNAME:PST
DTSTART:20231105T090000
END:STANDARD
BEGIN:DAYLIGHT
TZOFFSETFROM:-0800
TZOFFSETTO:-0700
TZNAME:PDT
DTSTART:20240310T100000
END:DAYLIGHT
BEGIN:STANDARD
TZOFFSETFROM:-0700
TZOFFSETTO:-0800
TZNAME:PST
DTSTART:20241103T090000
END:STANDARD
BEGIN:DAYLIGHT
TZOFFSETFROM:-0800
TZOFFSETTO:-0700
TZNAME:PDT
DTSTART:20250309T100000
END:DAYLIGHT
BEGIN:STANDARD
TZOFFSETFROM:-0700
TZOFFSETTO:-0800
TZNAME:PST
DTSTART:20251102T090000
END:STANDARD
END:VTIMEZONE
BEGIN:VEVENT
DTSTART;TZID=America/Los_Angeles:20240727T100000
DTEND;TZID=America/Los_Angeles:20240727T150000
DTSTAMP:20260423T062909
CREATED:20240717T031508Z
LAST-MODIFIED:20240717T031508Z
UID:1934964-1722074400-1722092400@ramayogainstitute.com
SUMMARY:B R E A T H E with Pritam Siri
DESCRIPTION:SIGN UP\nTUNE IN\n\n\n\n\n\nB R E A T H E with Pritam Siri\nA Kundalini Yoga Breathwork Immersion\nSaturday\, July 27\, 2024\n1:00pm – 6:00pm EDT\nRA MA New York | Virtually on RA MA TV\n$155 before July 24  | $222 after July 24 \nLearn the tools to change your energetic signature\, release old blocks and experience a high-frequency quality of life. \nBreaths patterns and depth are directly connected to emotions and thoughts. \nCommanding your own breath and sound is to command your life’s potential. \nMastery of your own breath is a foundational tool for: \n– Promoting overall energy and vitality\n– Experiencing emotional range and creative capacity\n– Controlling moods\n– Inreasing focus and concentration\n– Expanding feelings of connection and oneness \nThe breath practices of kundalini yoga come from a 3\,000 year old proven path. Unedited\, absolutely transformational tools to unlock your extraordinary capacities and natural gifts.
URL:https://ramayogainstitute.com/event/b-r-e-a-t-h-e-with-pritam-siri/
LOCATION:RA MA Intitute New York and online
CATEGORIES:In Person,Pay Per View Workshops
ATTACH;FMTTYPE=image/jpeg:https://ramayogainstitute.com/wp-content/uploads/2024/07/RAMA_Breathe_Header.jpg
END:VEVENT
END:VCALENDAR