BEGIN:VCALENDAR
VERSION:2.0
PRODID:-//RA MA LIFE - ECPv6.15.15//NONSGML v1.0//EN
CALSCALE:GREGORIAN
METHOD:PUBLISH
X-WR-CALNAME:RA MA LIFE
X-ORIGINAL-URL:https://ramayogainstitute.com
X-WR-CALDESC:Events for RA MA LIFE
REFRESH-INTERVAL;VALUE=DURATION:PT1H
X-Robots-Tag:noindex
X-PUBLISHED-TTL:PT1H
BEGIN:VTIMEZONE
TZID:America/Los_Angeles
BEGIN:DAYLIGHT
TZOFFSETFROM:-0800
TZOFFSETTO:-0700
TZNAME:PDT
DTSTART:20230312T100000
END:DAYLIGHT
BEGIN:STANDARD
TZOFFSETFROM:-0700
TZOFFSETTO:-0800
TZNAME:PST
DTSTART:20231105T090000
END:STANDARD
BEGIN:DAYLIGHT
TZOFFSETFROM:-0800
TZOFFSETTO:-0700
TZNAME:PDT
DTSTART:20240310T100000
END:DAYLIGHT
BEGIN:STANDARD
TZOFFSETFROM:-0700
TZOFFSETTO:-0800
TZNAME:PST
DTSTART:20241103T090000
END:STANDARD
BEGIN:DAYLIGHT
TZOFFSETFROM:-0800
TZOFFSETTO:-0700
TZNAME:PDT
DTSTART:20250309T100000
END:DAYLIGHT
BEGIN:STANDARD
TZOFFSETFROM:-0700
TZOFFSETTO:-0800
TZNAME:PST
DTSTART:20251102T090000
END:STANDARD
END:VTIMEZONE
BEGIN:VEVENT
DTSTART;TZID=America/Los_Angeles:20240606T070000
DTEND;TZID=America/Los_Angeles:20240606T203000
DTSTAMP:20260423T114606
CREATED:20240531T001939Z
LAST-MODIFIED:20240531T195746Z
UID:1924895-1717657200-1717705800@ramayogainstitute.com
SUMMARY:666 New Moon in Gemini
DESCRIPTION:SIGN UP\nTUNE IN\n6/6 New Moon in Gemini\nThursday\, June 6\, 2024\n4:00am-8:30pm\nRA MA Los Angeles | RA MA New York | RA MA Mallorca\nVirtually on RA MA TV \n\nGLOBAL \n2.5 Hours Long Ek Ong Kar\nGlobal Sadhana\n4:00am EDT/PDT\nIn Person at RA MA Los Angeles & RA MA New York\nVirtually on RA MA TV Community Content Channel \nLOS ANGELES \nAWAKEN | Kundalini Power Hour\nwith Teg Prakash\n7:00am – 8:00am PDT\nIn-Person at RA MA Los Angeles\nVirtually on RA MA TV Live \nNew Moon in Gemini Projection Power: New Moon Kundalini Yoga & Meditation\nwith Shabadpreet\n9:00am – 10:30am PDT\nIn-Person at RA MA Los Angeles\nVirtually on RA MA TV Live \nPROSPERITY | The Law of Love\nwith Jot Gianpreet\n11:00am – 12:30pm PDT\nIn-Person at RA MA Los Angeles\nVirtually on RA MA TV Live \nLooking Up: New Moon in Gemini Astrology \nwith Teg Prakash\n12:15-12:45pm PDT\nIn-Person at RA MA Los Angeles\nVirtually on RA MA TV Live + RA MA TV Community Content\nComplimentary* \n666 New Moon in Gemini \nwith Harijiwan\n5:00pm – 7:00pm PDT\nIn-Person at RA MA Los Angeles\nVirtually on RA MA TV\n$60 in advance\, $65 day of \nArcline Amplifying: Deep Meditation\nwith Mandev & Harijiwan\n7:00pm – 8:30pm PDT\nIn-Person at RA MA Los Angeles\nVirtually on RA MA TV Live \nNEW YORK \nNew Moon Self-mastery\nwith Sher Kirtan\n5:45pm – 6:45pm EDT\n2:45pm-3:45pm PDT\nRA MA New York\nVirtually on RA MA TV Live \nNew Moon 3X Radiance: Harmony\, Altitude & Grace\nA Workshop With Pritam Siri\n7:00pm-9:00pm EDT\n4:00pm-6:00pm PDT\nRA MA New York\nRA MA TV\n$50 in advance/ $55 day of \nMALLORCA \nNew Moon in Gemini \nKundalini Yoga & Meditation with Nam Satya\n9:30am-11:00am CEST\n12:30am-2:00pm PDT\nRA MA Mallorca\nRA MA TV Live
URL:https://ramayogainstitute.com/event/666-new-moon-in-gemini/
LOCATION:RA MA Los Angeles\, RA MA New York\, RA MA Mallorca\, Online
CATEGORIES:Courses & Events,In Person,Pay Per View Workshops,RA MA TV Live
ATTACH;FMTTYPE=image/jpeg:https://ramayogainstitute.com/wp-content/uploads/2023/03/666NewMoon_Header.jpg
END:VEVENT
BEGIN:VEVENT
DTSTART;TZID=America/Los_Angeles:20240606T160000
DTEND;TZID=America/Los_Angeles:20240606T180000
DTSTAMP:20260423T114606
CREATED:20240531T000926Z
LAST-MODIFIED:20240605T114419Z
UID:1924890-1717689600-1717696800@ramayogainstitute.com
SUMMARY:New Moon 3X Radiance with Pritam Siri
DESCRIPTION:SIGN UP\nTUNE IN\n\nNew Moon 3X Radiance: Harmony\, Altitude & Grace\nA Workshop with Pritam Siri\nThursday\, June 6\, 2024 \n7:00pm-9:00pm EDT\nIn-Person and Virtual Pay Per View on RA MA TV\n$50 in advance | $55 day of \nThe numerology of this new moon opens a field of possibility to strengthen your radiant projective power. \nJoin a workshop of kundalini kriyas and meditations to brighten your energy and capacity for reverence\, joy\, and luminosity.
URL:https://ramayogainstitute.com/event/new-moon-3x-radiance-with-pritam-siri/
LOCATION:RA MA Intitute New York and online
CATEGORIES:In Person,Pay Per View Workshops
ATTACH;FMTTYPE=image/jpeg:https://ramayogainstitute.com/wp-content/uploads/2024/06/666_NewMoon_Shabadpreet_pritamSiri_Header.jpg
END:VEVENT
BEGIN:VEVENT
DTSTART;TZID=America/Los_Angeles:20240606T170000
DTEND;TZID=America/Los_Angeles:20240606T190000
DTSTAMP:20260423T114606
CREATED:20240531T000812Z
LAST-MODIFIED:20240603T033712Z
UID:1924887-1717693200-1717700400@ramayogainstitute.com
SUMMARY:666 Kundalini Yoga\, Meditation & Gong Workshop with Harijiwan
DESCRIPTION:SIGN UP\nTUNE IN\n666 New Moon in Gemini with Harijiwan\nOn Thursday 6/6/24\, the numbers and the six planets: Jupiter\, Saturn\, Uranus\,\nNeptune\, Mars &amp; Mercury align— creating a 666 numerological portal.\nThe sixth body is the arcline— 666 is a triple arcline. A triple arcline is a very rare\nhuman attainment.\nThe numerology of this day is amplifying the arcline energy— creating a powerful\nenergetic opportunity for YOU to increase the wattage and frequency of your\narcline.\n6 + 6 + 6 = 18\nOne is the soul. The eighth body is the pranic body\, your breath of life. Your\nprosperity\, wealth and vitality are based on your prana.\n1 + 8 = 9 — nine is the subtle body and it is the number of completion.\nHarness the esoteric 666 energy— there is an immense power available to you\non this day. \nThursday\, June 6\, 2024\n5:00pm – 7:00pm PDT\n+3 EDT | +9 CEST\nIn-Person at RA MA Los Angeles\nVirtually on RA MA TV\n$60 in advance\, $65 day of \nHarijiwan has been teaching Kundalini Yoga since 1975. He is the founder of the GRAMMY®-Award-Winning band\, White Sun. With over 44 years of experience in the science of Kundalini Yoga\, Harijiwan incorporates a vast knowledge of various methodologies and training into his practice. Today\, and throughout his years as a teacher and healer\, Harijiwan remains committed to expanding his knowledge and experience to provide his students with the most progressive\, effective\, self-empowering approaches that increase overall joy and wholeness within the context of everyday experiences.
URL:https://ramayogainstitute.com/event/666-new-moon-in-gemini-with-harijiwan/
LOCATION:Online
CATEGORIES:In Person,Pay Per View Workshops
ATTACH;FMTTYPE=image/jpeg:https://ramayogainstitute.com/wp-content/uploads/2022/07/Harijiwan-website-banner-1-e1717030585192.jpg
END:VEVENT
END:VCALENDAR