BEGIN:VCALENDAR
VERSION:2.0
PRODID:-//RA MA LIFE - ECPv6.15.15//NONSGML v1.0//EN
CALSCALE:GREGORIAN
METHOD:PUBLISH
X-WR-CALNAME:RA MA LIFE
X-ORIGINAL-URL:https://ramayogainstitute.com
X-WR-CALDESC:Events for RA MA LIFE
REFRESH-INTERVAL;VALUE=DURATION:PT1H
X-Robots-Tag:noindex
X-PUBLISHED-TTL:PT1H
BEGIN:VTIMEZONE
TZID:America/Los_Angeles
BEGIN:DAYLIGHT
TZOFFSETFROM:-0800
TZOFFSETTO:-0700
TZNAME:PDT
DTSTART:20230312T100000
END:DAYLIGHT
BEGIN:STANDARD
TZOFFSETFROM:-0700
TZOFFSETTO:-0800
TZNAME:PST
DTSTART:20231105T090000
END:STANDARD
BEGIN:DAYLIGHT
TZOFFSETFROM:-0800
TZOFFSETTO:-0700
TZNAME:PDT
DTSTART:20240310T100000
END:DAYLIGHT
BEGIN:STANDARD
TZOFFSETFROM:-0700
TZOFFSETTO:-0800
TZNAME:PST
DTSTART:20241103T090000
END:STANDARD
BEGIN:DAYLIGHT
TZOFFSETFROM:-0800
TZOFFSETTO:-0700
TZNAME:PDT
DTSTART:20250309T100000
END:DAYLIGHT
BEGIN:STANDARD
TZOFFSETFROM:-0700
TZOFFSETTO:-0800
TZNAME:PST
DTSTART:20251102T090000
END:STANDARD
BEGIN:DAYLIGHT
TZOFFSETFROM:-0800
TZOFFSETTO:-0700
TZNAME:PDT
DTSTART:20260308T100000
END:DAYLIGHT
BEGIN:STANDARD
TZOFFSETFROM:-0700
TZOFFSETTO:-0800
TZNAME:PST
DTSTART:20261101T090000
END:STANDARD
END:VTIMEZONE
BEGIN:VEVENT
DTSTART;TZID=America/Los_Angeles:20241231T170000
DTEND;TZID=America/Los_Angeles:20250101T050000
DTSTAMP:20260422T163251
CREATED:20241229T221928Z
LAST-MODIFIED:20241231T075400Z
UID:1966920-1735664400-1735707600@ramayogainstitute.com
SUMMARY:New Year’s Eve 2025 Overnight Puja
DESCRIPTION:SIGN UP\nTUNE IN\n\nNew Years Eve 2025 | Overnight Puja\nKundalini Yoga\, Meditation\, Gong\, & Ceremony with Siri Rishi & Friends\nTuesday\, December 31\, 2024 to Wednesday\, January 1\, 2025\n8:00pm-8:00am EST\nIn Person at RA MA New York\nVirtual on RA MA TV \nJoin Siri Rishi & Friends for an all night New Years experience at RA MA NYC. \nDRESS CODE | Your Best Venusian Attire\nWHAT TO BRING | Your Sleeping Accoutrements + Flowers & Personal Items for our Group Altar \n8:00pm Doors Open\n8:30pm-10:30pm Workshop\n10:30pm-12:00am Gong Attunement\n12:00am-1:00am Intentional Blue Lotus Tea Ceremony\n1:00am-4:00am Lucid Dreaming & Sound Healing\n4:30am-7:00am New Years Day Sadhana\n7:00am-8:00am Cacao Ceremony & Breakfast \nFULL TICKET\nAll Programming\nBlue Lotus & Cacao Ceremonies\nNew Years Even Snacks\nNew Years Day Breakfast\nNew Years Eve Workshop Drop In Only \nIn Person\n$175 Pre Registration Through Midnight Monday December 23\n$249 After \nVirtual on RA MA TV\n$99 Virtual
URL:https://ramayogainstitute.com/event/new-years-eve-2025-overnight-puja/
LOCATION:RA MA Intitute New York and online
CATEGORIES:In Person,Pay Per View Workshops
ATTACH;FMTTYPE=image/jpeg:https://ramayogainstitute.com/wp-content/uploads/2024/12/OvernightPuja_Header.jpg
END:VEVENT
END:VCALENDAR