BEGIN:VCALENDAR
VERSION:2.0
PRODID:-//RA MA LIFE - ECPv6.15.15//NONSGML v1.0//EN
CALSCALE:GREGORIAN
METHOD:PUBLISH
X-ORIGINAL-URL:https://ramayogainstitute.com
X-WR-CALDESC:Events for RA MA LIFE
REFRESH-INTERVAL;VALUE=DURATION:PT1H
X-Robots-Tag:noindex
X-PUBLISHED-TTL:PT1H
BEGIN:VTIMEZONE
TZID:America/Los_Angeles
BEGIN:DAYLIGHT
TZOFFSETFROM:-0800
TZOFFSETTO:-0700
TZNAME:PDT
DTSTART:20230312T100000
END:DAYLIGHT
BEGIN:STANDARD
TZOFFSETFROM:-0700
TZOFFSETTO:-0800
TZNAME:PST
DTSTART:20231105T090000
END:STANDARD
BEGIN:DAYLIGHT
TZOFFSETFROM:-0800
TZOFFSETTO:-0700
TZNAME:PDT
DTSTART:20240310T100000
END:DAYLIGHT
BEGIN:STANDARD
TZOFFSETFROM:-0700
TZOFFSETTO:-0800
TZNAME:PST
DTSTART:20241103T090000
END:STANDARD
BEGIN:DAYLIGHT
TZOFFSETFROM:-0800
TZOFFSETTO:-0700
TZNAME:PDT
DTSTART:20250309T100000
END:DAYLIGHT
BEGIN:STANDARD
TZOFFSETFROM:-0700
TZOFFSETTO:-0800
TZNAME:PST
DTSTART:20251102T090000
END:STANDARD
END:VTIMEZONE
BEGIN:VEVENT
DTSTART;TZID=America/Los_Angeles:20240507T040000
DTEND;TZID=America/Los_Angeles:20240507T203000
DTSTAMP:20260423T103157
CREATED:20240504T011855Z
LAST-MODIFIED:20240504T011855Z
UID:1917883-1715054400-1715113800@ramayogainstitute.com
SUMMARY:New Moon in Taurus | May 2024
DESCRIPTION:SIGN UP\nTUNE IN\nNew Moon in Taurus\nTuesday\, May 7\, 2024\n4:00am-8:30pm PDT \n4:00am-6:30am PDT + EDT\n2.5 Hours of Long Ek Ong Kar\nGlobal Sadhana\nIn Person at RA MA Los Angeles PDT\nIn Person at RA MA New York EDT\nVirtually on RA MA TV Community Content Channel PDT / EDT \n6:00am – 7:30am PDT\n9:00am – 10:30am EDT\nThe Law of Attraction: New Moon Magnetism Class with Pritam Siri\nIn Person at RA MA New York\nVirtually on RA MA TV Live \n7:00am-8:00am PDT\nAWAKEN: Self-Authority\nNew Moon in Taurus\nwith Teg Prakash\nIn Person at RA MA Los Angeles\nVirtually on RA MA TV Live \n8:00am – 9:30am PDT\n11:00am – 12:30pm EDT\nNew Moon Intuition with Melissa Wu\nIn Person at RA MA New York\nVirtually on RA MA TV Live \n9:00am-10:30am PDT\nNew Moon in Taurus\nKundalini Yoga & Deep Meditation\nwith Mandev\nIn Person at RA MA Los Angeles\nVirtually on RA MA TV Live \n11:00am-12:15pm PDT\nMaterialize Your Manifestation with Malyvahn\nIn Person at RA MA Los Angeles\nVirtually on RA MA TV Live \n12:15pm-12:45pm PDT\nLooking up: New Moon Astrology\nwith Teg Prakash\ncomplimentary\nIn Person at RA MA Los Angeles\nVirtually on RA MA TV Community Content Channel\n+ RA MA TV Live \n2:45pm – 3:45pm PDT \n5:45pm – 6:45pm EDT\nVitality & Prosperity Workout with Seva Jagat\nIn Person at RA MA New York\nVirtually on RA MA TV Live \n4:00pm-7:00pm PDT \n7:00pm – 9:00pm EDT\nNEW MOON NOURISHMENT\nwith Pritam Siri\nRelax & recalibrate yourself on the New Moon in Taurus with Pritam Siri\nExperience the meditative movement called Celestial Communication\, Kundalini Breathwork & Gong sound relaxation.\nPractice in community and enjoy refreshments on the RA MA Zen Patio.\n$50 In Advance\, $55 Day Of\nRA MA New York\nRA MA TV \n5:00pm-7:00pm PDT\nNew Moon in Taurus\nKundalini Yoga\, Meditation\, & Gong Workshop\nwith Harijiwan\nIn Person at RA MA Los Angeles\nVirtually on RA MA TV\n$50 in advance /$55 Day of \n7:00pm-8:30pm PDT\nNew Moon in Taurus: Sensory Meditations\nwith Shabadpreet\nIn Person at RA MA Los Angeles\nVirtually on RA MA TV Live \n 
URL:https://ramayogainstitute.com/event/new-moon-in-taurus-may-2024/
LOCATION:RA MA Los Angeles\, RA MA New York & Online
CATEGORIES:Courses & Events,In Person,Pay Per View Workshops,RA MA TV Live
ATTACH;FMTTYPE=image/jpeg:https://ramayogainstitute.com/wp-content/uploads/2023/05/NewMoon_Taurus_Kundalini_Header.jpg
END:VEVENT
BEGIN:VEVENT
DTSTART;TZID=America/Los_Angeles:20240507T160000
DTEND;TZID=America/Los_Angeles:20240507T180000
DTSTAMP:20260423T103157
CREATED:20240504T010912Z
LAST-MODIFIED:20240506T212230Z
UID:1917878-1715097600-1715104800@ramayogainstitute.com
SUMMARY:New Moon Nourishment with Pritam Siri
DESCRIPTION:SIGN UP\nTUNE IN\nNew Moon Nourishment with Pritam Siri\nTuesday\, May 7\, 2024\n7:00pm-9:00pm EDT\nRA MA New York | RA MA TV\n$50 In Advance\, $55 Day Of \nRelax & recalibrate yourself on the New Moon in Taurus with Pritam Siri \nExperience the meditative movement called Celestial Communication\, Kundalini Breathwork & Gong sound relaxation.
URL:https://ramayogainstitute.com/event/new-moon-nourishment/
LOCATION:RA MA Intitute New York and online
CATEGORIES:In Person,Pay Per View Workshops
ATTACH;FMTTYPE=image/jpeg:https://ramayogainstitute.com/wp-content/uploads/2024/05/New_Moon_Nourishment_PritamSiri_Header.jpg
END:VEVENT
BEGIN:VEVENT
DTSTART;TZID=America/Los_Angeles:20240507T170000
DTEND;TZID=America/Los_Angeles:20240507T190000
DTSTAMP:20260423T103157
CREATED:20240504T013117Z
LAST-MODIFIED:20240506T212204Z
UID:1917879-1715101200-1715108400@ramayogainstitute.com
SUMMARY:New Moon in Taurus with Harijiwan
DESCRIPTION:SIGN UP\nTUNE IN\nNew Moon in Taurus with Harijiwan\nKundalini Yoga\, Meditation & Gong Workshop\nTuesday\, May 7\, 2024\n5:00pm-7:00pm PDT\n+3 EDT +9 CEST\nRA MA Los Angeles\nRA MA TV with infinite replay\n$50 before\, $55 day-of \n\nHarijiwan has been teaching Kundalini Yoga since 1975. He is the founder of the GRAMMY®-Award-Winning band\, White Sun. With over 44 years of experience in the science of Kundalini Yoga\, Harijiwan incorporates a vast knowledge of various methodologies and training into his practice. Today\, and throughout his years as a teacher and healer\, Harijiwan remains committed to expanding his knowledge and experience to provide his students with the most progressive\, effective\, self-empowering approaches that increase overall joy and wholeness within the context of everyday experiences.
URL:https://ramayogainstitute.com/event/new-moon-in-taurus-with-harijiwan-2/
LOCATION:Online
CATEGORIES:In Person,Pay Per View Workshops
ATTACH;FMTTYPE=image/jpeg:https://ramayogainstitute.com/wp-content/uploads/2024/05/NewMoon_Harijiwan_Header2.jpg
END:VEVENT
BEGIN:VEVENT
DTSTART;TZID=America/Los_Angeles:20240516T170000
DTEND;TZID=America/Los_Angeles:20240516T190000
DTSTAMP:20260423T103157
CREATED:20240504T024327Z
LAST-MODIFIED:20240507T153633Z
UID:1917919-1715878800-1715886000@ramayogainstitute.com
SUMMARY:10th Day of the Moon with Harijiwan
DESCRIPTION:SIGN UP\nTUNE IN\n10th Day of the Moon with Harijiwan\nKundalini Yoga & Meditation Workshop\n\nThursday\, May 16\, 2024\n5:00pm-7:00pm PDT\nRA MA Los Angeles\nRA MA TV\n$50 before\, $55 day-of \n\n\nHarijiwan has been teaching Kundalini Yoga since 1975. He is the founder of the GRAMMY®-Award-Winning band\, White Sun. With over 44 years of experience in the science of Kundalini Yoga\, Harijiwan incorporates a vast knowledge of various methodologies and training into his practice. Today\, and throughout his years as a teacher and healer\, Harijiwan remains committed to expanding his knowledge and experience to provide his students with the most progressive\, effective\, self-empowering approaches that increase overall joy and wholeness within the context of everyday experiences.
URL:https://ramayogainstitute.com/event/10th-day-of-the-moon-with-harijiwan-3/
LOCATION:Online
CATEGORIES:In Person,Pay Per View Workshops
ATTACH;FMTTYPE=image/jpeg:https://ramayogainstitute.com/wp-content/uploads/2024/05/10thDayMoon_Harijiwan_Header.jpg
END:VEVENT
BEGIN:VEVENT
DTSTART;TZID=America/Los_Angeles:20240517T170000
DTEND;TZID=America/Los_Angeles:20240517T190000
DTSTAMP:20260423T103157
CREATED:20240504T033344Z
LAST-MODIFIED:20240507T153630Z
UID:1917931-1715965200-1715972400@ramayogainstitute.com
SUMMARY:11th Day of the Moon with Harijiwan
DESCRIPTION:SIGN UP\nTUNE IN\n11th Day of the Moon with Harijiwan\nKundalini Yoga & Meditation Workshop\n\nFriday\, May 17\, 2024\n5:00pm-7:00pm PDT\nRA MA Los Angeles\nRA MA TV\n$50 before\, $55 day-of \n\nHarijiwan has been teaching Kundalini Yoga since 1975. He is the founder of the GRAMMY®-Award-Winning band\, White Sun. With over 44 years of experience in the science of Kundalini Yoga\, Harijiwan incorporates a vast knowledge of various methodologies and training into his practice. Today\, and throughout his years as a teacher and healer\, Harijiwan remains committed to expanding his knowledge and experience to provide his students with the most progressive\, effective\, self-empowering approaches that increase overall joy and wholeness within the context of everyday experiences.
URL:https://ramayogainstitute.com/event/11th-day-of-the-moon-with-harijiwan-3/
LOCATION:Online
CATEGORIES:In Person,Pay Per View Workshops
ATTACH;FMTTYPE=image/jpeg:https://ramayogainstitute.com/wp-content/uploads/2022/02/Harijiwan-Los-Angeles-e1658611328102.jpg
END:VEVENT
BEGIN:VEVENT
DTSTART;TZID=America/Los_Angeles:20240517T193000
DTEND;TZID=America/Los_Angeles:20240517T210000
DTSTAMP:20260423T103157
CREATED:20240514T025853Z
LAST-MODIFIED:20240514T033342Z
UID:1920578-1715974200-1715979600@ramayogainstitute.com
SUMMARY:Past Life Regression Meditation with Shaman Durek
DESCRIPTION:SIGN UP\nTUNE IN\nPast Life Regression Meditation with Shaman Durek\n\nFriday\, May 17\, 2024\n7:30pm-9:00pm PDT\nIn Person at RA MA Los Angeles\nVirtually on RA MA TV \nAre you ready to explore the mysteries of your past lives? Join Shaman Durek and Lit Vibe for an extraordinary experience— the Past Life Regression Meditation. This immersive event combines shamanic wisdom with ethereal live-music soundscapes by Natalia Alava\, creating a gateway to lead you into different times\, places\, and dimensions. \nDuring this guided meditation\, Shaman Durek will lead you through a transformative journey where you’ll train your mind to travel through time and unlock memories from your previous lifetimes. As you venture through this landscape\, you’ll open doorways that will take you into deeper insights\, greater empathy\, and a heightened sense of connection with the Universe. \nThis meditation will be held in person at RAMA Los Angeles. However\, if you can’t join us physically\, don’t worry—you can still be part of this powerful experience from anywhere in the world through our online LIVE streaming option or infinite recoroded replay. \nWhether you’re a seasoned meditator or new to shamanic practices\, this event will offer you a unique opportunity to explore the unseen and gain a deeper understanding of your soul’s journey. Be prepared to feel\, see\, and experience the lives you’ve lived\, and perhaps discover new insights into your current life’s purpose. \n\n@shamandurek
URL:https://ramayogainstitute.com/event/past-life-regression-meditation-with-shaman-durek/
LOCATION:Online
CATEGORIES:In Person,Pay Per View Workshops
ATTACH;FMTTYPE=image/jpeg:https://ramayogainstitute.com/wp-content/uploads/2024/05/PastLifeRegression_Shaman-Durek_Header.jpg
END:VEVENT
BEGIN:VEVENT
DTSTART;TZID=America/Los_Angeles:20240518T090000
DTEND;TZID=America/Los_Angeles:20240518T180000
DTSTAMP:20260423T103157
CREATED:20240506T213153Z
LAST-MODIFIED:20240511T123415Z
UID:1918402-1716022800-1716055200@ramayogainstitute.com
SUMMARY:The Power of Your Presence
DESCRIPTION:SIGN UP\nTUNE IN\nThe Power of Your Presence: Understanding Your Aura & Electromagnetic Field\nA Health\, Wealth\, & Happiness Full-Day Immersion with Harijiwan\, Mandev\, & Shabadpreet\n\n\n\n\n\nShift the energy of an entire room.\nManeuver your world with confidence\, courage\, & grace.\nMake IMPACT in everything you do.\nExperience the power of your presence. \nSaturday\, May 18\, 2024\n9:00am-6:00pm PDT\n+3 EDT | +9 CEST | +17 AEST\nIn Person at RA MA Los Angeles\nVirtually on RA MA TV
URL:https://ramayogainstitute.com/event/the-power-of-your-presence/
LOCATION:Online
CATEGORIES:Courses & Events,In Person,Pay Per View Workshops
ATTACH;FMTTYPE=image/jpeg:https://ramayogainstitute.com/wp-content/uploads/2024/05/PowerofPresence_Harijiwan-Mandev-Shabadpreet_Header.jpg
END:VEVENT
BEGIN:VEVENT
DTSTART;TZID=America/Los_Angeles:20240518T140000
DTEND;TZID=America/Los_Angeles:20240518T160000
DTSTAMP:20260423T103157
CREATED:20240509T170320Z
LAST-MODIFIED:20240509T170320Z
UID:1919580-1716040800-1716048000@ramayogainstitute.com
SUMMARY:Jupiter's Wisdom with Joanna Pitt
DESCRIPTION:SIGN UP\nTUNE IN\nJupiter’s Wisdom\nAstrology\, Kundalini Yoga & Meditation with Joanna Pitt \nSaturday\, May 18\, 2024\n5:00pm – 7:00pm EDT\nIn Person at RA MA New York\nVirtual on RA MA TV with Infinite Replay\n$50 In Advance\, $55 Day Of \nJupiter\, the largest planet in our solar system\, is making its annual move into a new zodiac sign. May 25\, 2024 finds Jupiter leaving earthbound Taurus for the airy realms of Gemini. In this workshop\, tune in your wisdom body and learn the significance of Jupiter in Gemini. Practice Kundalini yoga and meditation to amplify your innate wisdom. Review the placement of Gemini in your personal chart and it’s themes to be expressed in the next year ahead. Communicate from the depth of your experience and the depth of your knowing. \nABOUT JOANNA\nJoanna Pitt is a writer\, evolutionary astrologer\, yoga and meditation teacher\, and producer of wellness events and media. She is deeply inquisitive and passionate in using and teaching the language of the cosmos to understand how energy moves within us and reframe our experiences as divine gifts. Joanna spends her time giving private astrology consultations\, teaching to the global women’s community\, Aquarian Women’s Leadership Society\, singing\, and conversing about the spiritual mysteries of the natural world on her podcast\, This Aquarian Life. Learn more about Joanna’s astrology offerings at twinfawnsastrology.com \n 
URL:https://ramayogainstitute.com/event/jupiters-wisdom-with-joanna-pitt/
LOCATION:RA MA Intitute New York and online
CATEGORIES:In Person,Pay Per View Workshops
ATTACH;FMTTYPE=image/jpeg:https://ramayogainstitute.com/wp-content/uploads/2024/05/JupiterWisdom_Joanna_Header.jpg
END:VEVENT
BEGIN:VEVENT
DTSTART;TZID=America/Los_Angeles:20240519T180000
DTEND;TZID=America/Los_Angeles:20240519T193000
DTSTAMP:20260423T103157
CREATED:20240514T034922Z
LAST-MODIFIED:20240514T044645Z
UID:1920588-1716141600-1716147000@ramayogainstitute.com
SUMMARY:The Art of Movement Meditation with Aylin Pashaian
DESCRIPTION:SIGN UP\nTUNE IN\nThe Art of Movement Meditation with Aylin Pashaian\nSunday\, May 19\, 2024\n6:00pm7:30pm\nRA MA Los Angeles\nRA MA TV \nMovement is medicine\, it’s healing\, it’s transformational. When we move our bodies\, the energy starts flowing\, our soul slowly feels free. We have to let go\, so we can really tap into that feeling of being in body.\nI’m inviting you to participate in this community workshop\, that’ll teach you tools and methods that’ll help you unstuck any stuck energy in your body and connect to your body and soul through your own breath\, guided movements and curated music\, so you’ll become your own healer.\nThis space will be a safe space to connect\, create\, let go\, feel a sense of belonging\, learn and experience transformation and change.\nYour facilitator Aylin\, creator of Westside Yogis is a trained choreographer and dancer with years of experience\, who became a yoga and meditation teacher 6 years ago.\nShe has been on a healing journey herself. Through her journey of becoming who she is today\, she has learned many tools such as somatic psychology\, a variety of forms of movement\, meditation and breathwork that has helped her to find the light in the darkest nights of the soul & find her flow in life.\nCome as you are and get ready to leave with a handful of connections. Come solo or with a friend/partner. Appropriate for beautiful humans of all genders and backgrounds. Wear comfortable clothing and bring a water bottle.
URL:https://ramayogainstitute.com/event/the-art-of-movement-meditation-with-aylin-pashaian/
LOCATION:Online
CATEGORIES:In Person,Pay Per View Workshops
ATTACH;FMTTYPE=image/jpeg:https://ramayogainstitute.com/wp-content/uploads/2024/05/ArtofMovement_AylinPashaian_Header.jpg
END:VEVENT
BEGIN:VEVENT
DTSTART;TZID=America/Los_Angeles:20240523T070000
DTEND;TZID=America/Los_Angeles:20240523T203000
DTSTAMP:20260423T103157
CREATED:20240517T092541Z
LAST-MODIFIED:20240517T092541Z
UID:1920145-1716447600-1716496200@ramayogainstitute.com
SUMMARY:Full Moon in Sagittarius | May 2024
DESCRIPTION:SIGN UP\nTUNE IN\n\nFull Moon in Sagittarius\nThursday\, May 23\, 2024\n7:00am-8:30pm \nLOS ANGELES \nAWAKEN | Kundalini Power Hour with Teg Prakash\n7:00am – 8:00am PDT\nIn Person & Virtually on RA MA TV \nKundalini Yoga & Meditation with Shabadpreet\n9:00am – 10:30am PDT\nIn Person & Virtually on RA MA TV \nPROSPERITY | Kundalini Yoga & Meditation with Jot Gianpreet\n11:00am – 12:30pm PDT\nIn Person & Virtually on RA MA TV \nLooking Up: Full Moon in Sagittarius Astrology \nwith Teg Prakash\n12:15-12:45pm PDT\nIn-Person at RA MA Los Angeles\nVirtually on RA MA TV Live + RA MA TV Community Content\nComplimentary* \nKundalini Yoga\, Meditation\, & Gong with Harijiwan\n5:00pm – 7:00pm PDT\nIn Person & Virtually on RA MA TV\n$60 in advance\, $65 day of \nDeep Meditation with Mandev & Harijiwan\n7:00pm – 8:30pm PDT\nIn Person & Virtually on RA MA TV \nNEW YORK \nA Cosmic Adventure: Full Moon Deep Meditation with Pritam Siri\n5:45pm – 6:45pm EDT\nIn Person & Virtually on RA MA TV \nMALLORCA \nCelestial Harmony | Kundalini Yoga & Sound Bath\nwith Nam Satya & Anna Caldwell\n18:00 – 20:30 CEST\n$30\nIn Person & Virtually on RA MA TV \n 
URL:https://ramayogainstitute.com/event/full-moon-in-sagittarius-may-2024/
LOCATION:RA MA Los Angeles\, RA MA New York\, RA MA Mallorca\, Online
CATEGORIES:Courses & Events,In Person,Pay Per View Workshops,RA MA TV Live
ATTACH;FMTTYPE=image/jpeg:https://ramayogainstitute.com/wp-content/uploads/2024/04/FullMoonScorpio_Header.jpg
END:VEVENT
BEGIN:VEVENT
DTSTART;TZID=America/Los_Angeles:20240523T090000
DTEND;TZID=America/Los_Angeles:20240523T113000
DTSTAMP:20260423T103157
CREATED:20240517T092043Z
LAST-MODIFIED:20240522T232138Z
UID:1909431-1716454800-1716463800@ramayogainstitute.com
SUMMARY:Celestial Harmony with Nam Satya & Anna Caldwell
DESCRIPTION:SIGN UP\nTUNE IN\n\n\nCelestial Harmony | Kundalini Yoga & Sound Bath\nwith Nam Satya & Anna Caldwell\nThursday\, May 23\, 2024\n6:00pm – 8:30pm CEST\nIn Person RA MA Mallorca\nVirtually on RA MA TV\n$30
URL:https://ramayogainstitute.com/event/celestial-harmony-with-nam-satya-anna-caldwell/
LOCATION:RA MA Mallorca & Online
CATEGORIES:In Person,Pay Per View Workshops
ATTACH;FMTTYPE=image/jpeg:https://ramayogainstitute.com/wp-content/uploads/2024/02/RAMA_Teacher_Nam-Satya_Header2.jpg
END:VEVENT
BEGIN:VEVENT
DTSTART;TZID=America/Los_Angeles:20240523T170000
DTEND;TZID=America/Los_Angeles:20240523T190000
DTSTAMP:20260423T103157
CREATED:20240517T091341Z
LAST-MODIFIED:20240522T232110Z
UID:1921214-1716483600-1716490800@ramayogainstitute.com
SUMMARY:Kundalini Yoga\, Meditation\, & Gong with Harijiwan
DESCRIPTION:SIGN UP\nTUNE IN\nKundalini Yoga\, Meditation\, & Gong with Harijiwan\nThursday\, May 23\, 2024\n5:00pm – 7:00pm PDT\nIn Person RA MA Los Angeles\nVirtually on RA MA TV\n$60 in advance\, $65 day off \nHarijiwan has been teaching Kundalini Yoga since 1975. He is the founder of the GRAMMY®-Award-Winning band\, White Sun. With over 44 years of experience in the science of Kundalini Yoga\, Harijiwan incorporates a vast knowledge of various methodologies and training into his practice. Today\, and throughout his years as a teacher and healer\, Harijiwan remains committed to expanding his knowledge and experience to provide his students with the most progressive\, effective\, self-empowering approaches that increase overall joy and wholeness within the context of everyday experiences.
URL:https://ramayogainstitute.com/event/kundalini-yoga-meditation-gong-with-harijiwan-2/
LOCATION:Online
CATEGORIES:In Person,Pay Per View Workshops
ATTACH;FMTTYPE=image/jpeg:https://ramayogainstitute.com/wp-content/uploads/2023/07/L1020126_Harijiwan-Gong-RA-MA-Los-Angeles-edit_16x9small.jpg
END:VEVENT
BEGIN:VEVENT
DTSTART;TZID=America/Los_Angeles:20240524T140000
DTEND;TZID=America/Los_Angeles:20240524T180000
DTSTAMP:20260423T103157
CREATED:20240427T000652Z
LAST-MODIFIED:20240427T000652Z
UID:1916474-1716559200-1716573600@ramayogainstitute.com
SUMMARY:The Tantric Necklace Immersion with Giangeet
DESCRIPTION:SIGN UP\nTUNE IN\nThe Tantric Necklace Immersion with Giangeet\nFriday\, May 24 – Sunday\, May 26\, 2024\nFriday\, May 24 | 2:00pm-6:00pm PD\nSaturday\, May 25 | 11:00am-6:00pm PDT\nSunday\, May 26 | 2:00pm-6:00pm PDT\nIn Person at RA MA Los Angeles\nStreamed Virtually on RA MA TV with Infinite Replay \nTruly one-of-a-kind\, the Tantric Necklace is a sacred yogic tool\, used to connect to the Z-Force\, the Tantric Energy. The Tantric Necklace consists of 416 beads arranged in an exact set of specific geometric shapes\, together vibrating the totality of creation. This vibratory frequency is powerful\, pure\, and a vibration of love. There is truly nothing else like it on the planet. \nLearn all that we know about this power piece\, experience the energy\, study the sacred pattern\, and create your own in this one-of-a-kind workshop. \nIn this three-day immersion\, you will: \n\nMaster the Tantric Pattern of the Tantric Necklace\nActivate the Healing Energy of the Hands to Amplify the Magic of Your Creations\nLearn How to Open the Tantric Space and Create Pure & Potent Power Pieces for Yourself and Others\nCreate Two Unique Tantric Necklaces\n\nWhat’s Included: \n\nJewelry Tools that Are Yours to Keep\n2 Tantric Necklaces That You Create (All Supplied Included)\nAccess to a private Satamber group to connect with like-minded individuals working together to provide the planet with high-quality tantric necklaces.\n\n\nAbout Giangeet\nGiangeet is the creator of Satambar and has personally crafted over 2\,000 tantric necklaces. She is a certified Kundalini Yoga instructor and has accomplished many yogic feats throughout her journey. She has completed over 30 White Tantric Yoga courses\, where it has been said that each of these events is equivalent to meditating 10 years in a cave. Giangeet has completed the mystical meditation at the steps of Goindwal in India\, a physical meditation taking more than 20 hours to complete and said to liberate 84\,000 cycles of life and birth. \nGiangeet has a Masters degree and a Bachelors degrees in both mathematics and engineering giving her a special relationship with the geometry\, energy and science behind the sacred tools of consciousness that she creates. The precision thinking and personal practice imbues every single piece that comes from the Satamber collection. Each piece has an energetic code that is guaranteed to uplift and enhance the aura of its owner. \n 
URL:https://ramayogainstitute.com/event/the-tantric-necklace-immersion-with-giangeet/2024-05-24/
LOCATION:Online
CATEGORIES:In Person,Pay Per View Workshops
ATTACH;FMTTYPE=image/jpeg:https://ramayogainstitute.com/wp-content/uploads/2024/04/giangeet-tantric-necklace_Header4.jpg
END:VEVENT
BEGIN:VEVENT
DTSTART;TZID=America/Los_Angeles:20240525T140000
DTEND;TZID=America/Los_Angeles:20240525T160000
DTSTAMP:20260423T103157
CREATED:20240523T010624Z
LAST-MODIFIED:20240525T051742Z
UID:1922429-1716645600-1716652800@ramayogainstitute.com
SUMMARY:Cosmic Stargate Meditation with Pritam Siri
DESCRIPTION:SIGN UP\nTUNE IN\n\nRA MA New York Presents\nCOSMIC STARGATE MEDITATION + ZEN PATIO PARTY\nEXPAND YOUR POSITIVITY & OPEN THE CHANNELS OF YOUR OWN VAST WISDOM IN KUNDALINI JUPITER MEDITATIONS WITH PRITAM SIRI \nOn this day\, Jupiter\, the largest planet in our solar system\, is making its annual move into a new zodiac sign. Recognized as an auspicious time for opening your abundance and prosperity\, join us in deep meditation with kundalini breathwork\, gong sound healing and mantra meditation. \nIn Person Attendance includes a complimentary summer celebration dinner on the RA MA Zen Patio. Please RSVP. \nSATURDAY\, MAY 25\, 2024\n5:00-7:00PM EDT | COSMIC STARGATE MEDITATION\n$44 or RA MA Class Pass\nIn-Person at RA MA New York\nVirtually on RA MA TV \n7:00-9:00PM EDT | ZEN PATIO PARTY\nComplimentary Community Dinner\nIn-Person Only
URL:https://ramayogainstitute.com/event/cosmic-stargate-meditation-with-pritam-siri/
LOCATION:RA MA Intitute New York and online
CATEGORIES:In Person,Pay Per View Workshops
ATTACH;FMTTYPE=image/jpeg:https://ramayogainstitute.com/wp-content/uploads/2024/05/MemorialDay_PritamSiri_Header.jpg
END:VEVENT
BEGIN:VEVENT
DTSTART;TZID=America/Los_Angeles:20240527T090000
DTEND;TZID=America/Los_Angeles:20240527T123000
DTSTAMP:20260423T103157
CREATED:20240523T041631Z
LAST-MODIFIED:20240523T041631Z
UID:1922465-1716800400-1716813000@ramayogainstitute.com
SUMMARY:Memorial Day 2024
DESCRIPTION:SIGN UP\nTUNE IN\nMEMORIAL DAY\nMonday\, May 27\, 2024\n9:00am-12:30pm\nRA MA New York | RA MA Los Angeles | RA MA TV Live \nRA MA New York\n9:00am – 10:30am EDT\nKundalini Yoga & Meditation with Pritam Siri\nIn-Person at RA MA New York\nVirtually on RA MA TV Live \n11:00am – 12:30pm EDT\n*title tbc* Kundalini Yoga & Meditation with Siri Rishi\nIn-Person at RA MA New York\nVirtually on RA MA TV Live \n9:00am-10:30am PDT\nKundalini Yoga & Long Mul Mantra\nwith Mandev & Harijiwan\nIn-Person at RA MA Los Angeles\nVirtually on RA MA TV Live \n11:00am-12:30pm PDT\nMemorial Day\nKundalini Yoga\, Meditation & Gong\nwith Harijwan\nIn-Person at RA MA Los Angeles\nVirtually on RA MA TV\n$30 in advance\, $35 day of\n+Included for Members of RA MA TV Live
URL:https://ramayogainstitute.com/event/memorial-day-2024/
LOCATION:RA MA Los Angeles\, RA MA New York & Online
CATEGORIES:Courses & Events,In Person,Pay Per View Workshops,RA MA TV Live
ATTACH;FMTTYPE=image/jpeg:https://ramayogainstitute.com/wp-content/uploads/2024/05/Memorialday_Header2.jpg
END:VEVENT
BEGIN:VEVENT
DTSTART;TZID=America/Los_Angeles:20240527T110000
DTEND;TZID=America/Los_Angeles:20240527T123000
DTSTAMP:20260423T103157
CREATED:20240523T042417Z
LAST-MODIFIED:20240527T053900Z
UID:1922473-1716807600-1716813000@ramayogainstitute.com
SUMMARY:Memorial Day 2024 with Harijiwan
DESCRIPTION:SIGN UP\nTUNE IN\nMemorial Day\nKundalini Yoga\, Meditation & Gong with Harijwan\nMonday\, May 27\, 2024\n11:00am-12:30pm PDT\nIn-Person at RA MA Los Angeles\nVirtually on RA MA TV\n+Included for Members of RA MA TV Live \nHarijiwan has been teaching Kundalini Yoga since 1975. He is the founder of the GRAMMY®-Award-Winning band\, White Sun. With over 44 years of experience in the science of Kundalini Yoga\, Harijiwan incorporates a vast knowledge of various methodologies and training into his practice. Today\, and throughout his years as a teacher and healer\, Harijiwan remains committed to expanding his knowledge and experience to provide his students with the most progressive\, effective\, self-empowering approaches that increase overall joy and wholeness within the context of everyday experiences.
URL:https://ramayogainstitute.com/event/memorial-day-2024-with-harijiwan/
LOCATION:Online
CATEGORIES:In Person,Pay Per View Workshops,RA MA TV Live
ATTACH;FMTTYPE=image/jpeg:https://ramayogainstitute.com/wp-content/uploads/2023/02/Harijiwan-Playing-Gong-Black-White-e1686425489298.jpg
END:VEVENT
END:VCALENDAR