BEGIN:VCALENDAR
VERSION:2.0
PRODID:-//RA MA LIFE - ECPv6.15.15//NONSGML v1.0//EN
CALSCALE:GREGORIAN
METHOD:PUBLISH
X-WR-CALNAME:RA MA LIFE
X-ORIGINAL-URL:https://ramayogainstitute.com
X-WR-CALDESC:Events for RA MA LIFE
REFRESH-INTERVAL;VALUE=DURATION:PT1H
X-Robots-Tag:noindex
X-PUBLISHED-TTL:PT1H
BEGIN:VTIMEZONE
TZID:America/Los_Angeles
BEGIN:DAYLIGHT
TZOFFSETFROM:-0800
TZOFFSETTO:-0700
TZNAME:PDT
DTSTART:20250309T100000
END:DAYLIGHT
BEGIN:STANDARD
TZOFFSETFROM:-0700
TZOFFSETTO:-0800
TZNAME:PST
DTSTART:20251102T090000
END:STANDARD
BEGIN:DAYLIGHT
TZOFFSETFROM:-0800
TZOFFSETTO:-0700
TZNAME:PDT
DTSTART:20260308T100000
END:DAYLIGHT
BEGIN:STANDARD
TZOFFSETFROM:-0700
TZOFFSETTO:-0800
TZNAME:PST
DTSTART:20261101T090000
END:STANDARD
BEGIN:DAYLIGHT
TZOFFSETFROM:-0800
TZOFFSETTO:-0700
TZNAME:PDT
DTSTART:20270314T100000
END:DAYLIGHT
BEGIN:STANDARD
TZOFFSETFROM:-0700
TZOFFSETTO:-0800
TZNAME:PST
DTSTART:20271107T090000
END:STANDARD
END:VTIMEZONE
BEGIN:VEVENT
DTSTART;TZID=America/Los_Angeles:20260323T093000
DTEND;TZID=America/Los_Angeles:20260323T100000
DTSTAMP:20260421T134459
CREATED:20260223T162404Z
LAST-MODIFIED:20260415T213832Z
UID:2011874-1774258200-1774260000@ramayogainstitute.com
SUMMARY:GLOBAL MEDITATION
DESCRIPTION:
URL:https://ramayogainstitute.com/event/global-meditation-2026-02-25/2026-03-23/
LOCATION:Online on RA MA TV
CATEGORIES:In Person,RA MA TV Live,RA MA TV ZOOM
ATTACH;FMTTYPE=image/jpeg:https://ramayogainstitute.com/wp-content/uploads/2026/02/Sat_Kriya_1-e1773928469437.jpg
END:VEVENT
BEGIN:VEVENT
DTSTART;TZID=America/Los_Angeles:20260323T173000
DTEND;TZID=America/Los_Angeles:20260323T180000
DTSTAMP:20260421T134459
CREATED:20260223T162404Z
LAST-MODIFIED:20260223T163149Z
UID:2011423-1774287000-1774288800@ramayogainstitute.com
SUMMARY:Global Meditation
DESCRIPTION:
URL:https://ramayogainstitute.com/event/global-meditation-2026-03-23/
LOCATION:RA MA Institute Mallorca\, Carrer de Despuig\, 51\, Palma\, Illes Balears\, 07013\, Spain
CATEGORIES:In Person,RA MA TV Live,RA MA TV ZOOM
ATTACH;FMTTYPE=image/jpeg:https://ramayogainstitute.com/wp-content/uploads/2026/02/Sat_Kriya_1-e1773928469437.jpg
END:VEVENT
BEGIN:VEVENT
DTSTART;TZID=America/Los_Angeles:20260324T093000
DTEND;TZID=America/Los_Angeles:20260324T100000
DTSTAMP:20260421T134459
CREATED:20260223T162404Z
LAST-MODIFIED:20260415T213833Z
UID:2011424-1774344600-1774346400@ramayogainstitute.com
SUMMARY:GLOBAL MEDITATION
DESCRIPTION:
URL:https://ramayogainstitute.com/event/global-meditation-2026-02-25/2026-03-24/
LOCATION:Online on RA MA TV
CATEGORIES:In Person,RA MA TV Live,RA MA TV ZOOM
ATTACH;FMTTYPE=image/jpeg:https://ramayogainstitute.com/wp-content/uploads/2026/02/Sat_Kriya_1-e1773928469437.jpg
END:VEVENT
BEGIN:VEVENT
DTSTART;TZID=America/Los_Angeles:20260325T093000
DTEND;TZID=America/Los_Angeles:20260325T100000
DTSTAMP:20260421T134459
CREATED:20260223T162404Z
LAST-MODIFIED:20260415T213833Z
UID:2011425-1774431000-1774432800@ramayogainstitute.com
SUMMARY:GLOBAL MEDITATION
DESCRIPTION:
URL:https://ramayogainstitute.com/event/global-meditation-2026-02-25/2026-03-25/
LOCATION:Online on RA MA TV
CATEGORIES:In Person,RA MA TV Live,RA MA TV ZOOM
ATTACH;FMTTYPE=image/jpeg:https://ramayogainstitute.com/wp-content/uploads/2026/02/Sat_Kriya_1-e1773928469437.jpg
END:VEVENT
BEGIN:VEVENT
DTSTART;TZID=America/Los_Angeles:20260326T093000
DTEND;TZID=America/Los_Angeles:20260326T100000
DTSTAMP:20260421T134459
CREATED:20260223T162404Z
LAST-MODIFIED:20260415T213834Z
UID:2011426-1774517400-1774519200@ramayogainstitute.com
SUMMARY:GLOBAL MEDITATION
DESCRIPTION:
URL:https://ramayogainstitute.com/event/global-meditation-2026-02-25/2026-03-26/
LOCATION:Online on RA MA TV
CATEGORIES:In Person,RA MA TV Live,RA MA TV ZOOM
ATTACH;FMTTYPE=image/jpeg:https://ramayogainstitute.com/wp-content/uploads/2026/02/Sat_Kriya_1-e1773928469437.jpg
END:VEVENT
BEGIN:VEVENT
DTSTART;TZID=America/Los_Angeles:20260327T013000
DTEND;TZID=America/Los_Angeles:20260327T030000
DTSTAMP:20260421T134459
CREATED:20260206T160116Z
LAST-MODIFIED:20260206T160731Z
UID:2009721-1774575000-1774580400@ramayogainstitute.com
SUMMARY:KUNDALINI YOGA & MEDITATION
DESCRIPTION:
URL:https://ramayogainstitute.com/event/kundalini-yoga-meditation-9/2026-03-27/
LOCATION:Online on RA MA TV
CATEGORIES:In Person,RA MA TV Live
ATTACH;FMTTYPE=image/jpeg:https://ramayogainstitute.com/wp-content/uploads/2025/08/Atma-green-wall-01.jpg
END:VEVENT
BEGIN:VEVENT
DTSTART;TZID=America/Los_Angeles:20260327T093000
DTEND;TZID=America/Los_Angeles:20260327T100000
DTSTAMP:20260421T134459
CREATED:20260223T162404Z
LAST-MODIFIED:20260415T213836Z
UID:2011427-1774603800-1774605600@ramayogainstitute.com
SUMMARY:GLOBAL MEDITATION
DESCRIPTION:
URL:https://ramayogainstitute.com/event/global-meditation-2026-02-25/2026-03-27/
LOCATION:Online on RA MA TV
CATEGORIES:In Person,RA MA TV Live,RA MA TV ZOOM
ATTACH;FMTTYPE=image/jpeg:https://ramayogainstitute.com/wp-content/uploads/2026/02/Sat_Kriya_1-e1773928469437.jpg
END:VEVENT
BEGIN:VEVENT
DTSTART;TZID=America/Los_Angeles:20260328T013000
DTEND;TZID=America/Los_Angeles:20260328T030000
DTSTAMP:20260421T134459
CREATED:20260105T152115Z
LAST-MODIFIED:20260415T214454Z
UID:2013888-1774661400-1774666800@ramayogainstitute.com
SUMMARY:KUNDALINI YOGA EN ESPANOL
DESCRIPTION:Kundalini yoga\, meditación y trabajo de respiración with Elizabeth Zanni
URL:https://ramayogainstitute.com/event/activate-kundalini-yoga-meditation/2026-03-28/
LOCATION:Online on RA MA TV
CATEGORIES:In Person,RA MA TV Live
ATTACH;FMTTYPE=image/jpeg:https://ramayogainstitute.com/wp-content/uploads/2026/01/Elisabeth-Fan.jpg
END:VEVENT
BEGIN:VEVENT
DTSTART;TZID=America/Los_Angeles:20260328T093000
DTEND;TZID=America/Los_Angeles:20260328T100000
DTSTAMP:20260421T134459
CREATED:20260223T162404Z
LAST-MODIFIED:20260415T213837Z
UID:2011428-1774690200-1774692000@ramayogainstitute.com
SUMMARY:GLOBAL MEDITATION
DESCRIPTION:
URL:https://ramayogainstitute.com/event/global-meditation-2026-02-25/2026-03-28/
LOCATION:Online on RA MA TV
CATEGORIES:In Person,RA MA TV Live,RA MA TV ZOOM
ATTACH;FMTTYPE=image/jpeg:https://ramayogainstitute.com/wp-content/uploads/2026/02/Sat_Kriya_1-e1773928469437.jpg
END:VEVENT
BEGIN:VEVENT
DTSTART;TZID=America/Los_Angeles:20260329T083000
DTEND;TZID=America/Los_Angeles:20260329T090000
DTSTAMP:20260421T134459
CREATED:20260223T162404Z
LAST-MODIFIED:20260415T213838Z
UID:2011429-1774773000-1774774800@ramayogainstitute.com
SUMMARY:GLOBAL MEDITATION
DESCRIPTION:
URL:https://ramayogainstitute.com/event/global-meditation-2026-02-25/2026-03-29/
LOCATION:Online on RA MA TV
CATEGORIES:In Person,RA MA TV Live,RA MA TV ZOOM
ATTACH;FMTTYPE=image/jpeg:https://ramayogainstitute.com/wp-content/uploads/2026/02/Sat_Kriya_1-e1773928469437.jpg
END:VEVENT
END:VCALENDAR