BEGIN:VCALENDAR
VERSION:2.0
PRODID:-//RA MA LIFE - ECPv6.15.15//NONSGML v1.0//EN
CALSCALE:GREGORIAN
METHOD:PUBLISH
X-ORIGINAL-URL:https://ramayogainstitute.com
X-WR-CALDESC:Events for RA MA LIFE
REFRESH-INTERVAL;VALUE=DURATION:PT1H
X-Robots-Tag:noindex
X-PUBLISHED-TTL:PT1H
BEGIN:VTIMEZONE
TZID:America/Los_Angeles
BEGIN:DAYLIGHT
TZOFFSETFROM:-0800
TZOFFSETTO:-0700
TZNAME:PDT
DTSTART:20240310T100000
END:DAYLIGHT
BEGIN:STANDARD
TZOFFSETFROM:-0700
TZOFFSETTO:-0800
TZNAME:PST
DTSTART:20241103T090000
END:STANDARD
BEGIN:DAYLIGHT
TZOFFSETFROM:-0800
TZOFFSETTO:-0700
TZNAME:PDT
DTSTART:20250309T100000
END:DAYLIGHT
BEGIN:STANDARD
TZOFFSETFROM:-0700
TZOFFSETTO:-0800
TZNAME:PST
DTSTART:20251102T090000
END:STANDARD
BEGIN:DAYLIGHT
TZOFFSETFROM:-0800
TZOFFSETTO:-0700
TZNAME:PDT
DTSTART:20260308T100000
END:DAYLIGHT
BEGIN:STANDARD
TZOFFSETFROM:-0700
TZOFFSETTO:-0800
TZNAME:PST
DTSTART:20261101T090000
END:STANDARD
END:VTIMEZONE
BEGIN:VEVENT
DTSTART;TZID=America/Los_Angeles:20250416T003000
DTEND;TZID=America/Los_Angeles:20250416T020000
DTSTAMP:20260422T074631
CREATED:20241108T045802Z
LAST-MODIFIED:20250414T021734Z
UID:1962061-1744763400-1744768800@ramayogainstitute.com
SUMMARY:Kundalini Yoga and Meditation with Teg Prakash
DESCRIPTION:
URL:https://ramayogainstitute.com/event/kundalini-yoga-and-meditation-with-siri-manprem-3-2025-04-16/
LOCATION:Online on RA MA TV
CATEGORIES:In Person,RA MA TV Live
ATTACH;FMTTYPE=image/jpeg:https://ramayogainstitute.com/wp-content/uploads/2024/04/teg_prakash_AWAKEN_thumb_2.jpg
END:VEVENT
BEGIN:VEVENT
DTSTART;TZID=America/Los_Angeles:20250417T003000
DTEND;TZID=America/Los_Angeles:20250417T020000
DTSTAMP:20260422T074631
CREATED:20241107T033215Z
LAST-MODIFIED:20250414T022727Z
UID:1973728-1744849800-1744855200@ramayogainstitute.com
SUMMARY:Kundalini Yoga and Meditation with Atma Santokh
DESCRIPTION:
URL:https://ramayogainstitute.com/event/kundalini-yoga-and-meditation-with-desireepais-2024-11-14-2025-04-17/
LOCATION:Online on RA MA TV
CATEGORIES:In Person,RA MA TV Live
ATTACH;FMTTYPE=image/jpeg:https://ramayogainstitute.com/wp-content/uploads/2024/12/Atma_Santokh_Header.jpg
END:VEVENT
END:VCALENDAR