BEGIN:VCALENDAR
VERSION:2.0
PRODID:-//RA MA LIFE - ECPv6.15.15//NONSGML v1.0//EN
CALSCALE:GREGORIAN
METHOD:PUBLISH
X-ORIGINAL-URL:https://ramayogainstitute.com
X-WR-CALDESC:Events for RA MA LIFE
REFRESH-INTERVAL;VALUE=DURATION:PT1H
X-Robots-Tag:noindex
X-PUBLISHED-TTL:PT1H
BEGIN:VTIMEZONE
TZID:America/Los_Angeles
BEGIN:DAYLIGHT
TZOFFSETFROM:-0800
TZOFFSETTO:-0700
TZNAME:PDT
DTSTART:20240310T100000
END:DAYLIGHT
BEGIN:STANDARD
TZOFFSETFROM:-0700
TZOFFSETTO:-0800
TZNAME:PST
DTSTART:20241103T090000
END:STANDARD
BEGIN:DAYLIGHT
TZOFFSETFROM:-0800
TZOFFSETTO:-0700
TZNAME:PDT
DTSTART:20250309T100000
END:DAYLIGHT
BEGIN:STANDARD
TZOFFSETFROM:-0700
TZOFFSETTO:-0800
TZNAME:PST
DTSTART:20251102T090000
END:STANDARD
BEGIN:DAYLIGHT
TZOFFSETFROM:-0800
TZOFFSETTO:-0700
TZNAME:PDT
DTSTART:20260308T100000
END:DAYLIGHT
BEGIN:STANDARD
TZOFFSETFROM:-0700
TZOFFSETTO:-0800
TZNAME:PST
DTSTART:20261101T090000
END:STANDARD
END:VTIMEZONE
BEGIN:VEVENT
DTSTART;TZID=America/Los_Angeles:20250327T013000
DTEND;TZID=America/Los_Angeles:20250327T030000
DTSTAMP:20260422T074625
CREATED:20250304T110317Z
LAST-MODIFIED:20250324T001011Z
UID:1975139-1743039000-1743044400@ramayogainstitute.com
SUMMARY:Kundalini Yoga and Meditation With Dev Namgeet
DESCRIPTION:
URL:https://ramayogainstitute.com/event/overflow-with-atma-santokh-2025-03-27/
CATEGORIES:In Person,RA MA TV Live
ATTACH;FMTTYPE=image/png:https://ramayogainstitute.com/wp-content/uploads/2025/03/Begonia_Dev_Namgeet.png
END:VEVENT
BEGIN:VEVENT
DTSTART;TZID=America/Los_Angeles:20250328T013000
DTEND;TZID=America/Los_Angeles:20250328T030000
DTSTAMP:20260422T074625
CREATED:20241107T043700Z
LAST-MODIFIED:20250324T003706Z
UID:1957511-1743125400-1743130800@ramayogainstitute.com
SUMMARY:Kundalini Yoga and Meditation with Anna Caldwell
DESCRIPTION:
URL:https://ramayogainstitute.com/event/kundalini-yoga-and-meditation-with-magdalena-3-2024-12-30-2025-03-28/
LOCATION:RA MA Institute Mallorca\, Carrer de Despuig\, 51\, Palma\, Illes Balears\, 07013\, Spain
CATEGORIES:In Person,RA MA TV Live
ATTACH;FMTTYPE=image/jpeg:https://ramayogainstitute.com/wp-content/uploads/2024/09/ConsciousWakeUp_AnnaCaldwell_Square.jpg
END:VEVENT
BEGIN:VEVENT
DTSTART;TZID=America/Los_Angeles:20250328T090000
DTEND;TZID=America/Los_Angeles:20250328T101500
DTSTAMP:20260422T074625
CREATED:20241108T060625Z
LAST-MODIFIED:20250324T010433Z
UID:1974822-1743152400-1743156900@ramayogainstitute.com
SUMMARY:Weave | Tantra and Kundalini | with Teg Prakash
DESCRIPTION:
URL:https://ramayogainstitute.com/event/weave-tantra-and-kundalini-with-atma-santokh-2025-03-28/
LOCATION:Online on RA MA TV
CATEGORIES:In Person,RA MA TV Live
ATTACH;FMTTYPE=image/jpeg:https://ramayogainstitute.com/wp-content/uploads/2024/11/teg_prakash_AWAKEN_thumb_2.jpg
END:VEVENT
END:VCALENDAR