BEGIN:VCALENDAR
VERSION:2.0
PRODID:-//RA MA LIFE - ECPv6.15.15//NONSGML v1.0//EN
CALSCALE:GREGORIAN
METHOD:PUBLISH
X-ORIGINAL-URL:https://ramayogainstitute.com
X-WR-CALDESC:Events for RA MA LIFE
REFRESH-INTERVAL;VALUE=DURATION:PT1H
X-Robots-Tag:noindex
X-PUBLISHED-TTL:PT1H
BEGIN:VTIMEZONE
TZID:America/Los_Angeles
BEGIN:DAYLIGHT
TZOFFSETFROM:-0800
TZOFFSETTO:-0700
TZNAME:PDT
DTSTART:20230312T100000
END:DAYLIGHT
BEGIN:STANDARD
TZOFFSETFROM:-0700
TZOFFSETTO:-0800
TZNAME:PST
DTSTART:20231105T090000
END:STANDARD
BEGIN:DAYLIGHT
TZOFFSETFROM:-0800
TZOFFSETTO:-0700
TZNAME:PDT
DTSTART:20240310T100000
END:DAYLIGHT
BEGIN:STANDARD
TZOFFSETFROM:-0700
TZOFFSETTO:-0800
TZNAME:PST
DTSTART:20241103T090000
END:STANDARD
BEGIN:DAYLIGHT
TZOFFSETFROM:-0800
TZOFFSETTO:-0700
TZNAME:PDT
DTSTART:20250309T100000
END:DAYLIGHT
BEGIN:STANDARD
TZOFFSETFROM:-0700
TZOFFSETTO:-0800
TZNAME:PST
DTSTART:20251102T090000
END:STANDARD
END:VTIMEZONE
BEGIN:VEVENT
DTSTART;TZID=America/Los_Angeles:20240902T010000
DTEND;TZID=America/Los_Angeles:20240902T033000
DTSTAMP:20260424T141839
CREATED:20240828T192514Z
LAST-MODIFIED:20240828T195544Z
UID:1943718-1725238800-1725247800@ramayogainstitute.com
SUMMARY:NEW MOON SPECIAL SADHANA
DESCRIPTION:TUNE IN\n4am-6:30am EDT\nIn-Person and Virtual\nComplimentary \nJoin complimentary early morning practice on this powerful day – \nExperience a short yoga set followed by mantra recitations. \nNo previous experience required. \n  \nAnt Na Siftee Mantra Recitations for Limitlessness \n  \n 
URL:https://ramayogainstitute.com/event/new-moon-special-sadhana/
LOCATION:RA MA New York & Online
CATEGORIES:Community Content,In Person,RA MA TV Live
ATTACH;FMTTYPE=image/jpeg:https://ramayogainstitute.com/wp-content/uploads/2023/08/RAMA_Sadhana_New_York.jpg
END:VEVENT
BEGIN:VEVENT
DTSTART;TZID=America/Los_Angeles:20240902T040000
DTEND;TZID=America/Los_Angeles:20240902T063000
DTSTAMP:20260424T141839
CREATED:20240828T203218Z
LAST-MODIFIED:20240828T203218Z
UID:1943740-1725249600-1725258600@ramayogainstitute.com
SUMMARY:New Moon in Virgo| White Sun Sadhana
DESCRIPTION:TUNE IN\n4:00am-6:30am PST\nComplementary in person\nAnd on RA MA TV Community Content Channel \nMany spiritual traditions recognize the early morning hours of the day as a potent and powerful time for deep meditation. The White Sun Sadhana consists of Jap-Ji\, Yoga\, 62 minutes of chanting the Aquarian Sadhana Mantras. Sadhana is always complimentary and open to the public. All level welcome\, no previous experience necessary. \nThe front entrance is locked for this early morning practice. Please enter through the rear door\, 1729 21st Court\, which can be accessed via the back alley that runs parallel to 21st Street.
URL:https://ramayogainstitute.com/event/new-moon-in-virgo-white-sun-sadhana/
LOCATION:Online on RA MA TV
CATEGORIES:Community Content,RA MA TV Live
ATTACH;FMTTYPE=image/jpeg:https://ramayogainstitute.com/wp-content/uploads/2021/11/White-Sun-Sadhana-Album-Cover-2.jpg
END:VEVENT
BEGIN:VEVENT
DTSTART;TZID=America/Los_Angeles:20240905T001500
DTEND;TZID=America/Los_Angeles:20240905T033000
DTSTAMP:20260424T141839
CREATED:20240903T034142Z
LAST-MODIFIED:20240903T234805Z
UID:1944513-1725495300-1725507000@ramayogainstitute.com
SUMMARY:Special Sadhana| Harijiwan's Birthday
DESCRIPTION:TUNE IN\n  \n2.5 Hours Long Ek Ong Kar
URL:https://ramayogainstitute.com/event/special-sadhana-harijiwans-birthday/
LOCATION:RA MA New York & Online
CATEGORIES:Community Content,In Person,RA MA TV Live
ATTACH;FMTTYPE=image/jpeg:https://ramayogainstitute.com/wp-content/uploads/2023/08/RAMA_Sadhana_New_York.jpg
END:VEVENT
BEGIN:VEVENT
DTSTART;TZID=America/Los_Angeles:20240905T031500
DTEND;TZID=America/Los_Angeles:20240905T063000
DTSTAMP:20260424T141839
CREATED:20240903T034632Z
LAST-MODIFIED:20240903T035103Z
UID:1944516-1725506100-1725517800@ramayogainstitute.com
SUMMARY:Special Sadhana| Harijiwan's Birthday
DESCRIPTION:TUNE IN\n3:15am-6:30am PDT\n3:15am Japji\n3:30am Yoga\n4:00am-6:30am 2.5 Hours of Long Ek Ong Kars\nComplementary in person\nAnd on RA MA TV Community Content Channel \nMany spiritual traditions recognize the early morning hours of the day as a potent and powerful time for deep meditation. The White Sun Sadhana consists of Jap-Ji\, Yoga\, 62 minutes of chanting the Aquarian Sadhana Mantras. Sadhana is always complimentary and open to the public. All level welcome\, no previous experience necessary. \n 
URL:https://ramayogainstitute.com/event/special-sadhana-harijiwans-birthday-2/
LOCATION:Online
CATEGORIES:Community Content,In Person,RA MA TV Live
ATTACH;FMTTYPE=image/jpeg:https://ramayogainstitute.com/wp-content/uploads/2023/08/RAMA_Sadhana_Los_Angeles.jpg
END:VEVENT
END:VCALENDAR