BEGIN:VCALENDAR
VERSION:2.0
PRODID:-//RA MA LIFE - ECPv6.15.15//NONSGML v1.0//EN
CALSCALE:GREGORIAN
METHOD:PUBLISH
X-WR-CALNAME:RA MA LIFE
X-ORIGINAL-URL:https://ramayogainstitute.com
X-WR-CALDESC:Events for RA MA LIFE
REFRESH-INTERVAL;VALUE=DURATION:PT1H
X-Robots-Tag:noindex
X-PUBLISHED-TTL:PT1H
BEGIN:VTIMEZONE
TZID:America/Los_Angeles
BEGIN:DAYLIGHT
TZOFFSETFROM:-0800
TZOFFSETTO:-0700
TZNAME:PDT
DTSTART:20230312T100000
END:DAYLIGHT
BEGIN:STANDARD
TZOFFSETFROM:-0700
TZOFFSETTO:-0800
TZNAME:PST
DTSTART:20231105T090000
END:STANDARD
BEGIN:DAYLIGHT
TZOFFSETFROM:-0800
TZOFFSETTO:-0700
TZNAME:PDT
DTSTART:20240310T100000
END:DAYLIGHT
BEGIN:STANDARD
TZOFFSETFROM:-0700
TZOFFSETTO:-0800
TZNAME:PST
DTSTART:20241103T090000
END:STANDARD
BEGIN:DAYLIGHT
TZOFFSETFROM:-0800
TZOFFSETTO:-0700
TZNAME:PDT
DTSTART:20250309T100000
END:DAYLIGHT
BEGIN:STANDARD
TZOFFSETFROM:-0700
TZOFFSETTO:-0800
TZNAME:PST
DTSTART:20251102T090000
END:STANDARD
END:VTIMEZONE
BEGIN:VEVENT
DTSTART;TZID=America/Los_Angeles:20240826T001500
DTEND;TZID=America/Los_Angeles:20240826T033000
DTSTAMP:20260424T122943
CREATED:20240818T024613Z
LAST-MODIFIED:20240818T024613Z
UID:1941715-1724631300-1724643000@ramayogainstitute.com
SUMMARY:Special Sadhana| Yogi Bhajan's Birthday
DESCRIPTION:TUNE IN \n3:00am EDT Japji\n3:15am EDT Yoga\n3:25am – 3:55am EDT 2.5 Hours of Long Ek Ong Kar \nComplementary in person\nAnd on RA MA TV Community Content Channel \n 
URL:https://ramayogainstitute.com/event/special-sadhana-yogi-bhajans-birthday-2/
LOCATION:RA MA New York & Online
CATEGORIES:Community Content,In Person,RA MA TV Live
ATTACH;FMTTYPE=image/jpeg:https://ramayogainstitute.com/wp-content/uploads/2023/08/RAMA_Sadhana_New_York.jpg
END:VEVENT
BEGIN:VEVENT
DTSTART;TZID=America/Los_Angeles:20240826T030000
DTEND;TZID=America/Los_Angeles:20240826T063000
DTSTAMP:20260424T122943
CREATED:20240818T023704Z
LAST-MODIFIED:20240824T034615Z
UID:1941713-1724641200-1724653800@ramayogainstitute.com
SUMMARY:Special Sadhana -  Yogi Bhajan's Birthday
DESCRIPTION:TUNE IN\n3:15am PDT Japji\n3:30am PDT Yoga \n4:00am-6:30am PST- 2.5 Hours of Long Ek Ong Kar \nComplementary in person\nAnd on RA MA TV Community Content Channel \nSadhana is always complimentary and open to the public. All level welcome\, no previous experience necessary. \nThe front entrance is locked for this early morning practice. Please enter through the rear door\, 1729 21st Court\, which can be accessed via the back alley that runs parallel to 21st Street.
URL:https://ramayogainstitute.com/event/special-sadhana-yogi-bhajans-birthday/
LOCATION:Online on RA MA TV
CATEGORIES:Community Content,In Person,RA MA TV Live
ATTACH;FMTTYPE=image/jpeg:https://ramayogainstitute.com/wp-content/uploads/2023/09/YogiBhajanBday_Header.jpg
END:VEVENT
BEGIN:VEVENT
DTSTART;TZID=America/Los_Angeles:20240826T160000
DTEND;TZID=America/Los_Angeles:20240826T180000
DTSTAMP:20260424T122943
CREATED:20240816T223742Z
LAST-MODIFIED:20240821T185549Z
UID:1941466-1724688000-1724695200@ramayogainstitute.com
SUMMARY:How Much Can You Love? | Yogi Bhajan Birthday Class with Pritam Siri
DESCRIPTION:TUNE IN \nPritam  Siri is an artist and yogi based in New York City and the lead teacher and director at RA MA New York\, a global crossroads of new social\, artistic\, and cultural experiences\, hosting daily Kundalini Yoga\, Meditation\, Gong and Breathwork classes. Pritam Siri is an active student of Kundalini Yoga and Meditation and has been committed to practicing and sharing kundalini yoga technology since 2016. She recently launched The Pritam Siri Show: Conversations with Creatives\, Leaders and Change Makers who are reaching new terrains of living beyond fear\, accessing supra-creativity\, and ushering in new collaborative worlds in art\, fashion\, spirituality and more.
URL:https://ramayogainstitute.com/event/how-much-can-you-love-yogi-bhajan-birthday-class-with-pritam-siri/
LOCATION:RA MA New York & Online
CATEGORIES:Community Content,In Person,RA MA TV Live
ATTACH;FMTTYPE=image/jpeg:https://ramayogainstitute.com/wp-content/uploads/2024/07/IMG_0700.jpg
END:VEVENT
BEGIN:VEVENT
DTSTART;TZID=America/Los_Angeles:20240830T040000
DTEND;TZID=America/Los_Angeles:20240830T063000
DTSTAMP:20260424T122943
CREATED:20240821T171132Z
LAST-MODIFIED:20240821T171217Z
UID:1942241-1724990400-1724999400@ramayogainstitute.com
SUMMARY:Special Sadhana| Guru Jagat's Birthday
DESCRIPTION:TUNE IN\n4:00am – 6:30am PDT / EDT\nSpecial Sadhana\n2.5 Hours of Eka Mai Recitations
URL:https://ramayogainstitute.com/event/special-sadhana-guru-jagats-birthday/
LOCATION:Online
CATEGORIES:Community Content,In Person,RA MA TV Live
ATTACH;FMTTYPE=image/jpeg:https://ramayogainstitute.com/wp-content/uploads/2024/02/GoldenArchives_GuruJagat_RAMA_Header5.jpg
END:VEVENT
END:VCALENDAR