BEGIN:VCALENDAR
VERSION:2.0
PRODID:-//RA MA LIFE - ECPv6.15.15//NONSGML v1.0//EN
CALSCALE:GREGORIAN
METHOD:PUBLISH
X-WR-CALNAME:RA MA LIFE
X-ORIGINAL-URL:https://ramayogainstitute.com
X-WR-CALDESC:Events for RA MA LIFE
REFRESH-INTERVAL;VALUE=DURATION:PT1H
X-Robots-Tag:noindex
X-PUBLISHED-TTL:PT1H
BEGIN:VTIMEZONE
TZID:America/Los_Angeles
BEGIN:DAYLIGHT
TZOFFSETFROM:-0800
TZOFFSETTO:-0700
TZNAME:PDT
DTSTART:20230312T100000
END:DAYLIGHT
BEGIN:STANDARD
TZOFFSETFROM:-0700
TZOFFSETTO:-0800
TZNAME:PST
DTSTART:20231105T090000
END:STANDARD
BEGIN:DAYLIGHT
TZOFFSETFROM:-0800
TZOFFSETTO:-0700
TZNAME:PDT
DTSTART:20240310T100000
END:DAYLIGHT
BEGIN:STANDARD
TZOFFSETFROM:-0700
TZOFFSETTO:-0800
TZNAME:PST
DTSTART:20241103T090000
END:STANDARD
BEGIN:DAYLIGHT
TZOFFSETFROM:-0800
TZOFFSETTO:-0700
TZNAME:PDT
DTSTART:20250309T100000
END:DAYLIGHT
BEGIN:STANDARD
TZOFFSETFROM:-0700
TZOFFSETTO:-0800
TZNAME:PST
DTSTART:20251102T090000
END:STANDARD
END:VTIMEZONE
BEGIN:VEVENT
DTSTART;TZID=America/Los_Angeles:20240805T040000
DTEND;TZID=America/Los_Angeles:20240805T063000
DTSTAMP:20260424T155301
CREATED:20240729T170904Z
LAST-MODIFIED:20240729T170904Z
UID:1938000-1722830400-1722839400@ramayogainstitute.com
SUMMARY:White Sun Sadhana
DESCRIPTION:TUNE IN\nDaily\, 4:00am-6:30am PST\nComplementary in person\nAnd on RA MA TV Community Content Channel \nMany spiritual traditions recognize the early morning hours of the day as a potent and powerful time for deep meditation. The White Sun Sadhana consists of Jap-Ji\, Yoga\, 62 minutes of chanting the Aquarian Sadhana Mantras. Sadhana is always complimentary and open to the public. All level welcome\, no previous experience necessary. \nThe front entrance is locked for this early morning practice. Please enter through the rear door\, 1729 21st Court\, which can be accessed via the back alley that runs parallel to 21st Street.
URL:https://ramayogainstitute.com/event/white-sun-sadhana-46/
LOCATION:Online
CATEGORIES:Community Content,In Person,RA MA TV Live
ATTACH;FMTTYPE=image/jpeg:https://ramayogainstitute.com/wp-content/uploads/2021/11/White-Sun-Sadhana-Album-Cover-2.jpg
END:VEVENT
BEGIN:VEVENT
DTSTART;TZID=America/Los_Angeles:20240806T040000
DTEND;TZID=America/Los_Angeles:20240806T063000
DTSTAMP:20260424T155301
CREATED:20240729T170935Z
LAST-MODIFIED:20240806T035536Z
UID:1938020-1722916800-1722925800@ramayogainstitute.com
SUMMARY:White Sun Sadhana
DESCRIPTION:TUNE IN\nDaily\, 4:00am-6:30am PST\nComplementary in person\nAnd on RA MA TV Community Content Channel \nMany spiritual traditions recognize the early morning hours of the day as a potent and powerful time for deep meditation. The White Sun Sadhana consists of Jap-Ji\, Yoga\, 62 minutes of chanting the Aquarian Sadhana Mantras. Sadhana is always complimentary and open to the public. All level welcome\, no previous experience necessary. \nThe front entrance is locked for this early morning practice. Please enter through the rear door\, 1729 21st Court\, which can be accessed via the back alley that runs parallel to 21st Street.
URL:https://ramayogainstitute.com/event/white-sun-sadhana-47/
LOCATION:Online on RA MA TV
CATEGORIES:Community Content,RA MA TV Live
ATTACH;FMTTYPE=image/jpeg:https://ramayogainstitute.com/wp-content/uploads/2021/11/White-Sun-Sadhana-Album-Cover-2.jpg
END:VEVENT
BEGIN:VEVENT
DTSTART;TZID=America/Los_Angeles:20240806T160000
DTEND;TZID=America/Los_Angeles:20240806T173000
DTSTAMP:20260424T155301
CREATED:20240804T210311Z
LAST-MODIFIED:20240804T210311Z
UID:1939459-1722960000-1722965400@ramayogainstitute.com
SUMMARY:SUPER NATURAL | Kundalini Yoga & Meditation with Pritam Siri
DESCRIPTION:TUNE IN \nShe is an artist and yogi based in New York City and the lead teacher and director at RA MA New York\, a global crossroads of new social\, artistic\, and cultural experiences\, hosting daily Kundalini Yoga\, Meditation\, Gong and Breathwork classes. Pritam Siri is an active student of Kundalini Yoga and Meditation and has been committed to practicing and sharing kundalini yoga technology since 2016. She recently launched The Pritam Siri Show: Conversations with Creatives\, Leaders and Change Makers who are reaching new terrains of living beyond fear\, accessing supra-creativity\, and ushering in new collaborative worlds in art\, fashion\, spirituality and more.
URL:https://ramayogainstitute.com/event/super-natural-kundalini-yoga-meditation-with-pritam-siri-6/
LOCATION:RA MA New York & Online
CATEGORIES:Community Content,In Person,RA MA TV Live
ATTACH;FMTTYPE=image/jpeg:https://ramayogainstitute.com/wp-content/uploads/2024/07/IMG_0700.jpg
END:VEVENT
BEGIN:VEVENT
DTSTART;TZID=America/Los_Angeles:20240807T040000
DTEND;TZID=America/Los_Angeles:20240807T063000
DTSTAMP:20260424T155301
CREATED:20240729T171001Z
LAST-MODIFIED:20240729T171001Z
UID:1938027-1723003200-1723012200@ramayogainstitute.com
SUMMARY:White Sun Sadhana
DESCRIPTION:TUNE IN\nDaily\, 4:00am-6:30am PST\nComplementary in person\nAnd on RA MA TV Community Content Channel \nMany spiritual traditions recognize the early morning hours of the day as a potent and powerful time for deep meditation. The White Sun Sadhana consists of Jap-Ji\, Yoga\, 62 minutes of chanting the Aquarian Sadhana Mantras. Sadhana is always complimentary and open to the public. All level welcome\, no previous experience necessary. \nThe front entrance is locked for this early morning practice. Please enter through the rear door\, 1729 21st Court\, which can be accessed via the back alley that runs parallel to 21st Street.
URL:https://ramayogainstitute.com/event/white-sun-sadhana-48/
LOCATION:Online
CATEGORIES:Community Content,In Person,RA MA TV Live
ATTACH;FMTTYPE=image/jpeg:https://ramayogainstitute.com/wp-content/uploads/2021/11/White-Sun-Sadhana-Album-Cover-2.jpg
END:VEVENT
BEGIN:VEVENT
DTSTART;TZID=America/Los_Angeles:20240807T160000
DTEND;TZID=America/Los_Angeles:20240807T173000
DTSTAMP:20260424T155301
CREATED:20240729T192829Z
LAST-MODIFIED:20240729T192829Z
UID:1938223-1723046400-1723051800@ramayogainstitute.com
SUMMARY:SUPER NATURAL | Kundalini Yoga & Meditation with Pritam Siri
DESCRIPTION:TUNE IN \nShe is an artist and yogi based in New York City and the lead teacher and director at RA MA New York\, a global crossroads of new social\, artistic\, and cultural experiences\, hosting daily Kundalini Yoga\, Meditation\, Gong and Breathwork classes. Pritam Siri is an active student of Kundalini Yoga and Meditation and has been committed to practicing and sharing kundalini yoga technology since 2016. She recently launched The Pritam Siri Show: Conversations with Creatives\, Leaders and Change Makers who are reaching new terrains of living beyond fear\, accessing supra-creativity\, and ushering in new collaborative worlds in art\, fashion\, spirituality and more.
URL:https://ramayogainstitute.com/event/super-natural-kundalini-yoga-meditation-with-pritam-siri-5/
LOCATION:RA MA New York & Online
CATEGORIES:Community Content,In Person,RA MA TV Live
ATTACH;FMTTYPE=image/jpeg:https://ramayogainstitute.com/wp-content/uploads/2024/07/IMG_0700.jpg
END:VEVENT
BEGIN:VEVENT
DTSTART;TZID=America/Los_Angeles:20240808T030000
DTEND;TZID=America/Los_Angeles:20240808T040200
DTSTAMP:20260424T155301
CREATED:20240804T222624Z
LAST-MODIFIED:20240804T222807Z
UID:1939476-1723086000-1723089720@ramayogainstitute.com
SUMMARY:SPECIAL SADHANA| 62 Minutes of Aap Sahaee Hoa
DESCRIPTION:TUNE IN
URL:https://ramayogainstitute.com/event/special-sadhana-62-minutes-of-aap-sahaee-hoa/
LOCATION:Online
CATEGORIES:Community Content,In Person,RA MA TV Live
ATTACH;FMTTYPE=image/jpeg:https://ramayogainstitute.com/wp-content/uploads/2021/08/Jen-Saltiel.jpeg
END:VEVENT
BEGIN:VEVENT
DTSTART;TZID=America/Los_Angeles:20240808T040000
DTEND;TZID=America/Los_Angeles:20240808T063000
DTSTAMP:20260424T155301
CREATED:20240729T171028Z
LAST-MODIFIED:20240729T171028Z
UID:1938029-1723089600-1723098600@ramayogainstitute.com
SUMMARY:White Sun Sadhana
DESCRIPTION:TUNE IN\nDaily\, 4:00am-6:30am PST\nComplementary in person\nAnd on RA MA TV Community Content Channel \nMany spiritual traditions recognize the early morning hours of the day as a potent and powerful time for deep meditation. The White Sun Sadhana consists of Jap-Ji\, Yoga\, 62 minutes of chanting the Aquarian Sadhana Mantras. Sadhana is always complimentary and open to the public. All level welcome\, no previous experience necessary. \nThe front entrance is locked for this early morning practice. Please enter through the rear door\, 1729 21st Court\, which can be accessed via the back alley that runs parallel to 21st Street.
URL:https://ramayogainstitute.com/event/white-sun-sadhana-49/
LOCATION:Online
CATEGORIES:Community Content,In Person,RA MA TV Live
ATTACH;FMTTYPE=image/jpeg:https://ramayogainstitute.com/wp-content/uploads/2021/11/White-Sun-Sadhana-Album-Cover-2.jpg
END:VEVENT
BEGIN:VEVENT
DTSTART;TZID=America/Los_Angeles:20240809T040000
DTEND;TZID=America/Los_Angeles:20240809T063000
DTSTAMP:20260424T155301
CREATED:20240729T171106Z
LAST-MODIFIED:20240729T171106Z
UID:1938031-1723176000-1723185000@ramayogainstitute.com
SUMMARY:White Sun Sadhana
DESCRIPTION:TUNE IN\nDaily\, 4:00am-6:30am PST\nComplementary in person\nAnd on RA MA TV Community Content Channel \nMany spiritual traditions recognize the early morning hours of the day as a potent and powerful time for deep meditation. The White Sun Sadhana consists of Jap-Ji\, Yoga\, 62 minutes of chanting the Aquarian Sadhana Mantras. Sadhana is always complimentary and open to the public. All level welcome\, no previous experience necessary. \nThe front entrance is locked for this early morning practice. Please enter through the rear door\, 1729 21st Court\, which can be accessed via the back alley that runs parallel to 21st Street.
URL:https://ramayogainstitute.com/event/white-sun-sadhana-50/
LOCATION:Online
CATEGORIES:Community Content,In Person,RA MA TV Live
ATTACH;FMTTYPE=image/jpeg:https://ramayogainstitute.com/wp-content/uploads/2021/11/White-Sun-Sadhana-Album-Cover-2.jpg
END:VEVENT
BEGIN:VEVENT
DTSTART;TZID=America/Los_Angeles:20240810T040000
DTEND;TZID=America/Los_Angeles:20240810T063000
DTSTAMP:20260424T155301
CREATED:20240729T171132Z
LAST-MODIFIED:20240810T064558Z
UID:1938033-1723262400-1723271400@ramayogainstitute.com
SUMMARY:White Sun Sadhana
DESCRIPTION:TUNE IN\nDaily\, 4:00am-6:30am PST\nComplementary in person\nAnd on RA MA TV Community Content Channel \nMany spiritual traditions recognize the early morning hours of the day as a potent and powerful time for deep meditation. The White Sun Sadhana consists of Jap-Ji\, Yoga\, 62 minutes of chanting the Aquarian Sadhana Mantras. Sadhana is always complimentary and open to the public. All level welcome\, no previous experience necessary. \nThe front entrance is locked for this early morning practice. Please enter through the rear door\, 1729 21st Court\, which can be accessed via the back alley that runs parallel to 21st Street.
URL:https://ramayogainstitute.com/event/white-sun-sadhana-51/
LOCATION:Online on RA MA TV
CATEGORIES:Community Content,RA MA TV Live
ATTACH;FMTTYPE=image/jpeg:https://ramayogainstitute.com/wp-content/uploads/2021/11/White-Sun-Sadhana-Album-Cover-2.jpg
END:VEVENT
BEGIN:VEVENT
DTSTART;TZID=America/Los_Angeles:20240811T040000
DTEND;TZID=America/Los_Angeles:20240811T063000
DTSTAMP:20260424T155301
CREATED:20240729T171201Z
LAST-MODIFIED:20240810T064535Z
UID:1938035-1723348800-1723357800@ramayogainstitute.com
SUMMARY:White Sun Sadhana
DESCRIPTION:TUNE IN\nDaily\, 4:00am-6:30am PST\nComplementary in person\nAnd on RA MA TV Community Content Channel \nMany spiritual traditions recognize the early morning hours of the day as a potent and powerful time for deep meditation. The White Sun Sadhana consists of Jap-Ji\, Yoga\, 62 minutes of chanting the Aquarian Sadhana Mantras. Sadhana is always complimentary and open to the public. All level welcome\, no previous experience necessary. \nThe front entrance is locked for this early morning practice. Please enter through the rear door\, 1729 21st Court\, which can be accessed via the back alley that runs parallel to 21st Street.
URL:https://ramayogainstitute.com/event/white-sun-sadhana-52/
LOCATION:Online on RA MA TV
CATEGORIES:Community Content,RA MA TV Live
ATTACH;FMTTYPE=image/jpeg:https://ramayogainstitute.com/wp-content/uploads/2021/11/White-Sun-Sadhana-Album-Cover-2.jpg
END:VEVENT
END:VCALENDAR