BEGIN:VCALENDAR
VERSION:2.0
PRODID:-//RA MA LIFE - ECPv6.15.15//NONSGML v1.0//EN
CALSCALE:GREGORIAN
METHOD:PUBLISH
X-WR-CALNAME:RA MA LIFE
X-ORIGINAL-URL:https://ramayogainstitute.com
X-WR-CALDESC:Events for RA MA LIFE
REFRESH-INTERVAL;VALUE=DURATION:PT1H
X-Robots-Tag:noindex
X-PUBLISHED-TTL:PT1H
BEGIN:VTIMEZONE
TZID:America/Los_Angeles
BEGIN:DAYLIGHT
TZOFFSETFROM:-0800
TZOFFSETTO:-0700
TZNAME:PDT
DTSTART:20230312T100000
END:DAYLIGHT
BEGIN:STANDARD
TZOFFSETFROM:-0700
TZOFFSETTO:-0800
TZNAME:PST
DTSTART:20231105T090000
END:STANDARD
BEGIN:DAYLIGHT
TZOFFSETFROM:-0800
TZOFFSETTO:-0700
TZNAME:PDT
DTSTART:20240310T100000
END:DAYLIGHT
BEGIN:STANDARD
TZOFFSETFROM:-0700
TZOFFSETTO:-0800
TZNAME:PST
DTSTART:20241103T090000
END:STANDARD
BEGIN:DAYLIGHT
TZOFFSETFROM:-0800
TZOFFSETTO:-0700
TZNAME:PDT
DTSTART:20250309T100000
END:DAYLIGHT
BEGIN:STANDARD
TZOFFSETFROM:-0700
TZOFFSETTO:-0800
TZNAME:PST
DTSTART:20251102T090000
END:STANDARD
END:VTIMEZONE
BEGIN:VEVENT
DTSTART;TZID=America/Los_Angeles:20240729T040000
DTEND;TZID=America/Los_Angeles:20240729T063000
DTSTAMP:20260424T141534
CREATED:20240722T190506Z
LAST-MODIFIED:20240722T190506Z
UID:1936596-1722225600-1722234600@ramayogainstitute.com
SUMMARY:White Sun Sadhana
DESCRIPTION:TUNE IN\nDaily\, 4:00am-6:30am PST\nComplementary in person\nAnd on RA MA TV Community Content Channel \nMany spiritual traditions recognize the early morning hours of the day as a potent and powerful time for deep meditation. The White Sun Sadhana consists of Jap-Ji\, Yoga\, 62 minutes of chanting the Aquarian Sadhana Mantras. Sadhana is always complimentary and open to the public. All level welcome\, no previous experience necessary. \nThe front entrance is locked for this early morning practice. Please enter through the rear door\, 1729 21st Court\, which can be accessed via the back alley that runs parallel to 21st Street.
URL:https://ramayogainstitute.com/event/white-sun-sadhana-39/
LOCATION:Online
CATEGORIES:Community Content,In Person,RA MA TV Live
ATTACH;FMTTYPE=image/jpeg:https://ramayogainstitute.com/wp-content/uploads/2021/11/White-Sun-Sadhana-Album-Cover-2.jpg
END:VEVENT
BEGIN:VEVENT
DTSTART;TZID=America/Los_Angeles:20240730T040000
DTEND;TZID=America/Los_Angeles:20240730T063000
DTSTAMP:20260424T141534
CREATED:20240722T190535Z
LAST-MODIFIED:20240722T190535Z
UID:1936599-1722312000-1722321000@ramayogainstitute.com
SUMMARY:White Sun Sadhana
DESCRIPTION:TUNE IN\nDaily\, 4:00am-6:30am PST\nComplementary in person\nAnd on RA MA TV Community Content Channel \nMany spiritual traditions recognize the early morning hours of the day as a potent and powerful time for deep meditation. The White Sun Sadhana consists of Jap-Ji\, Yoga\, 62 minutes of chanting the Aquarian Sadhana Mantras. Sadhana is always complimentary and open to the public. All level welcome\, no previous experience necessary. \nThe front entrance is locked for this early morning practice. Please enter through the rear door\, 1729 21st Court\, which can be accessed via the back alley that runs parallel to 21st Street.
URL:https://ramayogainstitute.com/event/white-sun-sadhana-40/
LOCATION:Online
CATEGORIES:Community Content,In Person,RA MA TV Live
ATTACH;FMTTYPE=image/jpeg:https://ramayogainstitute.com/wp-content/uploads/2021/11/White-Sun-Sadhana-Album-Cover-2.jpg
END:VEVENT
BEGIN:VEVENT
DTSTART;TZID=America/Los_Angeles:20240730T160000
DTEND;TZID=America/Los_Angeles:20240730T173000
DTSTAMP:20260424T141534
CREATED:20240727T181842Z
LAST-MODIFIED:20240727T181842Z
UID:1937570-1722355200-1722360600@ramayogainstitute.com
SUMMARY:SUPER NATURAL | Kundalini Yoga & Meditation with Pritam Siri
DESCRIPTION:TUNE IN \nShe is an artist and yogi based in New York City and the lead teacher and director at RA MA New York\, a global crossroads of new social\, artistic\, and cultural experiences\, hosting daily Kundalini Yoga\, Meditation\, Gong and Breathwork classes. Pritam Siri is an active student of Kundalini Yoga and Meditation and has been committed to practicing and sharing kundalini yoga technology since 2016. She recently launched The Pritam Siri Show: Conversations with Creatives\, Leaders and Change Makers who are reaching new terrains of living beyond fear\, accessing supra-creativity\, and ushering in new collaborative worlds in art\, fashion\, spirituality and more.
URL:https://ramayogainstitute.com/event/super-natural-kundalini-yoga-meditation-with-pritam-siri-4/
LOCATION:RA MA New York & Online
CATEGORIES:Community Content,In Person,RA MA TV Live
ATTACH;FMTTYPE=image/jpeg:https://ramayogainstitute.com/wp-content/uploads/2024/07/IMG_0700.jpg
END:VEVENT
BEGIN:VEVENT
DTSTART;TZID=America/Los_Angeles:20240731T040000
DTEND;TZID=America/Los_Angeles:20240731T063000
DTSTAMP:20260424T141534
CREATED:20240722T190600Z
LAST-MODIFIED:20240722T190600Z
UID:1936601-1722398400-1722407400@ramayogainstitute.com
SUMMARY:White Sun Sadhana
DESCRIPTION:TUNE IN\nDaily\, 4:00am-6:30am PST\nComplementary in person\nAnd on RA MA TV Community Content Channel \nMany spiritual traditions recognize the early morning hours of the day as a potent and powerful time for deep meditation. The White Sun Sadhana consists of Jap-Ji\, Yoga\, 62 minutes of chanting the Aquarian Sadhana Mantras. Sadhana is always complimentary and open to the public. All level welcome\, no previous experience necessary. \nThe front entrance is locked for this early morning practice. Please enter through the rear door\, 1729 21st Court\, which can be accessed via the back alley that runs parallel to 21st Street.
URL:https://ramayogainstitute.com/event/white-sun-sadhana-41/
LOCATION:Online
CATEGORIES:Community Content,In Person,RA MA TV Live
ATTACH;FMTTYPE=image/jpeg:https://ramayogainstitute.com/wp-content/uploads/2021/11/White-Sun-Sadhana-Album-Cover-2.jpg
END:VEVENT
BEGIN:VEVENT
DTSTART;TZID=America/Los_Angeles:20240731T160000
DTEND;TZID=America/Los_Angeles:20240731T173000
DTSTAMP:20260424T141534
CREATED:20240727T182000Z
LAST-MODIFIED:20240730T204752Z
UID:1937572-1722441600-1722447000@ramayogainstitute.com
SUMMARY:Super Natural| Kundalini Yoga & Meditation with Pritam Siri
DESCRIPTION:TUNE IN \nShe is an artist and yogi based in New York City and the lead teacher and director at RA MA New York\, a global crossroads of new social\, artistic\, and cultural experiences\, hosting daily Kundalini Yoga\, Meditation\, Gong and Breathwork classes. Pritam Siri is an active student of Kundalini Yoga and Meditation and has been committed to practicing and sharing kundalini yoga technology since 2016. She recently launched The Pritam Siri Show: Conversations with Creatives\, Leaders and Change Makers who are reaching new terrains of living beyond fear\, accessing supra-creativity\, and ushering in new collaborative worlds in art\, fashion\, spirituality and more.
URL:https://ramayogainstitute.com/event/the-law-of-magnification-kundalini-yoga-meditation-with-pritam-siri-3/
LOCATION:RA MA New York & Online
CATEGORIES:Community Content,In Person,RA MA TV Live
ATTACH;FMTTYPE=image/jpeg:https://ramayogainstitute.com/wp-content/uploads/2024/07/IMG_0700.jpg
END:VEVENT
BEGIN:VEVENT
DTSTART;TZID=America/Los_Angeles:20240801T010000
DTEND;TZID=America/Los_Angeles:20240801T033000
DTSTAMP:20260424T141534
CREATED:20240726T013104Z
LAST-MODIFIED:20240730T205134Z
UID:1937312-1722474000-1722483000@ramayogainstitute.com
SUMMARY:GLOBAL SPECIAL SADHANA
DESCRIPTION:TUNE IN\n2.5 Hours of Eka Mai Recitation
URL:https://ramayogainstitute.com/event/global-special-sadhana/
LOCATION:RA MA New York & Online
CATEGORIES:Community Content,In Person,RA MA TV Live
ATTACH;FMTTYPE=image/jpeg:https://ramayogainstitute.com/wp-content/uploads/2023/08/RAMA_Sadhana_New_York.jpg
END:VEVENT
BEGIN:VEVENT
DTSTART;TZID=America/Los_Angeles:20240801T040000
DTEND;TZID=America/Los_Angeles:20240801T063000
DTSTAMP:20260424T141534
CREATED:20240722T190624Z
LAST-MODIFIED:20240726T010534Z
UID:1936603-1722484800-1722493800@ramayogainstitute.com
SUMMARY:GLOBAL SPECIAL SADHANA
DESCRIPTION:TUNE IN\nDaily\, 4:00am-6:30am PST\nComplementary in person\nAnd on RA MA TV Community Content Channel \n  \nThe front entrance is locked for this early morning practice. Please enter through the rear door\, 1729 21st Court\, which can be accessed via the back alley that runs parallel to 21st Street.
URL:https://ramayogainstitute.com/event/white-sun-sadhana-42/
LOCATION:Online
CATEGORIES:Community Content,In Person,RA MA TV Live
ATTACH;FMTTYPE=image/jpeg:https://ramayogainstitute.com/wp-content/uploads/2023/08/RAMA_Sadhana_Los_Angeles.jpg
END:VEVENT
BEGIN:VEVENT
DTSTART;TZID=America/Los_Angeles:20240801T160000
DTEND;TZID=America/Los_Angeles:20240801T173000
DTSTAMP:20260424T141534
CREATED:20240726T014141Z
LAST-MODIFIED:20240726T014141Z
UID:1937320-1722528000-1722533400@ramayogainstitute.com
SUMMARY:The Sweetest Gift| Kundalini Yoga & Meditation with Pritam Siri & Harmanjot
DESCRIPTION:TUNE IN \n 
URL:https://ramayogainstitute.com/event/the-sweetest-gift-kundalini-yoga-meditation-with-pritam-siri-harmanjot/
LOCATION:RA MA New York & Online
CATEGORIES:Community Content,In Person,RA MA TV Live
ATTACH;FMTTYPE=image/jpeg:https://ramayogainstitute.com/wp-content/uploads/2024/07/SweetestGift_Harmanjot__PritamSiri_Header.jpg
END:VEVENT
BEGIN:VEVENT
DTSTART;TZID=America/Los_Angeles:20240802T040000
DTEND;TZID=America/Los_Angeles:20240802T063000
DTSTAMP:20260424T141534
CREATED:20240722T190712Z
LAST-MODIFIED:20240722T190712Z
UID:1936605-1722571200-1722580200@ramayogainstitute.com
SUMMARY:White Sun Sadhana
DESCRIPTION:TUNE IN\nDaily\, 4:00am-6:30am PST\nComplementary in person\nAnd on RA MA TV Community Content Channel \nMany spiritual traditions recognize the early morning hours of the day as a potent and powerful time for deep meditation. The White Sun Sadhana consists of Jap-Ji\, Yoga\, 62 minutes of chanting the Aquarian Sadhana Mantras. Sadhana is always complimentary and open to the public. All level welcome\, no previous experience necessary. \nThe front entrance is locked for this early morning practice. Please enter through the rear door\, 1729 21st Court\, which can be accessed via the back alley that runs parallel to 21st Street.
URL:https://ramayogainstitute.com/event/white-sun-sadhana-43/
LOCATION:Online
CATEGORIES:Community Content,In Person,RA MA TV Live
ATTACH;FMTTYPE=image/jpeg:https://ramayogainstitute.com/wp-content/uploads/2021/11/White-Sun-Sadhana-Album-Cover-2.jpg
END:VEVENT
BEGIN:VEVENT
DTSTART;TZID=America/Los_Angeles:20240803T040000
DTEND;TZID=America/Los_Angeles:20240803T063000
DTSTAMP:20260424T141534
CREATED:20240722T190744Z
LAST-MODIFIED:20240722T190744Z
UID:1936607-1722657600-1722666600@ramayogainstitute.com
SUMMARY:White Sun Sadhana
DESCRIPTION:TUNE IN\nDaily\, 4:00am-6:30am PST\nComplementary in person\nAnd on RA MA TV Community Content Channel \nMany spiritual traditions recognize the early morning hours of the day as a potent and powerful time for deep meditation. The White Sun Sadhana consists of Jap-Ji\, Yoga\, 62 minutes of chanting the Aquarian Sadhana Mantras. Sadhana is always complimentary and open to the public. All level welcome\, no previous experience necessary. \nThe front entrance is locked for this early morning practice. Please enter through the rear door\, 1729 21st Court\, which can be accessed via the back alley that runs parallel to 21st Street.
URL:https://ramayogainstitute.com/event/white-sun-sadhana-44/
LOCATION:Online
CATEGORIES:Community Content,In Person,RA MA TV Live
ATTACH;FMTTYPE=image/jpeg:https://ramayogainstitute.com/wp-content/uploads/2021/11/White-Sun-Sadhana-Album-Cover-2.jpg
END:VEVENT
BEGIN:VEVENT
DTSTART;TZID=America/Los_Angeles:20240804T010000
DTEND;TZID=America/Los_Angeles:20240804T033000
DTSTAMP:20260424T141534
CREATED:20240727T185127Z
LAST-MODIFIED:20240730T015705Z
UID:1937658-1722733200-1722742200@ramayogainstitute.com
SUMMARY:NEW MOON SADHANA| Mantra Recitations for Limitlessness
DESCRIPTION:TUNE IN\nAnt Na Siftee Mantra Recitations for Limitlessness
URL:https://ramayogainstitute.com/event/new-moion-sadhana-with-sergio-montenegro/
LOCATION:RA MA New York & Online
CATEGORIES:Community Content,In Person,RA MA TV Live
ATTACH;FMTTYPE=image/jpeg:https://ramayogainstitute.com/wp-content/uploads/2023/08/RAMA_Sadhana_New_York.jpg
END:VEVENT
BEGIN:VEVENT
DTSTART;TZID=America/Los_Angeles:20240804T040000
DTEND;TZID=America/Los_Angeles:20240804T063000
DTSTAMP:20260424T141534
CREATED:20240722T190814Z
LAST-MODIFIED:20240722T190814Z
UID:1936609-1722744000-1722753000@ramayogainstitute.com
SUMMARY:White Sun Sadhana
DESCRIPTION:TUNE IN\nDaily\, 4:00am-6:30am PST\nComplementary in person\nAnd on RA MA TV Community Content Channel \nMany spiritual traditions recognize the early morning hours of the day as a potent and powerful time for deep meditation. The White Sun Sadhana consists of Jap-Ji\, Yoga\, 62 minutes of chanting the Aquarian Sadhana Mantras. Sadhana is always complimentary and open to the public. All level welcome\, no previous experience necessary. \nThe front entrance is locked for this early morning practice. Please enter through the rear door\, 1729 21st Court\, which can be accessed via the back alley that runs parallel to 21st Street.
URL:https://ramayogainstitute.com/event/white-sun-sadhana-45/
LOCATION:Online
CATEGORIES:Community Content,In Person,RA MA TV Live
ATTACH;FMTTYPE=image/jpeg:https://ramayogainstitute.com/wp-content/uploads/2021/11/White-Sun-Sadhana-Album-Cover-2.jpg
END:VEVENT
END:VCALENDAR