BEGIN:VCALENDAR
VERSION:2.0
PRODID:-//RA MA LIFE - ECPv6.15.15//NONSGML v1.0//EN
CALSCALE:GREGORIAN
METHOD:PUBLISH
X-WR-CALNAME:RA MA LIFE
X-ORIGINAL-URL:https://ramayogainstitute.com
X-WR-CALDESC:Events for RA MA LIFE
REFRESH-INTERVAL;VALUE=DURATION:PT1H
X-Robots-Tag:noindex
X-PUBLISHED-TTL:PT1H
BEGIN:VTIMEZONE
TZID:America/Los_Angeles
BEGIN:DAYLIGHT
TZOFFSETFROM:-0800
TZOFFSETTO:-0700
TZNAME:PDT
DTSTART:20230312T100000
END:DAYLIGHT
BEGIN:STANDARD
TZOFFSETFROM:-0700
TZOFFSETTO:-0800
TZNAME:PST
DTSTART:20231105T090000
END:STANDARD
BEGIN:DAYLIGHT
TZOFFSETFROM:-0800
TZOFFSETTO:-0700
TZNAME:PDT
DTSTART:20240310T100000
END:DAYLIGHT
BEGIN:STANDARD
TZOFFSETFROM:-0700
TZOFFSETTO:-0800
TZNAME:PST
DTSTART:20241103T090000
END:STANDARD
BEGIN:DAYLIGHT
TZOFFSETFROM:-0800
TZOFFSETTO:-0700
TZNAME:PDT
DTSTART:20250309T100000
END:DAYLIGHT
BEGIN:STANDARD
TZOFFSETFROM:-0700
TZOFFSETTO:-0800
TZNAME:PST
DTSTART:20251102T090000
END:STANDARD
END:VTIMEZONE
BEGIN:VEVENT
DTSTART;TZID=America/Los_Angeles:20240708T040000
DTEND;TZID=America/Los_Angeles:20240708T063000
DTSTAMP:20260424T174953
CREATED:20240703T171714Z
LAST-MODIFIED:20240703T171714Z
UID:1932191-1720411200-1720420200@ramayogainstitute.com
SUMMARY:White Sun Sadhana
DESCRIPTION:TUNE IN\nDaily\, 4:00am-6:30am PST\nComplementary in person\nAnd on RA MA TV Community Content Channel \nMany spiritual traditions recognize the early morning hours of the day as a potent and powerful time for deep meditation. The White Sun Sadhana consists of Jap-Ji\, Yoga\, 62 minutes of chanting the Aquarian Sadhana Mantras. Sadhana is always complimentary and open to the public. All level welcome\, no previous experience necessary. \nThe front entrance is locked for this early morning practice. Please enter through the rear door\, 1729 21st Court\, which can be accessed via the back alley that runs parallel to 21st Street.
URL:https://ramayogainstitute.com/event/white-sun-sadhana-18/
LOCATION:Online
CATEGORIES:Community Content,In Person,RA MA TV Live
ATTACH;FMTTYPE=image/jpeg:https://ramayogainstitute.com/wp-content/uploads/2021/11/White-Sun-Sadhana-Album-Cover-2.jpg
END:VEVENT
BEGIN:VEVENT
DTSTART;TZID=America/Los_Angeles:20240709T040000
DTEND;TZID=America/Los_Angeles:20240709T063000
DTSTAMP:20260424T174954
CREATED:20240703T171955Z
LAST-MODIFIED:20240703T171955Z
UID:1932194-1720497600-1720506600@ramayogainstitute.com
SUMMARY:White Sun Sadhana
DESCRIPTION:TUNE IN\nDaily\, 4:00am-6:30am PST\nComplementary in person\nAnd on RA MA TV Community Content Channel \nMany spiritual traditions recognize the early morning hours of the day as a potent and powerful time for deep meditation. The White Sun Sadhana consists of Jap-Ji\, Yoga\, 62 minutes of chanting the Aquarian Sadhana Mantras. Sadhana is always complimentary and open to the public. All level welcome\, no previous experience necessary. \nThe front entrance is locked for this early morning practice. Please enter through the rear door\, 1729 21st Court\, which can be accessed via the back alley that runs parallel to 21st Street.
URL:https://ramayogainstitute.com/event/white-sun-sadhana-19/
LOCATION:Online
CATEGORIES:Community Content,In Person,RA MA TV Live
ATTACH;FMTTYPE=image/jpeg:https://ramayogainstitute.com/wp-content/uploads/2021/11/White-Sun-Sadhana-Album-Cover-2.jpg
END:VEVENT
BEGIN:VEVENT
DTSTART;TZID=America/Los_Angeles:20240710T040000
DTEND;TZID=America/Los_Angeles:20240710T063000
DTSTAMP:20260424T174954
CREATED:20240703T172436Z
LAST-MODIFIED:20240703T172436Z
UID:1932199-1720584000-1720593000@ramayogainstitute.com
SUMMARY:White Sun Sadhana
DESCRIPTION:TUNE IN\nDaily\, 4:00am-6:30am PST\nComplementary in person\nAnd on RA MA TV Community Content Channel \nMany spiritual traditions recognize the early morning hours of the day as a potent and powerful time for deep meditation. The White Sun Sadhana consists of Jap-Ji\, Yoga\, 62 minutes of chanting the Aquarian Sadhana Mantras. Sadhana is always complimentary and open to the public. All level welcome\, no previous experience necessary. \nThe front entrance is locked for this early morning practice. Please enter through the rear door\, 1729 21st Court\, which can be accessed via the back alley that runs parallel to 21st Street.
URL:https://ramayogainstitute.com/event/white-sun-sadhana-20/
LOCATION:Online
CATEGORIES:Community Content,In Person,RA MA TV Live
ATTACH;FMTTYPE=image/jpeg:https://ramayogainstitute.com/wp-content/uploads/2021/11/White-Sun-Sadhana-Album-Cover-2.jpg
END:VEVENT
BEGIN:VEVENT
DTSTART;TZID=America/Los_Angeles:20240711T040000
DTEND;TZID=America/Los_Angeles:20240711T063000
DTSTAMP:20260424T174954
CREATED:20240703T172507Z
LAST-MODIFIED:20240703T172507Z
UID:1932204-1720670400-1720679400@ramayogainstitute.com
SUMMARY:White Sun Sadhana
DESCRIPTION:TUNE IN\nDaily\, 4:00am-6:30am PST\nComplementary in person\nAnd on RA MA TV Community Content Channel \nMany spiritual traditions recognize the early morning hours of the day as a potent and powerful time for deep meditation. The White Sun Sadhana consists of Jap-Ji\, Yoga\, 62 minutes of chanting the Aquarian Sadhana Mantras. Sadhana is always complimentary and open to the public. All level welcome\, no previous experience necessary. \nThe front entrance is locked for this early morning practice. Please enter through the rear door\, 1729 21st Court\, which can be accessed via the back alley that runs parallel to 21st Street.
URL:https://ramayogainstitute.com/event/white-sun-sadhana-21/
LOCATION:Online
CATEGORIES:Community Content,In Person,RA MA TV Live
ATTACH;FMTTYPE=image/jpeg:https://ramayogainstitute.com/wp-content/uploads/2021/11/White-Sun-Sadhana-Album-Cover-2.jpg
END:VEVENT
BEGIN:VEVENT
DTSTART;TZID=America/Los_Angeles:20240712T040000
DTEND;TZID=America/Los_Angeles:20240712T063000
DTSTAMP:20260424T174954
CREATED:20240703T172600Z
LAST-MODIFIED:20240703T172600Z
UID:1932207-1720756800-1720765800@ramayogainstitute.com
SUMMARY:White Sun Sadhana
DESCRIPTION:TUNE IN\nDaily\, 4:00am-6:30am PST\nComplementary in person\nAnd on RA MA TV Community Content Channel \nMany spiritual traditions recognize the early morning hours of the day as a potent and powerful time for deep meditation. The White Sun Sadhana consists of Jap-Ji\, Yoga\, 62 minutes of chanting the Aquarian Sadhana Mantras. Sadhana is always complimentary and open to the public. All level welcome\, no previous experience necessary. \nThe front entrance is locked for this early morning practice. Please enter through the rear door\, 1729 21st Court\, which can be accessed via the back alley that runs parallel to 21st Street.
URL:https://ramayogainstitute.com/event/white-sun-sadhana-22/
LOCATION:Online
CATEGORIES:Community Content,In Person,RA MA TV Live
ATTACH;FMTTYPE=image/jpeg:https://ramayogainstitute.com/wp-content/uploads/2021/11/White-Sun-Sadhana-Album-Cover-2.jpg
END:VEVENT
BEGIN:VEVENT
DTSTART;TZID=America/Los_Angeles:20240713T040000
DTEND;TZID=America/Los_Angeles:20240713T063000
DTSTAMP:20260424T174954
CREATED:20240703T172801Z
LAST-MODIFIED:20240703T172801Z
UID:1932212-1720843200-1720852200@ramayogainstitute.com
SUMMARY:White Sun Sadhana
DESCRIPTION:TUNE IN\nDaily\, 4:00am-6:30am PST\nComplementary in person\nAnd on RA MA TV Community Content Channel \nMany spiritual traditions recognize the early morning hours of the day as a potent and powerful time for deep meditation. The White Sun Sadhana consists of Jap-Ji\, Yoga\, 62 minutes of chanting the Aquarian Sadhana Mantras. Sadhana is always complimentary and open to the public. All level welcome\, no previous experience necessary. \nThe front entrance is locked for this early morning practice. Please enter through the rear door\, 1729 21st Court\, which can be accessed via the back alley that runs parallel to 21st Street.
URL:https://ramayogainstitute.com/event/white-sun-sadhana-23/
LOCATION:Online
CATEGORIES:Community Content,In Person,RA MA TV Live
ATTACH;FMTTYPE=image/jpeg:https://ramayogainstitute.com/wp-content/uploads/2021/11/White-Sun-Sadhana-Album-Cover-2.jpg
END:VEVENT
BEGIN:VEVENT
DTSTART;TZID=America/Los_Angeles:20240714T040000
DTEND;TZID=America/Los_Angeles:20240714T063000
DTSTAMP:20260424T174954
CREATED:20240703T172833Z
LAST-MODIFIED:20240714T004545Z
UID:1932217-1720929600-1720938600@ramayogainstitute.com
SUMMARY:White Sun Sadhana
DESCRIPTION:TUNE IN\nDaily\, 4:00am-6:30am PST\nComplementary in person\nAnd on RA MA TV Community Content Channel \nMany spiritual traditions recognize the early morning hours of the day as a potent and powerful time for deep meditation. The White Sun Sadhana consists of Jap-Ji\, Yoga\, 62 minutes of chanting the Aquarian Sadhana Mantras. Sadhana is always complimentary and open to the public. All level welcome\, no previous experience necessary. \nThe front entrance is locked for this early morning practice. Please enter through the rear door\, 1729 21st Court\, which can be accessed via the back alley that runs parallel to 21st Street.
URL:https://ramayogainstitute.com/event/white-sun-sadhana-24/
LOCATION:Online on RA MA TV
CATEGORIES:Community Content,RA MA TV Live
ATTACH;FMTTYPE=image/jpeg:https://ramayogainstitute.com/wp-content/uploads/2021/11/White-Sun-Sadhana-Album-Cover-2.jpg
END:VEVENT
END:VCALENDAR