BEGIN:VCALENDAR
VERSION:2.0
PRODID:-//RA MA LIFE - ECPv6.15.15//NONSGML v1.0//EN
CALSCALE:GREGORIAN
METHOD:PUBLISH
X-ORIGINAL-URL:https://ramayogainstitute.com
X-WR-CALDESC:Events for RA MA LIFE
REFRESH-INTERVAL;VALUE=DURATION:PT1H
X-Robots-Tag:noindex
X-PUBLISHED-TTL:PT1H
BEGIN:VTIMEZONE
TZID:America/Los_Angeles
BEGIN:DAYLIGHT
TZOFFSETFROM:-0800
TZOFFSETTO:-0700
TZNAME:PDT
DTSTART:20230312T100000
END:DAYLIGHT
BEGIN:STANDARD
TZOFFSETFROM:-0700
TZOFFSETTO:-0800
TZNAME:PST
DTSTART:20231105T090000
END:STANDARD
BEGIN:DAYLIGHT
TZOFFSETFROM:-0800
TZOFFSETTO:-0700
TZNAME:PDT
DTSTART:20240310T100000
END:DAYLIGHT
BEGIN:STANDARD
TZOFFSETFROM:-0700
TZOFFSETTO:-0800
TZNAME:PST
DTSTART:20241103T090000
END:STANDARD
BEGIN:DAYLIGHT
TZOFFSETFROM:-0800
TZOFFSETTO:-0700
TZNAME:PDT
DTSTART:20250309T100000
END:DAYLIGHT
BEGIN:STANDARD
TZOFFSETFROM:-0700
TZOFFSETTO:-0800
TZNAME:PST
DTSTART:20251102T090000
END:STANDARD
END:VTIMEZONE
BEGIN:VEVENT
DTSTART;TZID=America/Los_Angeles:20240624T040000
DTEND;TZID=America/Los_Angeles:20240624T063000
DTSTAMP:20260424T175451
CREATED:20240614T024206Z
LAST-MODIFIED:20240615T174001Z
UID:1928387-1719201600-1719210600@ramayogainstitute.com
SUMMARY:White Sun Sadhana
DESCRIPTION:TUNE IN\nDaily\, 4:00am-6:30am PST\nComplementary in person\nAnd on RA MA TV Community Content Channel \nMany spiritual traditions recognize the early morning hours of the day as a potent and powerful time for deep meditation. The White Sun Sadhana consists of Jap-Ji\, Yoga\, 62 minutes of chanting the Aquarian Sadhana Mantras. Sadhana is always complimentary and open to the public. All level welcome\, no previous experience necessary. \nThe front entrance is locked for this early morning practice. Please enter through the rear door\, 1729 21st Court\, which can be accessed via the back alley that runs parallel to 21st Street.
URL:https://ramayogainstitute.com/event/white-sun-sadhana-4/
LOCATION:Online
CATEGORIES:Community Content,In Person,RA MA TV Live
ATTACH;FMTTYPE=image/jpeg:https://ramayogainstitute.com/wp-content/uploads/2021/11/White-Sun-Sadhana-Album-Cover-2.jpg
END:VEVENT
BEGIN:VEVENT
DTSTART;TZID=America/Los_Angeles:20240625T040000
DTEND;TZID=America/Los_Angeles:20240625T063000
DTSTAMP:20260424T175451
CREATED:20240615T174204Z
LAST-MODIFIED:20240615T174204Z
UID:1928890-1719288000-1719297000@ramayogainstitute.com
SUMMARY:White Sun Sadhana
DESCRIPTION:TUNE IN\nDaily\, 4:00am-6:30am PST\nComplementary in person\nAnd on RA MA TV Community Content Channel \nMany spiritual traditions recognize the early morning hours of the day as a potent and powerful time for deep meditation. The White Sun Sadhana consists of Jap-Ji\, Yoga\, 62 minutes of chanting the Aquarian Sadhana Mantras. Sadhana is always complimentary and open to the public. All level welcome\, no previous experience necessary. \nThe front entrance is locked for this early morning practice. Please enter through the rear door\, 1729 21st Court\, which can be accessed via the back alley that runs parallel to 21st Street.
URL:https://ramayogainstitute.com/event/white-sun-sadhana-5/
LOCATION:Online
CATEGORIES:Community Content,In Person,RA MA TV Live
ATTACH;FMTTYPE=image/jpeg:https://ramayogainstitute.com/wp-content/uploads/2021/11/White-Sun-Sadhana-Album-Cover-2.jpg
END:VEVENT
BEGIN:VEVENT
DTSTART;TZID=America/Los_Angeles:20240626T040000
DTEND;TZID=America/Los_Angeles:20240626T063000
DTSTAMP:20260424T175451
CREATED:20240615T174228Z
LAST-MODIFIED:20240615T174228Z
UID:1928892-1719374400-1719383400@ramayogainstitute.com
SUMMARY:White Sun Sadhana
DESCRIPTION:TUNE IN\nDaily\, 4:00am-6:30am PST\nComplementary in person\nAnd on RA MA TV Community Content Channel \nMany spiritual traditions recognize the early morning hours of the day as a potent and powerful time for deep meditation. The White Sun Sadhana consists of Jap-Ji\, Yoga\, 62 minutes of chanting the Aquarian Sadhana Mantras. Sadhana is always complimentary and open to the public. All level welcome\, no previous experience necessary. \nThe front entrance is locked for this early morning practice. Please enter through the rear door\, 1729 21st Court\, which can be accessed via the back alley that runs parallel to 21st Street.
URL:https://ramayogainstitute.com/event/white-sun-sadhana-6/
LOCATION:Online
CATEGORIES:Community Content,In Person,RA MA TV Live
ATTACH;FMTTYPE=image/jpeg:https://ramayogainstitute.com/wp-content/uploads/2021/11/White-Sun-Sadhana-Album-Cover-2.jpg
END:VEVENT
BEGIN:VEVENT
DTSTART;TZID=America/Los_Angeles:20240627T040000
DTEND;TZID=America/Los_Angeles:20240627T063000
DTSTAMP:20260424T175451
CREATED:20240615T174258Z
LAST-MODIFIED:20240615T174258Z
UID:1928894-1719460800-1719469800@ramayogainstitute.com
SUMMARY:White Sun Sadhana
DESCRIPTION:TUNE IN\nDaily\, 4:00am-6:30am PST\nComplementary in person\nAnd on RA MA TV Community Content Channel \nMany spiritual traditions recognize the early morning hours of the day as a potent and powerful time for deep meditation. The White Sun Sadhana consists of Jap-Ji\, Yoga\, 62 minutes of chanting the Aquarian Sadhana Mantras. Sadhana is always complimentary and open to the public. All level welcome\, no previous experience necessary. \nThe front entrance is locked for this early morning practice. Please enter through the rear door\, 1729 21st Court\, which can be accessed via the back alley that runs parallel to 21st Street.
URL:https://ramayogainstitute.com/event/white-sun-sadhana-7/
LOCATION:Online
CATEGORIES:Community Content,In Person,RA MA TV Live
ATTACH;FMTTYPE=image/jpeg:https://ramayogainstitute.com/wp-content/uploads/2021/11/White-Sun-Sadhana-Album-Cover-2.jpg
END:VEVENT
BEGIN:VEVENT
DTSTART;TZID=America/Los_Angeles:20240628T040000
DTEND;TZID=America/Los_Angeles:20240628T063000
DTSTAMP:20260424T175451
CREATED:20240615T174355Z
LAST-MODIFIED:20240615T174355Z
UID:1928896-1719547200-1719556200@ramayogainstitute.com
SUMMARY:White Sun Sadhana
DESCRIPTION:TUNE IN\nDaily\, 4:00am-6:30am PST\nComplementary in person\nAnd on RA MA TV Community Content Channel \nMany spiritual traditions recognize the early morning hours of the day as a potent and powerful time for deep meditation. The White Sun Sadhana consists of Jap-Ji\, Yoga\, 62 minutes of chanting the Aquarian Sadhana Mantras. Sadhana is always complimentary and open to the public. All level welcome\, no previous experience necessary. \nThe front entrance is locked for this early morning practice. Please enter through the rear door\, 1729 21st Court\, which can be accessed via the back alley that runs parallel to 21st Street.
URL:https://ramayogainstitute.com/event/white-sun-sadhana-8/
LOCATION:Online
CATEGORIES:Community Content,In Person,RA MA TV Live
ATTACH;FMTTYPE=image/jpeg:https://ramayogainstitute.com/wp-content/uploads/2021/11/White-Sun-Sadhana-Album-Cover-2.jpg
END:VEVENT
BEGIN:VEVENT
DTSTART;TZID=America/Los_Angeles:20240629T040000
DTEND;TZID=America/Los_Angeles:20240629T063000
DTSTAMP:20260424T175451
CREATED:20240615T174838Z
LAST-MODIFIED:20240615T174838Z
UID:1928909-1719633600-1719642600@ramayogainstitute.com
SUMMARY:White Sun Sadhana
DESCRIPTION:TUNE IN\nDaily\, 4:00am-6:30am PST\nComplementary in person\nAnd on RA MA TV Community Content Channel \nMany spiritual traditions recognize the early morning hours of the day as a potent and powerful time for deep meditation. The White Sun Sadhana consists of Jap-Ji\, Yoga\, 62 minutes of chanting the Aquarian Sadhana Mantras. Sadhana is always complimentary and open to the public. All level welcome\, no previous experience necessary. \nThe front entrance is locked for this early morning practice. Please enter through the rear door\, 1729 21st Court\, which can be accessed via the back alley that runs parallel to 21st Street.
URL:https://ramayogainstitute.com/event/white-sun-sadhana-9/
LOCATION:Online
CATEGORIES:Community Content,In Person,RA MA TV Live
ATTACH;FMTTYPE=image/jpeg:https://ramayogainstitute.com/wp-content/uploads/2021/11/White-Sun-Sadhana-Album-Cover-2.jpg
END:VEVENT
BEGIN:VEVENT
DTSTART;TZID=America/Los_Angeles:20240630T040000
DTEND;TZID=America/Los_Angeles:20240630T063000
DTSTAMP:20260424T175451
CREATED:20240615T174912Z
LAST-MODIFIED:20240615T174912Z
UID:1928911-1719720000-1719729000@ramayogainstitute.com
SUMMARY:White Sun Sadhana
DESCRIPTION:TUNE IN\nDaily\, 4:00am-6:30am PST\nComplementary in person\nAnd on RA MA TV Community Content Channel \nMany spiritual traditions recognize the early morning hours of the day as a potent and powerful time for deep meditation. The White Sun Sadhana consists of Jap-Ji\, Yoga\, 62 minutes of chanting the Aquarian Sadhana Mantras. Sadhana is always complimentary and open to the public. All level welcome\, no previous experience necessary. \nThe front entrance is locked for this early morning practice. Please enter through the rear door\, 1729 21st Court\, which can be accessed via the back alley that runs parallel to 21st Street.
URL:https://ramayogainstitute.com/event/white-sun-sadhana-10/
LOCATION:Online
CATEGORIES:Community Content,In Person,RA MA TV Live
ATTACH;FMTTYPE=image/jpeg:https://ramayogainstitute.com/wp-content/uploads/2021/11/White-Sun-Sadhana-Album-Cover-2.jpg
END:VEVENT
END:VCALENDAR