BEGIN:VCALENDAR
VERSION:2.0
PRODID:-//RA MA LIFE - ECPv6.15.15//NONSGML v1.0//EN
CALSCALE:GREGORIAN
METHOD:PUBLISH
X-ORIGINAL-URL:https://ramayogainstitute.com
X-WR-CALDESC:Events for RA MA LIFE
REFRESH-INTERVAL;VALUE=DURATION:PT1H
X-Robots-Tag:noindex
X-PUBLISHED-TTL:PT1H
BEGIN:VTIMEZONE
TZID:America/Los_Angeles
BEGIN:DAYLIGHT
TZOFFSETFROM:-0800
TZOFFSETTO:-0700
TZNAME:PDT
DTSTART:20230312T100000
END:DAYLIGHT
BEGIN:STANDARD
TZOFFSETFROM:-0700
TZOFFSETTO:-0800
TZNAME:PST
DTSTART:20231105T090000
END:STANDARD
BEGIN:DAYLIGHT
TZOFFSETFROM:-0800
TZOFFSETTO:-0700
TZNAME:PDT
DTSTART:20240310T100000
END:DAYLIGHT
BEGIN:STANDARD
TZOFFSETFROM:-0700
TZOFFSETTO:-0800
TZNAME:PST
DTSTART:20241103T090000
END:STANDARD
BEGIN:DAYLIGHT
TZOFFSETFROM:-0800
TZOFFSETTO:-0700
TZNAME:PDT
DTSTART:20250309T100000
END:DAYLIGHT
BEGIN:STANDARD
TZOFFSETFROM:-0700
TZOFFSETTO:-0800
TZNAME:PST
DTSTART:20251102T090000
END:STANDARD
END:VTIMEZONE
BEGIN:VEVENT
DTSTART;TZID=America/Los_Angeles:20240617T040000
DTEND;TZID=America/Los_Angeles:20240617T063000
DTSTAMP:20260424T194601
CREATED:20240608T165600Z
LAST-MODIFIED:20240608T165600Z
UID:1927390-1718596800-1718605800@ramayogainstitute.com
SUMMARY:2.5 HOURS LONG EK ONG KAR GLOBAL SADHANA
DESCRIPTION:TUNE IN\n2.5 HOURS\nLONG EK ONG KAR\nGLOBAL SADHANA \nThe mantra\, Ek Ong Kar Sat Nam Siri Wahe Guru\, is one of the first mantras that Yogi Bhajan taught when he first came to the United States.  The mantra is often referred to as “Adi Shakti Mantra\,” “Morning Call\,” “Long Chant\,” and “Long Ek Ong Kar’s.” The sound current is an extremely powerful connection between individual consciousness and universal consciousness.  The cycle of the syllables works through all the chakras\, charges the solar centers\, and liberates us from the cycle of karma. \nJoin the Free Live Stream on RA MA TV from 4am – 6:30am pacific time. The daily video is available for 24 hours so you can chant in the morning hours of your time zone. \nSat Nam!
URL:https://ramayogainstitute.com/event/2-5-hours-long-ek-ong-kar-global-sadhana-41/2024-06-17/
LOCATION:Online
CATEGORIES:Community Content,In Person,RA MA TV Live
ATTACH;FMTTYPE=image/png:https://ramayogainstitute.com/wp-content/uploads/2024/04/Long-Ek-Ong-Kar-Social-Slides.png
END:VEVENT
BEGIN:VEVENT
DTSTART;TZID=America/Los_Angeles:20240618T040000
DTEND;TZID=America/Los_Angeles:20240618T063000
DTSTAMP:20260424T194601
CREATED:20240608T165741Z
LAST-MODIFIED:20240608T165741Z
UID:1927398-1718683200-1718692200@ramayogainstitute.com
SUMMARY:2.5 HOURS LONG EK ONG KAR GLOBAL SADHANA
DESCRIPTION:TUNE IN\n2.5 HOURS\nLONG EK ONG KAR\nGLOBAL SADHANA \nThe mantra\, Ek Ong Kar Sat Nam Siri Wahe Guru\, is one of the first mantras that Yogi Bhajan taught when he first came to the United States.  The mantra is often referred to as “Adi Shakti Mantra\,” “Morning Call\,” “Long Chant\,” and “Long Ek Ong Kar’s.” The sound current is an extremely powerful connection between individual consciousness and universal consciousness.  The cycle of the syllables works through all the chakras\, charges the solar centers\, and liberates us from the cycle of karma. \nJoin the Free Live Stream on RA MA TV from 4am – 6:30am pacific time. The daily video is available for 24 hours so you can chant in the morning hours of your time zone. \nSat Nam!
URL:https://ramayogainstitute.com/event/2-5-hours-long-ek-ong-kar-global-sadhana-42/2024-06-18/
LOCATION:Online
CATEGORIES:Community Content,In Person,RA MA TV Live
ATTACH;FMTTYPE=image/png:https://ramayogainstitute.com/wp-content/uploads/2024/04/Long-Ek-Ong-Kar-Social-Slides.png
END:VEVENT
BEGIN:VEVENT
DTSTART;TZID=America/Los_Angeles:20240619T040000
DTEND;TZID=America/Los_Angeles:20240619T063000
DTSTAMP:20260424T194601
CREATED:20240608T165828Z
LAST-MODIFIED:20240608T165828Z
UID:1927400-1718769600-1718778600@ramayogainstitute.com
SUMMARY:2.5 HOURS LONG EK ONG KAR GLOBAL SADHANA
DESCRIPTION:TUNE IN\n2.5 HOURS\nLONG EK ONG KAR\nGLOBAL SADHANA \nThe mantra\, Ek Ong Kar Sat Nam Siri Wahe Guru\, is one of the first mantras that Yogi Bhajan taught when he first came to the United States.  The mantra is often referred to as “Adi Shakti Mantra\,” “Morning Call\,” “Long Chant\,” and “Long Ek Ong Kar’s.” The sound current is an extremely powerful connection between individual consciousness and universal consciousness.  The cycle of the syllables works through all the chakras\, charges the solar centers\, and liberates us from the cycle of karma. \nJoin the Free Live Stream on RA MA TV from 4am – 6:30am pacific time. The daily video is available for 24 hours so you can chant in the morning hours of your time zone. \nSat Nam!
URL:https://ramayogainstitute.com/event/2-5-hours-long-ek-ong-kar-global-sadhana-43/2024-06-19/
LOCATION:Online
CATEGORIES:Community Content,In Person,RA MA TV Live
ATTACH;FMTTYPE=image/png:https://ramayogainstitute.com/wp-content/uploads/2024/04/Long-Ek-Ong-Kar-Social-Slides.png
END:VEVENT
BEGIN:VEVENT
DTSTART;TZID=America/Los_Angeles:20240620T040000
DTEND;TZID=America/Los_Angeles:20240620T063000
DTSTAMP:20260424T194601
CREATED:20240608T165946Z
LAST-MODIFIED:20240608T165946Z
UID:1927404-1718856000-1718865000@ramayogainstitute.com
SUMMARY:2.5 HOURS LONG EK ONG KAR GLOBAL SADHANA
DESCRIPTION:TUNE IN\n2.5 HOURS\nLONG EK ONG KAR\nGLOBAL SADHANA \nThe mantra\, Ek Ong Kar Sat Nam Siri Wahe Guru\, is one of the first mantras that Yogi Bhajan taught when he first came to the United States.  The mantra is often referred to as “Adi Shakti Mantra\,” “Morning Call\,” “Long Chant\,” and “Long Ek Ong Kar’s.” The sound current is an extremely powerful connection between individual consciousness and universal consciousness.  The cycle of the syllables works through all the chakras\, charges the solar centers\, and liberates us from the cycle of karma. \nJoin the Free Live Stream on RA MA TV from 4am – 6:30am pacific time. The daily video is available for 24 hours so you can chant in the morning hours of your time zone. \nSat Nam!
URL:https://ramayogainstitute.com/event/2-5-hours-long-ek-ong-kar-global-sadhana-44/2024-06-20/
LOCATION:Online
CATEGORIES:Community Content,In Person,RA MA TV Live
ATTACH;FMTTYPE=image/png:https://ramayogainstitute.com/wp-content/uploads/2024/04/Long-Ek-Ong-Kar-Social-Slides.png
END:VEVENT
BEGIN:VEVENT
DTSTART;TZID=America/Los_Angeles:20240621T040000
DTEND;TZID=America/Los_Angeles:20240621T063000
DTSTAMP:20260424T194601
CREATED:20240614T023909Z
LAST-MODIFIED:20240615T172307Z
UID:1928379-1718942400-1718951400@ramayogainstitute.com
SUMMARY:White Sun Sadhana
DESCRIPTION:TUNE IN\nDaily\, 4:00am-6:30am PST\nComplementary in person\nAnd on RA MA TV Community Content Channel \nMany spiritual traditions recognize the early morning hours of the day as a potent and powerful time for deep meditation. The White Sun Sadhana consists of Jap-Ji\, Yoga\, 62 minutes of chanting the Aquarian Sadhana Mantras. Sadhana is always complimentary and open to the public. All level welcome\, no previous experience necessary. \nThe front entrance is locked for this early morning practice. Please enter through the rear door\, 1729 21st Court\, which can be accessed via the back alley that runs parallel to 21st Street.
URL:https://ramayogainstitute.com/event/white-sun-sadhana/
LOCATION:Online
CATEGORIES:Community Content,In Person,RA MA TV Live
ATTACH;FMTTYPE=image/jpeg:https://ramayogainstitute.com/wp-content/uploads/2021/11/White-Sun-Sadhana-Album-Cover-2.jpg
END:VEVENT
BEGIN:VEVENT
DTSTART;TZID=America/Los_Angeles:20240621T121500
DTEND;TZID=America/Los_Angeles:20240621T123000
DTSTAMP:20260424T194601
CREATED:20240615T170301Z
LAST-MODIFIED:20240615T170301Z
UID:1928862-1718972100-1718973000@ramayogainstitute.com
SUMMARY:Looking Up| Capricorn Full Moon with Teg Prakash
DESCRIPTION:TUNE IN\nTeg Prakash is a Kundalini Yoga teacher\, astrologer\, and intuitive sound healer with a passionate curiosity for the teachings of Kundalini Yoga\, as taught by Yogi Bhajan\, and seeks to bring people to a true sense of their soul through astrology\, their personal power through yoga\, and their peace through the power of sound.
URL:https://ramayogainstitute.com/event/looking-up-capricorn-full-moon-with-teg-prakash/
LOCATION:Online
CATEGORIES:Community Content,In Person,RA MA TV Live
ATTACH;FMTTYPE=image/jpeg:https://ramayogainstitute.com/wp-content/uploads/2024/04/Teg_Prakash_4.22.24.jpeg
END:VEVENT
BEGIN:VEVENT
DTSTART;TZID=America/Los_Angeles:20240622T040000
DTEND;TZID=America/Los_Angeles:20240622T063000
DTSTAMP:20260424T194601
CREATED:20240614T024108Z
LAST-MODIFIED:20240615T172504Z
UID:1928382-1719028800-1719037800@ramayogainstitute.com
SUMMARY:White Sun Sadhana
DESCRIPTION:TUNE IN\nDaily\, 4:00am-6:30am PST\nComplementary in person\nAnd on RA MA TV Community Content Channel \nMany spiritual traditions recognize the early morning hours of the day as a potent and powerful time for deep meditation. The White Sun Sadhana consists of Jap-Ji\, Yoga\, 62 minutes of chanting the Aquarian Sadhana Mantras. Sadhana is always complimentary and open to the public. All level welcome\, no previous experience necessary. \nThe front entrance is locked for this early morning practice. Please enter through the rear door\, 1729 21st Court\, which can be accessed via the back alley that runs parallel to 21st Street.
URL:https://ramayogainstitute.com/event/white-sun-sadhana-2/
LOCATION:Online
CATEGORIES:Community Content,In Person,RA MA TV Live
ATTACH;FMTTYPE=image/jpeg:https://ramayogainstitute.com/wp-content/uploads/2021/11/White-Sun-Sadhana-Album-Cover-2.jpg
END:VEVENT
BEGIN:VEVENT
DTSTART;TZID=America/Los_Angeles:20240623T040000
DTEND;TZID=America/Los_Angeles:20240623T063000
DTSTAMP:20260424T194601
CREATED:20240614T024138Z
LAST-MODIFIED:20240615T172551Z
UID:1928385-1719115200-1719124200@ramayogainstitute.com
SUMMARY:White Sun Sadhana
DESCRIPTION:TUNE IN\nDaily\, 4:00am-6:30am PST\nComplementary in person\nAnd on RA MA TV Community Content Channel \nMany spiritual traditions recognize the early morning hours of the day as a potent and powerful time for deep meditation. The White Sun Sadhana consists of Jap-Ji\, Yoga\, 62 minutes of chanting the Aquarian Sadhana Mantras. Sadhana is always complimentary and open to the public. All level welcome\, no previous experience necessary. \nThe front entrance is locked for this early morning practice. Please enter through the rear door\, 1729 21st Court\, which can be accessed via the back alley that runs parallel to 21st Street.
URL:https://ramayogainstitute.com/event/white-sun-sadhana-3/2024-06-23/
LOCATION:Online
CATEGORIES:Community Content,In Person,RA MA TV Live
ATTACH;FMTTYPE=image/jpeg:https://ramayogainstitute.com/wp-content/uploads/2021/11/White-Sun-Sadhana-Album-Cover-2.jpg
END:VEVENT
END:VCALENDAR