BEGIN:VCALENDAR
VERSION:2.0
PRODID:-//RA MA LIFE - ECPv6.15.15//NONSGML v1.0//EN
CALSCALE:GREGORIAN
METHOD:PUBLISH
X-ORIGINAL-URL:https://ramayogainstitute.com
X-WR-CALDESC:Events for RA MA LIFE
REFRESH-INTERVAL;VALUE=DURATION:PT1H
X-Robots-Tag:noindex
X-PUBLISHED-TTL:PT1H
BEGIN:VTIMEZONE
TZID:America/Los_Angeles
BEGIN:DAYLIGHT
TZOFFSETFROM:-0800
TZOFFSETTO:-0700
TZNAME:PDT
DTSTART:20230312T100000
END:DAYLIGHT
BEGIN:STANDARD
TZOFFSETFROM:-0700
TZOFFSETTO:-0800
TZNAME:PST
DTSTART:20231105T090000
END:STANDARD
BEGIN:DAYLIGHT
TZOFFSETFROM:-0800
TZOFFSETTO:-0700
TZNAME:PDT
DTSTART:20240310T100000
END:DAYLIGHT
BEGIN:STANDARD
TZOFFSETFROM:-0700
TZOFFSETTO:-0800
TZNAME:PST
DTSTART:20241103T090000
END:STANDARD
BEGIN:DAYLIGHT
TZOFFSETFROM:-0800
TZOFFSETTO:-0700
TZNAME:PDT
DTSTART:20250309T100000
END:DAYLIGHT
BEGIN:STANDARD
TZOFFSETFROM:-0700
TZOFFSETTO:-0800
TZNAME:PST
DTSTART:20251102T090000
END:STANDARD
END:VTIMEZONE
BEGIN:VEVENT
DTSTART;TZID=America/Los_Angeles:20240603T040000
DTEND;TZID=America/Los_Angeles:20240603T063000
DTSTAMP:20260424T194659
CREATED:20240524T022652Z
LAST-MODIFIED:20240524T022652Z
UID:1922893-1717387200-1717396200@ramayogainstitute.com
SUMMARY:2.5 HOURS LONG EK ONG KAR GLOBAL SADHANA
DESCRIPTION:TUNE IN\n2.5 HOURS\nLONG EK ONG KAR\nGLOBAL SADHANA \nThe mantra\, Ek Ong Kar Sat Nam Siri Wahe Guru\, is one of the first mantras that Yogi Bhajan taught when he first came to the United States.  The mantra is often referred to as “Adi Shakti Mantra\,” “Morning Call\,” “Long Chant\,” and “Long Ek Ong Kar’s.” The sound current is an extremely powerful connection between individual consciousness and universal consciousness.  The cycle of the syllables works through all the chakras\, charges the solar centers\, and liberates us from the cycle of karma. \nJoin the Free Live Stream on RA MA TV from 4am – 6:30am pacific time. The daily video is available for 24 hours so you can chant in the morning hours of your time zone. \nSat Nam!
URL:https://ramayogainstitute.com/event/2-5-hours-long-ek-ong-kar-global-sadhana-27/2024-06-03/
LOCATION:Online
CATEGORIES:Community Content,In Person,RA MA TV Live
ATTACH;FMTTYPE=image/png:https://ramayogainstitute.com/wp-content/uploads/2024/04/Long-Ek-Ong-Kar-Social-Slides.png
END:VEVENT
BEGIN:VEVENT
DTSTART;TZID=America/Los_Angeles:20240604T040000
DTEND;TZID=America/Los_Angeles:20240604T063000
DTSTAMP:20260424T194659
CREATED:20240524T023042Z
LAST-MODIFIED:20240524T023042Z
UID:1922895-1717473600-1717482600@ramayogainstitute.com
SUMMARY:2.5 HOURS LONG EK ONG KAR GLOBAL SADHANA
DESCRIPTION:TUNE IN\n2.5 HOURS\nLONG EK ONG KAR\nGLOBAL SADHANA \nThe mantra\, Ek Ong Kar Sat Nam Siri Wahe Guru\, is one of the first mantras that Yogi Bhajan taught when he first came to the United States.  The mantra is often referred to as “Adi Shakti Mantra\,” “Morning Call\,” “Long Chant\,” and “Long Ek Ong Kar’s.” The sound current is an extremely powerful connection between individual consciousness and universal consciousness.  The cycle of the syllables works through all the chakras\, charges the solar centers\, and liberates us from the cycle of karma. \nJoin the Free Live Stream on RA MA TV from 4am – 6:30am pacific time. The daily video is available for 24 hours so you can chant in the morning hours of your time zone. \nSat Nam!
URL:https://ramayogainstitute.com/event/2-5-hours-long-ek-ong-kar-global-sadhana-28/2024-06-04/
LOCATION:Online
CATEGORIES:Community Content,In Person,RA MA TV Live
ATTACH;FMTTYPE=image/png:https://ramayogainstitute.com/wp-content/uploads/2024/04/Long-Ek-Ong-Kar-Social-Slides.png
END:VEVENT
BEGIN:VEVENT
DTSTART;TZID=America/Los_Angeles:20240605T040000
DTEND;TZID=America/Los_Angeles:20240605T063000
DTSTAMP:20260424T194659
CREATED:20240524T023120Z
LAST-MODIFIED:20240524T023120Z
UID:1922901-1717560000-1717569000@ramayogainstitute.com
SUMMARY:2.5 HOURS LONG EK ONG KAR GLOBAL SADHANA
DESCRIPTION:TUNE IN\n2.5 HOURS\nLONG EK ONG KAR\nGLOBAL SADHANA \nThe mantra\, Ek Ong Kar Sat Nam Siri Wahe Guru\, is one of the first mantras that Yogi Bhajan taught when he first came to the United States.  The mantra is often referred to as “Adi Shakti Mantra\,” “Morning Call\,” “Long Chant\,” and “Long Ek Ong Kar’s.” The sound current is an extremely powerful connection between individual consciousness and universal consciousness.  The cycle of the syllables works through all the chakras\, charges the solar centers\, and liberates us from the cycle of karma. \nJoin the Free Live Stream on RA MA TV from 4am – 6:30am pacific time. The daily video is available for 24 hours so you can chant in the morning hours of your time zone. \nSat Nam!
URL:https://ramayogainstitute.com/event/2-5-hours-long-ek-ong-kar-global-sadhana-29/2024-06-05/
LOCATION:Online
CATEGORIES:Community Content,In Person,RA MA TV Live
ATTACH;FMTTYPE=image/png:https://ramayogainstitute.com/wp-content/uploads/2024/04/Long-Ek-Ong-Kar-Social-Slides.png
END:VEVENT
BEGIN:VEVENT
DTSTART;TZID=America/Los_Angeles:20240606T040000
DTEND;TZID=America/Los_Angeles:20240606T063000
DTSTAMP:20260424T194659
CREATED:20240524T023149Z
LAST-MODIFIED:20240524T023149Z
UID:1922903-1717646400-1717655400@ramayogainstitute.com
SUMMARY:2.5 HOURS LONG EK ONG KAR GLOBAL SADHANA
DESCRIPTION:TUNE IN\n2.5 HOURS\nLONG EK ONG KAR\nGLOBAL SADHANA \nThe mantra\, Ek Ong Kar Sat Nam Siri Wahe Guru\, is one of the first mantras that Yogi Bhajan taught when he first came to the United States.  The mantra is often referred to as “Adi Shakti Mantra\,” “Morning Call\,” “Long Chant\,” and “Long Ek Ong Kar’s.” The sound current is an extremely powerful connection between individual consciousness and universal consciousness.  The cycle of the syllables works through all the chakras\, charges the solar centers\, and liberates us from the cycle of karma. \nJoin the Free Live Stream on RA MA TV from 4am – 6:30am pacific time. The daily video is available for 24 hours so you can chant in the morning hours of your time zone. \nSat Nam!
URL:https://ramayogainstitute.com/event/2-5-hours-long-ek-ong-kar-global-sadhana-30/2024-06-06/
LOCATION:Online
CATEGORIES:Community Content,In Person,RA MA TV Live
ATTACH;FMTTYPE=image/png:https://ramayogainstitute.com/wp-content/uploads/2024/04/Long-Ek-Ong-Kar-Social-Slides.png
END:VEVENT
BEGIN:VEVENT
DTSTART;TZID=America/Los_Angeles:20240606T121500
DTEND;TZID=America/Los_Angeles:20240606T124500
DTSTAMP:20260424T194659
CREATED:20240530T164733Z
LAST-MODIFIED:20240530T164733Z
UID:1924759-1717676100-1717677900@ramayogainstitute.com
SUMMARY:Looking Up| Gemini New Moon Astrology with Teg Prakash
DESCRIPTION:TUNE IN\nTeg Prakash is a Kundalini Yoga teacher\, astrologer\, and intuitive sound healer with a passionate curiosity for the teachings of Kundalini Yoga\, as taught by Yogi Bhajan\, and seeks to bring people to a true sense of their soul through astrology\, their personal power through yoga\, and their peace through the power of sound. \n 
URL:https://ramayogainstitute.com/event/looking-up-gemini-new-moon-astrology-with-teg-prakash/
LOCATION:Online
CATEGORIES:Community Content,In Person,RA MA TV Live
ATTACH;FMTTYPE=image/jpeg:https://ramayogainstitute.com/wp-content/uploads/2024/04/teg_prakash_scorpio_looking_up.jpg
END:VEVENT
BEGIN:VEVENT
DTSTART;TZID=America/Los_Angeles:20240607T030000
DTEND;TZID=America/Los_Angeles:20240607T033000
DTSTAMP:20260424T194659
CREATED:20240531T182803Z
LAST-MODIFIED:20240601T155153Z
UID:1924988-1717729200-1717731000@ramayogainstitute.com
SUMMARY:ASTROLOGY FORECAST FOR JUNE with Magdalena
DESCRIPTION:TUNE IN\nAstrology Forecast for June
URL:https://ramayogainstitute.com/event/astrology-forecast-for-june-with-magdalena/
LOCATION:RA MA Mallorca & Online
CATEGORIES:Community Content,In Person,RA MA TV Live
ATTACH;FMTTYPE=image/jpeg:https://ramayogainstitute.com/wp-content/uploads/2020/12/MAGDALENA_Mallorca_Header.jpg
END:VEVENT
BEGIN:VEVENT
DTSTART;TZID=America/Los_Angeles:20240607T040000
DTEND;TZID=America/Los_Angeles:20240607T063000
DTSTAMP:20260424T194659
CREATED:20240524T023259Z
LAST-MODIFIED:20240524T023259Z
UID:1922905-1717732800-1717741800@ramayogainstitute.com
SUMMARY:2.5 HOURS LONG EK ONG KAR GLOBAL SADHANA
DESCRIPTION:TUNE IN\n2.5 HOURS\nLONG EK ONG KAR\nGLOBAL SADHANA \nThe mantra\, Ek Ong Kar Sat Nam Siri Wahe Guru\, is one of the first mantras that Yogi Bhajan taught when he first came to the United States.  The mantra is often referred to as “Adi Shakti Mantra\,” “Morning Call\,” “Long Chant\,” and “Long Ek Ong Kar’s.” The sound current is an extremely powerful connection between individual consciousness and universal consciousness.  The cycle of the syllables works through all the chakras\, charges the solar centers\, and liberates us from the cycle of karma. \nJoin the Free Live Stream on RA MA TV from 4am – 6:30am pacific time. The daily video is available for 24 hours so you can chant in the morning hours of your time zone. \nSat Nam!
URL:https://ramayogainstitute.com/event/2-5-hours-long-ek-ong-kar-global-sadhana-31/2024-06-07/
LOCATION:Online
CATEGORIES:Community Content,In Person,RA MA TV Live
ATTACH;FMTTYPE=image/png:https://ramayogainstitute.com/wp-content/uploads/2024/04/Long-Ek-Ong-Kar-Social-Slides.png
END:VEVENT
BEGIN:VEVENT
DTSTART;TZID=America/Los_Angeles:20240608T040000
DTEND;TZID=America/Los_Angeles:20240608T063000
DTSTAMP:20260424T194659
CREATED:20240524T023334Z
LAST-MODIFIED:20240524T023334Z
UID:1922907-1717819200-1717828200@ramayogainstitute.com
SUMMARY:2.5 HOURS LONG EK ONG KAR GLOBAL SADHANA
DESCRIPTION:TUNE IN\n2.5 HOURS\nLONG EK ONG KAR\nGLOBAL SADHANA \nThe mantra\, Ek Ong Kar Sat Nam Siri Wahe Guru\, is one of the first mantras that Yogi Bhajan taught when he first came to the United States.  The mantra is often referred to as “Adi Shakti Mantra\,” “Morning Call\,” “Long Chant\,” and “Long Ek Ong Kar’s.” The sound current is an extremely powerful connection between individual consciousness and universal consciousness.  The cycle of the syllables works through all the chakras\, charges the solar centers\, and liberates us from the cycle of karma. \nJoin the Free Live Stream on RA MA TV from 4am – 6:30am pacific time. The daily video is available for 24 hours so you can chant in the morning hours of your time zone. \nSat Nam!
URL:https://ramayogainstitute.com/event/2-5-hours-long-ek-ong-kar-global-sadhana-32/2024-06-08/
LOCATION:Online
CATEGORIES:Community Content,In Person,RA MA TV Live
ATTACH;FMTTYPE=image/png:https://ramayogainstitute.com/wp-content/uploads/2024/04/Long-Ek-Ong-Kar-Social-Slides.png
END:VEVENT
BEGIN:VEVENT
DTSTART;TZID=America/Los_Angeles:20240609T040000
DTEND;TZID=America/Los_Angeles:20240609T063000
DTSTAMP:20260424T194659
CREATED:20240524T023413Z
LAST-MODIFIED:20240524T023413Z
UID:1922909-1717905600-1717914600@ramayogainstitute.com
SUMMARY:2.5 HOURS LONG EK ONG KAR GLOBAL SADHANA
DESCRIPTION:TUNE IN\n2.5 HOURS\nLONG EK ONG KAR\nGLOBAL SADHANA \nThe mantra\, Ek Ong Kar Sat Nam Siri Wahe Guru\, is one of the first mantras that Yogi Bhajan taught when he first came to the United States.  The mantra is often referred to as “Adi Shakti Mantra\,” “Morning Call\,” “Long Chant\,” and “Long Ek Ong Kar’s.” The sound current is an extremely powerful connection between individual consciousness and universal consciousness.  The cycle of the syllables works through all the chakras\, charges the solar centers\, and liberates us from the cycle of karma. \nJoin the Free Live Stream on RA MA TV from 4am – 6:30am pacific time. The daily video is available for 24 hours so you can chant in the morning hours of your time zone. \nSat Nam!
URL:https://ramayogainstitute.com/event/2-5-hours-long-ek-ong-kar-global-sadhana-33/2024-06-09/
LOCATION:Online
CATEGORIES:Community Content,In Person,RA MA TV Live
ATTACH;FMTTYPE=image/png:https://ramayogainstitute.com/wp-content/uploads/2024/04/Long-Ek-Ong-Kar-Social-Slides.png
END:VEVENT
END:VCALENDAR