BEGIN:VCALENDAR
VERSION:2.0
PRODID:-//RA MA LIFE - ECPv6.15.15//NONSGML v1.0//EN
CALSCALE:GREGORIAN
METHOD:PUBLISH
X-WR-CALNAME:RA MA LIFE
X-ORIGINAL-URL:https://ramayogainstitute.com
X-WR-CALDESC:Events for RA MA LIFE
REFRESH-INTERVAL;VALUE=DURATION:PT1H
X-Robots-Tag:noindex
X-PUBLISHED-TTL:PT1H
BEGIN:VTIMEZONE
TZID:America/Los_Angeles
BEGIN:DAYLIGHT
TZOFFSETFROM:-0800
TZOFFSETTO:-0700
TZNAME:PDT
DTSTART:20230312T100000
END:DAYLIGHT
BEGIN:STANDARD
TZOFFSETFROM:-0700
TZOFFSETTO:-0800
TZNAME:PST
DTSTART:20231105T090000
END:STANDARD
BEGIN:DAYLIGHT
TZOFFSETFROM:-0800
TZOFFSETTO:-0700
TZNAME:PDT
DTSTART:20240310T100000
END:DAYLIGHT
BEGIN:STANDARD
TZOFFSETFROM:-0700
TZOFFSETTO:-0800
TZNAME:PST
DTSTART:20241103T090000
END:STANDARD
BEGIN:DAYLIGHT
TZOFFSETFROM:-0800
TZOFFSETTO:-0700
TZNAME:PDT
DTSTART:20250309T100000
END:DAYLIGHT
BEGIN:STANDARD
TZOFFSETFROM:-0700
TZOFFSETTO:-0800
TZNAME:PST
DTSTART:20251102T090000
END:STANDARD
END:VTIMEZONE
BEGIN:VEVENT
DTSTART;TZID=America/Los_Angeles:20240407T040000
DTEND;TZID=America/Los_Angeles:20240407T070000
DTSTAMP:20260425T085221
CREATED:20240329T040345Z
LAST-MODIFIED:20240329T040345Z
UID:1908994-1712462400-1712473200@ramayogainstitute.com
SUMMARY:RA MA Sadhana
DESCRIPTION:TUNE IN \nJoin RA MA CREW for  Complimentary 2.5 Hours Guru Ram Das Meditation .
URL:https://ramayogainstitute.com/event/ra-ma-sadhana-10/
LOCATION:Online
CATEGORIES:Community Content,In Person,RA MA TV Live
ATTACH;FMTTYPE=image/jpeg:https://ramayogainstitute.com/wp-content/uploads/2023/08/RAMA_Sadhana_Los_Angeles.jpg
END:VEVENT
BEGIN:VEVENT
DTSTART;TZID=America/Los_Angeles:20240407T074500
DTEND;TZID=America/Los_Angeles:20240407T083000
DTSTAMP:20260425T085221
CREATED:20221023T082553Z
LAST-MODIFIED:20240405T180301Z
UID:1859679-1712475900-1712478600@ramayogainstitute.com
SUMMARY:Long Life Meditation with Siri Shakti
DESCRIPTION:TUNE IN
URL:https://ramayogainstitute.com/event/long-life-meditation-with-santosh-2024-04-07/
LOCATION:Online
CATEGORIES:Community Content,In Person,RA MA TV Live
ATTACH;FMTTYPE=image/jpeg:https://ramayogainstitute.com/wp-content/uploads/2021/08/Dr.-Siri-Shakti.jpg
END:VEVENT
BEGIN:VEVENT
DTSTART;TZID=America/Los_Angeles:20240408T010000
DTEND;TZID=America/Los_Angeles:20240408T040000
DTSTAMP:20260425T085221
CREATED:20240408T045340Z
LAST-MODIFIED:20240408T045340Z
UID:1911708-1712538000-1712548800@ramayogainstitute.com
SUMMARY:SOLAR ECLIPSE SPECIAL SADHANA with RA MA NYC CREW
DESCRIPTION:TUNE IN \n2.5 Guru Ram Das Healing Meditation
URL:https://ramayogainstitute.com/event/solar-eclipse-special-sadhana-with-ra-ma-nyc-crew/
LOCATION:RA MA New York & Online
CATEGORIES:Community Content,In Person,RA MA TV Live
ATTACH;FMTTYPE=image/jpeg:https://ramayogainstitute.com/wp-content/uploads/2023/08/RAMA_Sadhana_New_York.jpg
END:VEVENT
BEGIN:VEVENT
DTSTART;TZID=America/Los_Angeles:20240408T040000
DTEND;TZID=America/Los_Angeles:20240408T070000
DTSTAMP:20260425T085221
CREATED:20240329T040413Z
LAST-MODIFIED:20240408T050458Z
UID:1908996-1712548800-1712559600@ramayogainstitute.com
SUMMARY:SOLAR ECLIPSE SPECIAL  SADHANA
DESCRIPTION:TUNE IN \nJoin RA MA CREW for  Complimentary 2.5 Hours Guru Ram Das Meditation .
URL:https://ramayogainstitute.com/event/ra-ma-sadhana-11/
LOCATION:Online
CATEGORIES:Community Content,In Person,RA MA TV Live
ATTACH;FMTTYPE=image/jpeg:https://ramayogainstitute.com/wp-content/uploads/2023/08/RAMA_Sadhana_Los_Angeles.jpg
END:VEVENT
BEGIN:VEVENT
DTSTART;TZID=America/Los_Angeles:20240409T040000
DTEND;TZID=America/Los_Angeles:20240409T070000
DTSTAMP:20260425T085221
CREATED:20240408T044244Z
LAST-MODIFIED:20240408T044244Z
UID:1911693-1712635200-1712646000@ramayogainstitute.com
SUMMARY:RA MA Sadhana
DESCRIPTION:TUNE IN \nJoin RA MA CREW for  Complimentary 2.5 Hours Guru Ram Das Meditation .
URL:https://ramayogainstitute.com/event/ra-ma-sadhana-12/2024-04-09/
LOCATION:Online
CATEGORIES:Community Content,In Person,RA MA TV Live
ATTACH;FMTTYPE=image/jpeg:https://ramayogainstitute.com/wp-content/uploads/2023/08/RAMA_Sadhana_Los_Angeles.jpg
END:VEVENT
BEGIN:VEVENT
DTSTART;TZID=America/Los_Angeles:20240410T040000
DTEND;TZID=America/Los_Angeles:20240410T070000
DTSTAMP:20260425T085221
CREATED:20240408T044350Z
LAST-MODIFIED:20240408T044350Z
UID:1911695-1712721600-1712732400@ramayogainstitute.com
SUMMARY:RA MA Sadhana
DESCRIPTION:TUNE IN \nJoin RA MA CREW for  Complimentary 2.5 Hours Guru Ram Das Meditation .
URL:https://ramayogainstitute.com/event/ra-ma-sadhana-13/2024-04-10/
LOCATION:Online
CATEGORIES:Community Content,In Person,RA MA TV Live
ATTACH;FMTTYPE=image/jpeg:https://ramayogainstitute.com/wp-content/uploads/2023/08/RAMA_Sadhana_Los_Angeles.jpg
END:VEVENT
BEGIN:VEVENT
DTSTART;TZID=America/Los_Angeles:20240411T040000
DTEND;TZID=America/Los_Angeles:20240411T070000
DTSTAMP:20260425T085221
CREATED:20240408T044432Z
LAST-MODIFIED:20240408T044432Z
UID:1911697-1712808000-1712818800@ramayogainstitute.com
SUMMARY:RA MA Sadhana
DESCRIPTION:TUNE IN \nJoin RA MA CREW for  Complimentary 2.5 Hours Guru Ram Das Meditation .
URL:https://ramayogainstitute.com/event/ra-ma-sadhana-14/2024-04-11/
LOCATION:Online
CATEGORIES:Community Content,In Person,RA MA TV Live
ATTACH;FMTTYPE=image/jpeg:https://ramayogainstitute.com/wp-content/uploads/2023/08/RAMA_Sadhana_Los_Angeles.jpg
END:VEVENT
BEGIN:VEVENT
DTSTART;TZID=America/Los_Angeles:20240412T040000
DTEND;TZID=America/Los_Angeles:20240412T070000
DTSTAMP:20260425T085221
CREATED:20240408T044546Z
LAST-MODIFIED:20240408T044546Z
UID:1911699-1712894400-1712905200@ramayogainstitute.com
SUMMARY:RA MA Sadhana
DESCRIPTION:TUNE IN \nJoin RA MA CREW for  Complimentary 2.5 Hours Guru Ram Das Meditation .
URL:https://ramayogainstitute.com/event/ra-ma-sadhana-15/2024-04-12/
LOCATION:Online
CATEGORIES:Community Content,In Person,RA MA TV Live
ATTACH;FMTTYPE=image/jpeg:https://ramayogainstitute.com/wp-content/uploads/2023/08/RAMA_Sadhana_Los_Angeles.jpg
END:VEVENT
BEGIN:VEVENT
DTSTART;TZID=America/Los_Angeles:20240413T040000
DTEND;TZID=America/Los_Angeles:20240413T070000
DTSTAMP:20260425T085221
CREATED:20240408T044626Z
LAST-MODIFIED:20240408T044626Z
UID:1911701-1712980800-1712991600@ramayogainstitute.com
SUMMARY:RA MA Sadhana
DESCRIPTION:TUNE IN \nJoin RA MA CREW for  Complimentary 2.5 Hours Guru Ram Das Meditation .
URL:https://ramayogainstitute.com/event/ra-ma-sadhana-16/2024-04-13/
LOCATION:Online
CATEGORIES:Community Content,In Person,RA MA TV Live
ATTACH;FMTTYPE=image/jpeg:https://ramayogainstitute.com/wp-content/uploads/2023/08/RAMA_Sadhana_Los_Angeles.jpg
END:VEVENT
BEGIN:VEVENT
DTSTART;TZID=America/Los_Angeles:20240414T040000
DTEND;TZID=America/Los_Angeles:20240414T070000
DTSTAMP:20260425T085221
CREATED:20240408T044705Z
LAST-MODIFIED:20240408T044705Z
UID:1911703-1713067200-1713078000@ramayogainstitute.com
SUMMARY:RA MA Sadhana
DESCRIPTION:TUNE IN \nJoin RA MA CREW for  Complimentary 2.5 Hours Guru Ram Das Meditation .
URL:https://ramayogainstitute.com/event/ra-ma-sadhana-17/2024-04-14/
LOCATION:Online
CATEGORIES:Community Content,In Person,RA MA TV Live
ATTACH;FMTTYPE=image/jpeg:https://ramayogainstitute.com/wp-content/uploads/2023/08/RAMA_Sadhana_Los_Angeles.jpg
END:VEVENT
BEGIN:VEVENT
DTSTART;TZID=America/Los_Angeles:20240415T040000
DTEND;TZID=America/Los_Angeles:20240415T070000
DTSTAMP:20260425T085221
CREATED:20240408T044749Z
LAST-MODIFIED:20240408T044749Z
UID:1911705-1713153600-1713164400@ramayogainstitute.com
SUMMARY:RA MA Sadhana
DESCRIPTION:TUNE IN \nJoin RA MA CREW for  Complimentary 2.5 Hours Guru Ram Das Meditation .
URL:https://ramayogainstitute.com/event/ra-ma-sadhana-18/
LOCATION:Online
CATEGORIES:Community Content,In Person,RA MA TV Live
ATTACH;FMTTYPE=image/jpeg:https://ramayogainstitute.com/wp-content/uploads/2023/08/RAMA_Sadhana_Los_Angeles.jpg
END:VEVENT
BEGIN:VEVENT
DTSTART;TZID=America/Los_Angeles:20240416T040000
DTEND;TZID=America/Los_Angeles:20240416T070000
DTSTAMP:20260425T085221
CREATED:20240408T200944Z
LAST-MODIFIED:20240408T200944Z
UID:1912037-1713240000-1713250800@ramayogainstitute.com
SUMMARY:RA MA Sadhana
DESCRIPTION:TUNE IN \nJoin RA MA CREW for  Complimentary 2.5 Hours Guru Ram Das Meditation .
URL:https://ramayogainstitute.com/event/ra-ma-sadhana-19/
LOCATION:Online
CATEGORIES:Community Content,In Person,RA MA TV Live
ATTACH;FMTTYPE=image/jpeg:https://ramayogainstitute.com/wp-content/uploads/2023/08/RAMA_Sadhana_Los_Angeles.jpg
END:VEVENT
BEGIN:VEVENT
DTSTART;TZID=America/Los_Angeles:20240417T040000
DTEND;TZID=America/Los_Angeles:20240417T070000
DTSTAMP:20260425T085221
CREATED:20240408T201232Z
LAST-MODIFIED:20240417T042733Z
UID:1912042-1713326400-1713337200@ramayogainstitute.com
SUMMARY:RA MA Sadhana
DESCRIPTION:TUNE IN \nJoin RA MA CREW for  Complimentary 2.5 Hours Guru Ram Das Meditation .
URL:https://ramayogainstitute.com/event/ra-ma-sadhana-20/
LOCATION:Online on RA MA TV
CATEGORIES:Community Content,RA MA TV Live
ATTACH;FMTTYPE=image/jpeg:https://ramayogainstitute.com/wp-content/uploads/2023/08/RAMA_Sadhana_Los_Angeles.jpg
END:VEVENT
BEGIN:VEVENT
DTSTART;TZID=America/Los_Angeles:20240418T040000
DTEND;TZID=America/Los_Angeles:20240418T070000
DTSTAMP:20260425T085221
CREATED:20240408T201315Z
LAST-MODIFIED:20240408T201315Z
UID:1912045-1713412800-1713423600@ramayogainstitute.com
SUMMARY:RA MA Sadhana
DESCRIPTION:TUNE IN \nJoin RA MA CREW for  Complimentary 2.5 Hours Guru Ram Das Meditation .
URL:https://ramayogainstitute.com/event/ra-ma-sadhana-21/2024-04-18/
LOCATION:Online
CATEGORIES:Community Content,In Person,RA MA TV Live
ATTACH;FMTTYPE=image/jpeg:https://ramayogainstitute.com/wp-content/uploads/2023/08/RAMA_Sadhana_Los_Angeles.jpg
END:VEVENT
BEGIN:VEVENT
DTSTART;TZID=America/Los_Angeles:20240419T040000
DTEND;TZID=America/Los_Angeles:20240419T070000
DTSTAMP:20260425T085221
CREATED:20240408T201527Z
LAST-MODIFIED:20240408T201527Z
UID:1912052-1713499200-1713510000@ramayogainstitute.com
SUMMARY:RA MA Sadhana
DESCRIPTION:TUNE IN \nJoin RA MA CREW for  Complimentary 2.5 Hours Guru Ram Das Meditation .
URL:https://ramayogainstitute.com/event/ra-ma-sadhana-22/2024-04-19/
LOCATION:Online
CATEGORIES:Community Content,In Person,RA MA TV Live
ATTACH;FMTTYPE=image/jpeg:https://ramayogainstitute.com/wp-content/uploads/2023/08/RAMA_Sadhana_Los_Angeles.jpg
END:VEVENT
BEGIN:VEVENT
DTSTART;TZID=America/Los_Angeles:20240420T040000
DTEND;TZID=America/Los_Angeles:20240420T070000
DTSTAMP:20260425T085221
CREATED:20240408T201606Z
LAST-MODIFIED:20240408T201606Z
UID:1912056-1713585600-1713596400@ramayogainstitute.com
SUMMARY:RA MA Sadhana
DESCRIPTION:TUNE IN \nJoin RA MA CREW for  Complimentary 2.5 Hours Guru Ram Das Meditation .
URL:https://ramayogainstitute.com/event/ra-ma-sadhana-23/2024-04-20/
LOCATION:Online
CATEGORIES:Community Content,In Person,RA MA TV Live
ATTACH;FMTTYPE=image/jpeg:https://ramayogainstitute.com/wp-content/uploads/2023/08/RAMA_Sadhana_Los_Angeles.jpg
END:VEVENT
BEGIN:VEVENT
DTSTART;TZID=America/Los_Angeles:20240421T040000
DTEND;TZID=America/Los_Angeles:20240421T070000
DTSTAMP:20260425T085221
CREATED:20240408T201730Z
LAST-MODIFIED:20240408T201730Z
UID:1912061-1713672000-1713682800@ramayogainstitute.com
SUMMARY:RA MA Sadhana
DESCRIPTION:TUNE IN \nJoin RA MA CREW for  Complimentary 2.5 Hours Guru Ram Das Meditation .
URL:https://ramayogainstitute.com/event/ra-ma-sadhana-24/2024-04-21/
LOCATION:Online
CATEGORIES:Community Content,In Person,RA MA TV Live
ATTACH;FMTTYPE=image/jpeg:https://ramayogainstitute.com/wp-content/uploads/2023/08/RAMA_Sadhana_Los_Angeles.jpg
END:VEVENT
BEGIN:VEVENT
DTSTART;TZID=America/Los_Angeles:20240422T040000
DTEND;TZID=America/Los_Angeles:20240422T063000
DTSTAMP:20260425T085221
CREATED:20240422T033440Z
LAST-MODIFIED:20240422T033440Z
UID:1915350-1713758400-1713767400@ramayogainstitute.com
SUMMARY:AQUARIAN SADHANA
DESCRIPTION:TUNE IN\n  \nKundalini Yoga Sadhana is the pillar and foundation of a strong practice. \nFrom 4am – 6:30am: Japji\, Yoga \, and then chant a specific sequence of mantras for 62 minutes. \nIt is said that practicing yoga and meditation before the sun rises has exponential benefits.
URL:https://ramayogainstitute.com/event/aquarian-sadhana/2024-04-22/
LOCATION:Online
CATEGORIES:Community Content,In Person,RA MA TV Live
ATTACH;FMTTYPE=image/jpeg:https://ramayogainstitute.com/wp-content/uploads/2021/11/White-Sun-Sadhana-Album-Cover-2.jpg
END:VEVENT
BEGIN:VEVENT
DTSTART;TZID=America/Los_Angeles:20240423T040000
DTEND;TZID=America/Los_Angeles:20240423T063000
DTSTAMP:20260425T085221
CREATED:20240422T033543Z
LAST-MODIFIED:20240422T033543Z
UID:1915355-1713844800-1713853800@ramayogainstitute.com
SUMMARY:AQUARIAN SADHANA
DESCRIPTION:TUNE IN\n  \nKundalini Yoga Sadhana is the pillar and foundation of a strong practice. \nFrom 4am – 6:30am: Japji\, Yoga \, and then chant a specific sequence of mantras for 62 minutes. \nIt is said that practicing yoga and meditation before the sun rises has exponential benefits.
URL:https://ramayogainstitute.com/event/aquarian-sadhana-2/2024-04-23/
LOCATION:Online
CATEGORIES:Community Content,In Person,RA MA TV Live
ATTACH;FMTTYPE=image/jpeg:https://ramayogainstitute.com/wp-content/uploads/2021/11/White-Sun-Sadhana-Album-Cover-2.jpg
END:VEVENT
BEGIN:VEVENT
DTSTART;TZID=America/Los_Angeles:20240423T121500
DTEND;TZID=America/Los_Angeles:20240423T124500
DTSTAMP:20260425T085221
CREATED:20240419T165122Z
LAST-MODIFIED:20240419T165122Z
UID:1914917-1713874500-1713876300@ramayogainstitute.com
SUMMARY:Looking up| Full Moon in Scorpio Astrology with Teg Prakash
DESCRIPTION:TUNE IN\nTeg Prakash is a Kundalini Yoga teacher\, astrologer\, and intuitive sound healer with a passionate curiosity for the teachings of Kundalini Yoga\, as taught by Yogi Bhajan\, and seeks to bring people to a true sense of their soul through astrology\, their personal power through yoga\, and their peace through the power of sound.
URL:https://ramayogainstitute.com/event/looking-up-full-moon-in-scorpio-astrology-with-teg-prakash/
LOCATION:Online
CATEGORIES:Community Content,In Person,RA MA TV Live
ATTACH;FMTTYPE=image/jpeg:https://ramayogainstitute.com/wp-content/uploads/2024/04/teg_prakash_AWAKEN_thumb_2.jpg
END:VEVENT
BEGIN:VEVENT
DTSTART;TZID=America/Los_Angeles:20240424T040000
DTEND;TZID=America/Los_Angeles:20240424T063000
DTSTAMP:20260425T085221
CREATED:20240422T041606Z
LAST-MODIFIED:20240422T041606Z
UID:1915367-1713931200-1713940200@ramayogainstitute.com
SUMMARY:AQUARIAN SADHANA
DESCRIPTION:TUNE IN\n  \nKundalini Yoga Sadhana is the pillar and foundation of a strong practice. \nFrom 4am – 6:30am: Japji\, Yoga \, and then chant a specific sequence of mantras for 62 minutes. \nIt is said that practicing yoga and meditation before the sun rises has exponential benefits.
URL:https://ramayogainstitute.com/event/aquarian-sadhana-3/2024-04-24/
LOCATION:Online
CATEGORIES:Community Content,In Person,RA MA TV Live
ATTACH;FMTTYPE=image/jpeg:https://ramayogainstitute.com/wp-content/uploads/2021/11/White-Sun-Sadhana-Album-Cover-2.jpg
END:VEVENT
BEGIN:VEVENT
DTSTART;TZID=America/Los_Angeles:20240425T040000
DTEND;TZID=America/Los_Angeles:20240425T063000
DTSTAMP:20260425T085221
CREATED:20240422T041702Z
LAST-MODIFIED:20240422T041702Z
UID:1915369-1714017600-1714026600@ramayogainstitute.com
SUMMARY:AQUARIAN SADHANA
DESCRIPTION:TUNE IN\n  \nKundalini Yoga Sadhana is the pillar and foundation of a strong practice. \nFrom 4am – 6:30am: Japji\, Yoga \, and then chant a specific sequence of mantras for 62 minutes. \nIt is said that practicing yoga and meditation before the sun rises has exponential benefits.
URL:https://ramayogainstitute.com/event/aquarian-sadhana-4/2024-04-25/
LOCATION:Online
CATEGORIES:Community Content,In Person,RA MA TV Live
ATTACH;FMTTYPE=image/jpeg:https://ramayogainstitute.com/wp-content/uploads/2021/11/White-Sun-Sadhana-Album-Cover-2.jpg
END:VEVENT
BEGIN:VEVENT
DTSTART;TZID=America/Los_Angeles:20240426T040000
DTEND;TZID=America/Los_Angeles:20240426T063000
DTSTAMP:20260425T085221
CREATED:20240422T041802Z
LAST-MODIFIED:20240422T041802Z
UID:1915371-1714104000-1714113000@ramayogainstitute.com
SUMMARY:AQUARIAN SADHANA
DESCRIPTION:TUNE IN\n  \nKundalini Yoga Sadhana is the pillar and foundation of a strong practice. \nFrom 4am – 6:30am: Japji\, Yoga \, and then chant a specific sequence of mantras for 62 minutes. \nIt is said that practicing yoga and meditation before the sun rises has exponential benefits.
URL:https://ramayogainstitute.com/event/aquarian-sadhana-5/2024-04-26/
LOCATION:Online
CATEGORIES:Community Content,In Person,RA MA TV Live
ATTACH;FMTTYPE=image/jpeg:https://ramayogainstitute.com/wp-content/uploads/2021/11/White-Sun-Sadhana-Album-Cover-2.jpg
END:VEVENT
BEGIN:VEVENT
DTSTART;TZID=America/Los_Angeles:20240427T040000
DTEND;TZID=America/Los_Angeles:20240427T063000
DTSTAMP:20260425T085221
CREATED:20240422T041849Z
LAST-MODIFIED:20240422T041849Z
UID:1915373-1714190400-1714199400@ramayogainstitute.com
SUMMARY:AQUARIAN SADHANA
DESCRIPTION:TUNE IN\n  \nKundalini Yoga Sadhana is the pillar and foundation of a strong practice. \nFrom 4am – 6:30am: Japji\, Yoga \, and then chant a specific sequence of mantras for 62 minutes. \nIt is said that practicing yoga and meditation before the sun rises has exponential benefits.
URL:https://ramayogainstitute.com/event/aquarian-sadhana-6/2024-04-27/
LOCATION:Online
CATEGORIES:Community Content,In Person,RA MA TV Live
ATTACH;FMTTYPE=image/jpeg:https://ramayogainstitute.com/wp-content/uploads/2021/11/White-Sun-Sadhana-Album-Cover-2.jpg
END:VEVENT
BEGIN:VEVENT
DTSTART;TZID=America/Los_Angeles:20240428T040000
DTEND;TZID=America/Los_Angeles:20240428T063000
DTSTAMP:20260425T085221
CREATED:20240422T041926Z
LAST-MODIFIED:20240422T041926Z
UID:1915375-1714276800-1714285800@ramayogainstitute.com
SUMMARY:AQUARIAN SADHANA
DESCRIPTION:TUNE IN\n  \nKundalini Yoga Sadhana is the pillar and foundation of a strong practice. \nFrom 4am – 6:30am: Japji\, Yoga \, and then chant a specific sequence of mantras for 62 minutes. \nIt is said that practicing yoga and meditation before the sun rises has exponential benefits.
URL:https://ramayogainstitute.com/event/aquarian-sadhana-7/2024-04-28/
LOCATION:Online
CATEGORIES:Community Content,In Person,RA MA TV Live
ATTACH;FMTTYPE=image/jpeg:https://ramayogainstitute.com/wp-content/uploads/2021/11/White-Sun-Sadhana-Album-Cover-2.jpg
END:VEVENT
BEGIN:VEVENT
DTSTART;TZID=America/Los_Angeles:20240429T040000
DTEND;TZID=America/Los_Angeles:20240429T063000
DTSTAMP:20260425T085221
CREATED:20240422T042307Z
LAST-MODIFIED:20240422T042307Z
UID:1915377-1714363200-1714372200@ramayogainstitute.com
SUMMARY:AQUARIAN SADHANA
DESCRIPTION:TUNE IN\n  \nKundalini Yoga Sadhana is the pillar and foundation of a strong practice. \nFrom 4am – 6:30am: Japji\, Yoga \, and then chant a specific sequence of mantras for 62 minutes. \nIt is said that practicing yoga and meditation before the sun rises has exponential benefits.
URL:https://ramayogainstitute.com/event/aquarian-sadhana-8/2024-04-29/
LOCATION:Online
CATEGORIES:Community Content,In Person,RA MA TV Live
ATTACH;FMTTYPE=image/jpeg:https://ramayogainstitute.com/wp-content/uploads/2021/11/White-Sun-Sadhana-Album-Cover-2.jpg
END:VEVENT
BEGIN:VEVENT
DTSTART;TZID=America/Los_Angeles:20240430T040000
DTEND;TZID=America/Los_Angeles:20240430T063000
DTSTAMP:20260425T085221
CREATED:20240422T042351Z
LAST-MODIFIED:20240422T042351Z
UID:1915379-1714449600-1714458600@ramayogainstitute.com
SUMMARY:AQUARIAN SADHANA
DESCRIPTION:TUNE IN\n  \nKundalini Yoga Sadhana is the pillar and foundation of a strong practice. \nFrom 4am – 6:30am: Japji\, Yoga \, and then chant a specific sequence of mantras for 62 minutes. \nIt is said that practicing yoga and meditation before the sun rises has exponential benefits.
URL:https://ramayogainstitute.com/event/aquarian-sadhana-9/
LOCATION:Online
CATEGORIES:Community Content,In Person,RA MA TV Live
ATTACH;FMTTYPE=image/jpeg:https://ramayogainstitute.com/wp-content/uploads/2021/11/White-Sun-Sadhana-Album-Cover-2.jpg
END:VEVENT
BEGIN:VEVENT
DTSTART;TZID=America/Los_Angeles:20240501T040000
DTEND;TZID=America/Los_Angeles:20240501T063000
DTSTAMP:20260425T085221
CREATED:20240426T190746Z
LAST-MODIFIED:20240426T190746Z
UID:1916293-1714536000-1714545000@ramayogainstitute.com
SUMMARY:AQUARIAN SADHANA
DESCRIPTION:TUNE IN\n  \nKundalini Yoga Sadhana is the pillar and foundation of a strong practice. \nFrom 4am – 6:30am: Japji\, Yoga \, and then chant a specific sequence of mantras for 62 minutes. \nIt is said that practicing yoga and meditation before the sun rises has exponential benefits.
URL:https://ramayogainstitute.com/event/aquarian-sadhana-10/
LOCATION:Online
CATEGORIES:Community Content,In Person,RA MA TV Live
ATTACH;FMTTYPE=image/jpeg:https://ramayogainstitute.com/wp-content/uploads/2021/11/White-Sun-Sadhana-Album-Cover-2.jpg
END:VEVENT
BEGIN:VEVENT
DTSTART;TZID=America/Los_Angeles:20240502T040000
DTEND;TZID=America/Los_Angeles:20240502T063000
DTSTAMP:20260425T085221
CREATED:20240426T190823Z
LAST-MODIFIED:20240426T190823Z
UID:1916295-1714622400-1714631400@ramayogainstitute.com
SUMMARY:AQUARIAN SADHANA
DESCRIPTION:TUNE IN\n  \nKundalini Yoga Sadhana is the pillar and foundation of a strong practice. \nFrom 4am – 6:30am: Japji\, Yoga \, and then chant a specific sequence of mantras for 62 minutes. \nIt is said that practicing yoga and meditation before the sun rises has exponential benefits.
URL:https://ramayogainstitute.com/event/aquarian-sadhana-11/
LOCATION:Online
CATEGORIES:Community Content,In Person,RA MA TV Live
ATTACH;FMTTYPE=image/jpeg:https://ramayogainstitute.com/wp-content/uploads/2021/11/White-Sun-Sadhana-Album-Cover-2.jpg
END:VEVENT
BEGIN:VEVENT
DTSTART;TZID=America/Los_Angeles:20240503T040000
DTEND;TZID=America/Los_Angeles:20240503T063000
DTSTAMP:20260425T085221
CREATED:20240426T190901Z
LAST-MODIFIED:20240426T190901Z
UID:1916297-1714708800-1714717800@ramayogainstitute.com
SUMMARY:AQUARIAN SADHANA
DESCRIPTION:TUNE IN\n  \nKundalini Yoga Sadhana is the pillar and foundation of a strong practice. \nFrom 4am – 6:30am: Japji\, Yoga \, and then chant a specific sequence of mantras for 62 minutes. \nIt is said that practicing yoga and meditation before the sun rises has exponential benefits.
URL:https://ramayogainstitute.com/event/aquarian-sadhana-12/
LOCATION:Online
CATEGORIES:Community Content,In Person,RA MA TV Live
ATTACH;FMTTYPE=image/jpeg:https://ramayogainstitute.com/wp-content/uploads/2021/11/White-Sun-Sadhana-Album-Cover-2.jpg
END:VEVENT
END:VCALENDAR