BEGIN:VCALENDAR
VERSION:2.0
PRODID:-//RA MA LIFE - ECPv6.15.15//NONSGML v1.0//EN
CALSCALE:GREGORIAN
METHOD:PUBLISH
X-WR-CALNAME:RA MA LIFE
X-ORIGINAL-URL:https://ramayogainstitute.com
X-WR-CALDESC:Events for RA MA LIFE
REFRESH-INTERVAL;VALUE=DURATION:PT1H
X-Robots-Tag:noindex
X-PUBLISHED-TTL:PT1H
BEGIN:VTIMEZONE
TZID:America/Los_Angeles
BEGIN:DAYLIGHT
TZOFFSETFROM:-0800
TZOFFSETTO:-0700
TZNAME:PDT
DTSTART:20230312T100000
END:DAYLIGHT
BEGIN:STANDARD
TZOFFSETFROM:-0700
TZOFFSETTO:-0800
TZNAME:PST
DTSTART:20231105T090000
END:STANDARD
BEGIN:DAYLIGHT
TZOFFSETFROM:-0800
TZOFFSETTO:-0700
TZNAME:PDT
DTSTART:20240310T100000
END:DAYLIGHT
BEGIN:STANDARD
TZOFFSETFROM:-0700
TZOFFSETTO:-0800
TZNAME:PST
DTSTART:20241103T090000
END:STANDARD
BEGIN:DAYLIGHT
TZOFFSETFROM:-0800
TZOFFSETTO:-0700
TZNAME:PDT
DTSTART:20250309T100000
END:DAYLIGHT
BEGIN:STANDARD
TZOFFSETFROM:-0700
TZOFFSETTO:-0800
TZNAME:PST
DTSTART:20251102T090000
END:STANDARD
END:VTIMEZONE
BEGIN:VEVENT
DTSTART;TZID=America/Los_Angeles:20240207T190000
DTEND;TZID=America/Los_Angeles:20240207T203000
DTSTAMP:20260425T070135
CREATED:20240201T212938Z
LAST-MODIFIED:20240205T194137Z
UID:1892472-1707332400-1707337800@ramayogainstitute.com
SUMMARY:Dharma Talk & OM Chanting with Swami Chidananda
DESCRIPTION:RSVP IN PERSON\nTUNE IN\nDharma Talk & OM Chanting with Swami Chidananda\nWednesday\, February 7\, 2024\n7:00pm – 8:30pm PST\nRA MA Los Angeles | Virtually on Community Content \nExperience this donation-based community event to bring you clarity\, peace\, and insight. \nSwami Chidananda speaks on how we can shed the spiritual ego through Love\, create purpose through being in the present moment\, move beyond the duality of darkness and light\, cultivate the power of equanimity\, reframe success\, and tune into the golden moments of our days. \nBefore the talk\, we come together for an OM Chanting Circle which helps all those in the group as well as everyone in a two mile radius transform negativity and radiate more Love and Light. \nInstagram: @swami_chidananda & YouTube Channel \n*Bring a yoga mat and something comfortable to sit on \n 
URL:https://ramayogainstitute.com/event/dharma-talk-om-chanting-with-swami-chidananda-sindhu-dasi/
LOCATION:Online
CATEGORIES:Community Content,In Person,RA MA TV Live
ATTACH;FMTTYPE=image/jpeg:https://ramayogainstitute.com/wp-content/uploads/2024/02/DharmaTalk_Swami_Chidananda_Header.jpg
END:VEVENT
BEGIN:VEVENT
DTSTART;TZID=America/Los_Angeles:20240209T121500
DTEND;TZID=America/Los_Angeles:20240209T124500
DTSTAMP:20260425T070135
CREATED:20240207T132431Z
LAST-MODIFIED:20240207T132431Z
UID:1893542-1707480900-1707482700@ramayogainstitute.com
SUMMARY:Metabolic Makeover The P-Fruit Set| Kundalini Yoga & meditation with Atma Santokh
DESCRIPTION:TUNE IN\n12:15pm-12:45pm PST\nwith Atma Santokh\n*BRING A FRUIT THAT STARTS WITH “P” \nComplimentary\nIn-Person at RA MA Los AngelesVirtually on the RA MA TV \nDesigned specifically to be practiced during the pre-equinox window of February and March\, yogic science prescribes that you practice the P-Fruit yoga set every day and add more p-foods in your daily diet to:\n-Flush your lymphatic system\n-Reset your metabolism from the inside out\n-Boost your immunity\n-Dissolve Fatigue
URL:https://ramayogainstitute.com/event/metabolic-makeover-the-p-fruit-set-kundalini-yoga-meditation-with-atma-santokh/
LOCATION:Online
CATEGORIES:Community Content,In Person,RA MA TV Live
ATTACH;FMTTYPE=image/jpeg:https://ramayogainstitute.com/wp-content/uploads/2022/12/Elevated-Aliveness-Atma-Santokh-Bundle-Banner.jpg
END:VEVENT
BEGIN:VEVENT
DTSTART;TZID=America/Los_Angeles:20240209T130000
DTEND;TZID=America/Los_Angeles:20240209T133000
DTSTAMP:20260425T070135
CREATED:20240201T231353Z
LAST-MODIFIED:20240207T131803Z
UID:1892560-1707483600-1707485400@ramayogainstitute.com
SUMMARY:Looking Up: New Moon Astrology with Teg Prakash
DESCRIPTION:TUNE IN \nTeg Prakash is a Kundalini Yoga teacher\, astrologer\, and intuitive sound healer with a passionate curiosity for the teachings of Kundalini Yoga\, as taught by Yogi Bhajan\, and seeks to bring people to a true sense of their soul through astrology\, their personal power through yoga\, and their peace through the power of sound.
URL:https://ramayogainstitute.com/event/looking-up-new-moon-astrology-with-teg-prakash-3/
LOCATION:Online on RA MA TV
CATEGORIES:Community Content,RA MA TV Live
ATTACH;FMTTYPE=image/jpeg:https://ramayogainstitute.com/wp-content/uploads/2023/10/IMG_5730-scaled.jpg
END:VEVENT
BEGIN:VEVENT
DTSTART;TZID=America/Los_Angeles:20240213T173000
DTEND;TZID=America/Los_Angeles:20240213T190000
DTSTAMP:20260425T070135
CREATED:20240205T181901Z
LAST-MODIFIED:20240205T181901Z
UID:1893134-1707845400-1707850800@ramayogainstitute.com
SUMMARY:The Golden Archives with Guru Jagat
DESCRIPTION:TUNE IN\n 
URL:https://ramayogainstitute.com/event/the-golden-archives-with-guru-jagat-6/
LOCATION:Online on RA MA TV
CATEGORIES:Community Content,RA MA TV Live
ATTACH;FMTTYPE=image/jpeg:https://ramayogainstitute.com/wp-content/uploads/2021/03/guru-jagat-cal-icon-3.jpg
END:VEVENT
BEGIN:VEVENT
DTSTART;TZID=America/Los_Angeles:20240220T173000
DTEND;TZID=America/Los_Angeles:20240220T190000
DTSTAMP:20260425T070135
CREATED:20240220T233221Z
LAST-MODIFIED:20240220T233221Z
UID:1896762-1708450200-1708455600@ramayogainstitute.com
SUMMARY:The Golden Archives with Guru Jagat
DESCRIPTION:TUNE IN\n 
URL:https://ramayogainstitute.com/event/the-golden-archives-with-guru-jagat-7/
LOCATION:Online on RA MA TV
CATEGORIES:Community Content,RA MA TV Live
ATTACH;FMTTYPE=image/jpeg:https://ramayogainstitute.com/wp-content/uploads/2021/03/guru-jagat-cal-icon-3.jpg
END:VEVENT
BEGIN:VEVENT
DTSTART;TZID=America/Los_Angeles:20240224T134500
DTEND;TZID=America/Los_Angeles:20240224T141500
DTSTAMP:20260425T070135
CREATED:20240224T072519Z
LAST-MODIFIED:20240224T072519Z
UID:1897513-1708782300-1708784100@ramayogainstitute.com
SUMMARY:Looking Up: Full Moon in Virgo with Teg Prakash
DESCRIPTION:TUNE IN\nTeg Prakash is a Kundalini Yoga teacher\, astrologer\, and intuitive sound healer with a passionate curiosity for the teachings of Kundalini Yoga\, as taught by Yogi Bhajan\, and seeks to bring people to a true sense of their soul through astrology\, their personal power through yoga\, and their peace through the power of sound.
URL:https://ramayogainstitute.com/event/looking-up-full-moon-in-virgo-with-teg-prakash/
LOCATION:Online
CATEGORIES:Community Content,RA MA TV Live
ATTACH;FMTTYPE=image/jpeg:https://ramayogainstitute.com/wp-content/uploads/2023/01/Teg_Prakash_Website_Pic.jpg
END:VEVENT
BEGIN:VEVENT
DTSTART;TZID=America/Los_Angeles:20240225T074500
DTEND;TZID=America/Los_Angeles:20240225T083000
DTSTAMP:20260425T070135
CREATED:20221023T082553Z
LAST-MODIFIED:20240225T022649Z
UID:1854873-1708847100-1708849800@ramayogainstitute.com
SUMMARY:Long Life Meditation with Siri Shakti
DESCRIPTION:TUNE IN
URL:https://ramayogainstitute.com/event/long-life-meditation-with-santosh-2024-02-25/
LOCATION:Online
CATEGORIES:Community Content,In Person,RA MA TV Live
ATTACH;FMTTYPE=image/jpeg:https://ramayogainstitute.com/wp-content/uploads/2021/08/Dr.-Siri-Shakti.jpg
END:VEVENT
BEGIN:VEVENT
DTSTART;TZID=America/Los_Angeles:20240227T173000
DTEND;TZID=America/Los_Angeles:20240227T190000
DTSTAMP:20260425T070135
CREATED:20240221T030917Z
LAST-MODIFIED:20240221T030917Z
UID:1896973-1709055000-1709060400@ramayogainstitute.com
SUMMARY:The Golden Archives with Guru Jagat
DESCRIPTION:TUNE IN\n 
URL:https://ramayogainstitute.com/event/the-golden-archives-with-guru-jagat-8/
LOCATION:Online on RA MA TV
CATEGORIES:Community Content,RA MA TV Live
ATTACH;FMTTYPE=image/jpeg:https://ramayogainstitute.com/wp-content/uploads/2021/03/guru-jagat-cal-icon-3.jpg
END:VEVENT
BEGIN:VEVENT
DTSTART;TZID=America/Los_Angeles:20240303T074500
DTEND;TZID=America/Los_Angeles:20240303T083000
DTSTAMP:20260425T070135
CREATED:20221023T082553Z
LAST-MODIFIED:20240303T045526Z
UID:1854874-1709451900-1709454600@ramayogainstitute.com
SUMMARY:Long Life Meditation with Siri Shakti
DESCRIPTION:TUNE IN
URL:https://ramayogainstitute.com/event/long-life-meditation-with-santosh-2024-03-03/
LOCATION:Online
CATEGORIES:Community Content,In Person,RA MA TV Live
ATTACH;FMTTYPE=image/jpeg:https://ramayogainstitute.com/wp-content/uploads/2021/08/Dr.-Siri-Shakti.jpg
END:VEVENT
BEGIN:VEVENT
DTSTART;TZID=America/Los_Angeles:20240305T043000
DTEND;TZID=America/Los_Angeles:20240305T050000
DTSTAMP:20260425T070135
CREATED:20240304T004049Z
LAST-MODIFIED:20240304T010004Z
UID:1900340-1709613000-1709614800@ramayogainstitute.com
SUMMARY:Astro Forecast with Magdalena
DESCRIPTION:TUNE IN\nAstro Forecast with Magdalena
URL:https://ramayogainstitute.com/event/astro-fore-cast-with-magdalena/
LOCATION:RA MA Mallorca & Online
CATEGORIES:Community Content,RA MA TV Live
ATTACH;FMTTYPE=image/jpeg:https://ramayogainstitute.com/wp-content/uploads/2024/01/magdalena-pluto-aquarius-2-scaled.jpg
END:VEVENT
BEGIN:VEVENT
DTSTART;TZID=America/Los_Angeles:20240308T144500
DTEND;TZID=America/Los_Angeles:20240308T154500
DTSTAMP:20260425T070135
CREATED:20240228T200116Z
LAST-MODIFIED:20240303T230117Z
UID:1898638-1709909100-1709912700@ramayogainstitute.com
SUMMARY:WOMAN AS POWER| Kundalini Breathwork & Meditation with Pritam Siri
DESCRIPTION:TUNE IN\nWOMAN AS POWER | International Women’s Day Experience the Yogic Women’s Teachings | Kundalini Breathwork & Meditation with Pritam Siri  \n 
URL:https://ramayogainstitute.com/event/restore-breathwork-meditation-with-pritam-siri-5/
LOCATION:RA MA New York & Online
CATEGORIES:Community Content,In Person,RA MA TV Live
ATTACH;FMTTYPE=image/jpeg:https://ramayogainstitute.com/wp-content/uploads/2023/11/pritam-siri.jpeg
END:VEVENT
BEGIN:VEVENT
DTSTART;TZID=America/Los_Angeles:20240309T083000
DTEND;TZID=America/Los_Angeles:20240309T090000
DTSTAMP:20260425T070135
CREATED:20230520T040744Z
LAST-MODIFIED:20240308T205308Z
UID:1847340-1709973000-1709974800@ramayogainstitute.com
SUMMARY:Global Meditations
DESCRIPTION:TUNE IN \n4 Essential Meditations: \n\nFists of Anger\nAddiction Meditation\nArd Katchari\nIntelligence Meditation\n\n 
URL:https://ramayogainstitute.com/event/global-meditations-2023-2023-09-25-2024-03-10/
LOCATION:Online
CATEGORIES:Community Content,RA MA TV Live
ATTACH;FMTTYPE=image/jpeg:https://ramayogainstitute.com/wp-content/uploads/2023/01/RA-MA-New-York-Meditation.jpg
END:VEVENT
BEGIN:VEVENT
DTSTART;TZID=America/Los_Angeles:20240312T173000
DTEND;TZID=America/Los_Angeles:20240312T190000
DTSTAMP:20260425T070135
CREATED:20240306T212739Z
LAST-MODIFIED:20240306T212739Z
UID:1902563-1710264600-1710270000@ramayogainstitute.com
SUMMARY:The Golden Archives with Guru Jagat
DESCRIPTION:TUNE IN\n 
URL:https://ramayogainstitute.com/event/the-golden-archives-with-guru-jagat-9/
LOCATION:Online on RA MA TV
CATEGORIES:Community Content,RA MA TV Live
ATTACH;FMTTYPE=image/jpeg:https://ramayogainstitute.com/wp-content/uploads/2021/03/guru-jagat-cal-icon-3.jpg
END:VEVENT
BEGIN:VEVENT
DTSTART;TZID=America/Los_Angeles:20240325T121500
DTEND;TZID=America/Los_Angeles:20240325T124500
DTSTAMP:20260425T070135
CREATED:20240320T173522Z
LAST-MODIFIED:20240325T191026Z
UID:1906700-1711368900-1711370700@ramayogainstitute.com
SUMMARY:Looking up: ECLIPSE Astrology  with Teg Prakash
DESCRIPTION:TUNE IN\n  \nDiving into the connections between deep yogic practice and evolutionary astrology to explore and take advantage of the prevailing cosmic movements. \nAbout Teg Prakash \nTeg Prakash is a Kundalini Yoga teacher\, astrologer\, and intuitive sound healer with a passionate curiosity for the teachings of Kundalini Yoga\, as taught by Yogi Bhajan\, and seeks to bring people to a true sense of their soul through astrology\, their personal power through yoga\, and their peace through the power of sound. \n 
URL:https://ramayogainstitute.com/event/looking-up-eclipse-astrology-with-teg-prakash-2/
LOCATION:Online
CATEGORIES:Community Content,In Person,RA MA TV Live
ATTACH;FMTTYPE=image/jpeg:https://ramayogainstitute.com/wp-content/uploads/2022/04/Screen-Shot-2022-04-11-at-10.25.13-PM.jpg
END:VEVENT
BEGIN:VEVENT
DTSTART;TZID=America/Los_Angeles:20240329T040000
DTEND;TZID=America/Los_Angeles:20240329T070000
DTSTAMP:20260425T070135
CREATED:20240329T035716Z
LAST-MODIFIED:20240329T035716Z
UID:1908975-1711684800-1711695600@ramayogainstitute.com
SUMMARY:RA MA Sadhana
DESCRIPTION:TUNE IN \nJoin RA MA CREW for  Complimentary 2.5 Hours Guru Ram Das Meditation .
URL:https://ramayogainstitute.com/event/ra-ma-sadhana/
LOCATION:Online
CATEGORIES:Community Content,In Person,RA MA TV Live
ATTACH;FMTTYPE=image/jpeg:https://ramayogainstitute.com/wp-content/uploads/2023/08/RAMA_Sadhana_Los_Angeles.jpg
END:VEVENT
BEGIN:VEVENT
DTSTART;TZID=America/Los_Angeles:20240330T040000
DTEND;TZID=America/Los_Angeles:20240330T070000
DTSTAMP:20260425T070135
CREATED:20240329T040001Z
LAST-MODIFIED:20240329T040001Z
UID:1908978-1711771200-1711782000@ramayogainstitute.com
SUMMARY:RA MA Sadhana
DESCRIPTION:TUNE IN \nJoin RA MA CREW for  Complimentary 2.5 Hours Guru Ram Das Meditation .
URL:https://ramayogainstitute.com/event/ra-ma-sadhana-2/
LOCATION:Online
CATEGORIES:Community Content,In Person,RA MA TV Live
ATTACH;FMTTYPE=image/jpeg:https://ramayogainstitute.com/wp-content/uploads/2023/08/RAMA_Sadhana_Los_Angeles.jpg
END:VEVENT
BEGIN:VEVENT
DTSTART;TZID=America/Los_Angeles:20240331T040000
DTEND;TZID=America/Los_Angeles:20240331T070000
DTSTAMP:20260425T070135
CREATED:20240329T040014Z
LAST-MODIFIED:20240331T034748Z
UID:1908979-1711857600-1711868400@ramayogainstitute.com
SUMMARY:RA MA Sadhana
DESCRIPTION:TUNE IN \nJoin RA MA CREW for  Complimentary 2.5 Hours Guru Ram Das Meditation .
URL:https://ramayogainstitute.com/event/ra-ma-sadhana-3/
LOCATION:Online on RA MA TV
CATEGORIES:Community Content,RA MA TV Live
ATTACH;FMTTYPE=image/jpeg:https://ramayogainstitute.com/wp-content/uploads/2023/08/RAMA_Sadhana_Los_Angeles.jpg
END:VEVENT
BEGIN:VEVENT
DTSTART;TZID=America/Los_Angeles:20240401T040000
DTEND;TZID=America/Los_Angeles:20240401T070000
DTSTAMP:20260425T070135
CREATED:20240329T040048Z
LAST-MODIFIED:20240329T040048Z
UID:1908982-1711944000-1711954800@ramayogainstitute.com
SUMMARY:RA MA Sadhana
DESCRIPTION:TUNE IN \nJoin RA MA CREW for  Complimentary 2.5 Hours Guru Ram Das Meditation .
URL:https://ramayogainstitute.com/event/ra-ma-sadhana-4/
LOCATION:Online
CATEGORIES:Community Content,In Person,RA MA TV Live
ATTACH;FMTTYPE=image/jpeg:https://ramayogainstitute.com/wp-content/uploads/2023/08/RAMA_Sadhana_Los_Angeles.jpg
END:VEVENT
BEGIN:VEVENT
DTSTART;TZID=America/Los_Angeles:20240402T040000
DTEND;TZID=America/Los_Angeles:20240402T070000
DTSTAMP:20260425T070135
CREATED:20240329T040101Z
LAST-MODIFIED:20240402T033352Z
UID:1908983-1712030400-1712041200@ramayogainstitute.com
SUMMARY:RA MA Sadhana
DESCRIPTION:TUNE IN \nJoin RA MA CREW for  Complimentary 2.5 Hours Guru Ram Das Meditation .
URL:https://ramayogainstitute.com/event/ra-ma-sadhana-5/
LOCATION:Online on RA MA TV
CATEGORIES:Community Content,RA MA TV Live
ATTACH;FMTTYPE=image/jpeg:https://ramayogainstitute.com/wp-content/uploads/2023/08/RAMA_Sadhana_Los_Angeles.jpg
END:VEVENT
BEGIN:VEVENT
DTSTART;TZID=America/Los_Angeles:20240403T040000
DTEND;TZID=America/Los_Angeles:20240403T070000
DTSTAMP:20260425T070135
CREATED:20240329T040216Z
LAST-MODIFIED:20240403T063949Z
UID:1908986-1712116800-1712127600@ramayogainstitute.com
SUMMARY:RA MA Sadhana
DESCRIPTION:TUNE IN \nJoin RA MA CREW for  Complimentary 2.5 Hours Guru Ram Das Meditation .
URL:https://ramayogainstitute.com/event/ra-ma-sadhana-6/
LOCATION:Online on RA MA TV
CATEGORIES:Community Content,RA MA TV Live
ATTACH;FMTTYPE=image/jpeg:https://ramayogainstitute.com/wp-content/uploads/2023/08/RAMA_Sadhana_Los_Angeles.jpg
END:VEVENT
BEGIN:VEVENT
DTSTART;TZID=America/Los_Angeles:20240404T030000
DTEND;TZID=America/Los_Angeles:20240404T033000
DTSTAMP:20260425T070135
CREATED:20240403T173853Z
LAST-MODIFIED:20240403T174413Z
UID:1910002-1712199600-1712201400@ramayogainstitute.com
SUMMARY:April Astrology Forecast with Magdalena
DESCRIPTION:TUNE IN\nApril Astrology Forecast
URL:https://ramayogainstitute.com/event/april-astrology-forecast-with-magdalena/
LOCATION:RA MA Mallorca & Online
CATEGORIES:Community Content,In Person,RA MA TV Live
ATTACH;FMTTYPE=image/jpeg:https://ramayogainstitute.com/wp-content/uploads/2020/12/MAGDALENA_Mallorca_Header.jpg
END:VEVENT
BEGIN:VEVENT
DTSTART;TZID=America/Los_Angeles:20240404T040000
DTEND;TZID=America/Los_Angeles:20240404T070000
DTSTAMP:20260425T070135
CREATED:20240329T040226Z
LAST-MODIFIED:20240329T040226Z
UID:1908987-1712203200-1712214000@ramayogainstitute.com
SUMMARY:RA MA Sadhana
DESCRIPTION:TUNE IN \nJoin RA MA CREW for  Complimentary 2.5 Hours Guru Ram Das Meditation .
URL:https://ramayogainstitute.com/event/ra-ma-sadhana-7/
LOCATION:Online
CATEGORIES:Community Content,In Person,RA MA TV Live
ATTACH;FMTTYPE=image/jpeg:https://ramayogainstitute.com/wp-content/uploads/2023/08/RAMA_Sadhana_Los_Angeles.jpg
END:VEVENT
BEGIN:VEVENT
DTSTART;TZID=America/Los_Angeles:20240405T040000
DTEND;TZID=America/Los_Angeles:20240405T070000
DTSTAMP:20260425T070135
CREATED:20240329T040255Z
LAST-MODIFIED:20240329T040255Z
UID:1908990-1712289600-1712300400@ramayogainstitute.com
SUMMARY:RA MA Sadhana
DESCRIPTION:TUNE IN \nJoin RA MA CREW for  Complimentary 2.5 Hours Guru Ram Das Meditation .
URL:https://ramayogainstitute.com/event/ra-ma-sadhana-8/
LOCATION:Online
CATEGORIES:Community Content,In Person,RA MA TV Live
ATTACH;FMTTYPE=image/jpeg:https://ramayogainstitute.com/wp-content/uploads/2023/08/RAMA_Sadhana_Los_Angeles.jpg
END:VEVENT
BEGIN:VEVENT
DTSTART;TZID=America/Los_Angeles:20240406T040000
DTEND;TZID=America/Los_Angeles:20240406T070000
DTSTAMP:20260425T070135
CREATED:20240329T040326Z
LAST-MODIFIED:20240329T040326Z
UID:1908991-1712376000-1712386800@ramayogainstitute.com
SUMMARY:RA MA Sadhana
DESCRIPTION:TUNE IN \nJoin RA MA CREW for  Complimentary 2.5 Hours Guru Ram Das Meditation .
URL:https://ramayogainstitute.com/event/ra-ma-sadhana-9/
LOCATION:Online
CATEGORIES:Community Content,In Person,RA MA TV Live
ATTACH;FMTTYPE=image/jpeg:https://ramayogainstitute.com/wp-content/uploads/2023/08/RAMA_Sadhana_Los_Angeles.jpg
END:VEVENT
BEGIN:VEVENT
DTSTART;TZID=America/Los_Angeles:20240406T083000
DTEND;TZID=America/Los_Angeles:20240406T090000
DTSTAMP:20260425T070135
CREATED:20230520T040744Z
LAST-MODIFIED:20240406T155958Z
UID:1859528-1712392200-1712394000@ramayogainstitute.com
SUMMARY:Global Meditations
DESCRIPTION:TUNE IN \n4 Essential Meditations: \n\nFists of Anger\nAddiction Meditation\nArd Katchari\nIntelligence Meditation\n\n 
URL:https://ramayogainstitute.com/event/global-meditations-2023-2023-09-25-2024-04-06/
LOCATION:Online on RA MA TV
CATEGORIES:Community Content,RA MA TV Live
ATTACH;FMTTYPE=image/jpeg:https://ramayogainstitute.com/wp-content/uploads/2023/01/RA-MA-New-York-Meditation.jpg
END:VEVENT
BEGIN:VEVENT
DTSTART;TZID=America/Los_Angeles:20240407T040000
DTEND;TZID=America/Los_Angeles:20240407T070000
DTSTAMP:20260425T070135
CREATED:20240329T040345Z
LAST-MODIFIED:20240329T040345Z
UID:1908994-1712462400-1712473200@ramayogainstitute.com
SUMMARY:RA MA Sadhana
DESCRIPTION:TUNE IN \nJoin RA MA CREW for  Complimentary 2.5 Hours Guru Ram Das Meditation .
URL:https://ramayogainstitute.com/event/ra-ma-sadhana-10/
LOCATION:Online
CATEGORIES:Community Content,In Person,RA MA TV Live
ATTACH;FMTTYPE=image/jpeg:https://ramayogainstitute.com/wp-content/uploads/2023/08/RAMA_Sadhana_Los_Angeles.jpg
END:VEVENT
BEGIN:VEVENT
DTSTART;TZID=America/Los_Angeles:20240407T074500
DTEND;TZID=America/Los_Angeles:20240407T083000
DTSTAMP:20260425T070135
CREATED:20221023T082553Z
LAST-MODIFIED:20240405T180301Z
UID:1859679-1712475900-1712478600@ramayogainstitute.com
SUMMARY:Long Life Meditation with Siri Shakti
DESCRIPTION:TUNE IN
URL:https://ramayogainstitute.com/event/long-life-meditation-with-santosh-2024-04-07/
LOCATION:Online
CATEGORIES:Community Content,In Person,RA MA TV Live
ATTACH;FMTTYPE=image/jpeg:https://ramayogainstitute.com/wp-content/uploads/2021/08/Dr.-Siri-Shakti.jpg
END:VEVENT
BEGIN:VEVENT
DTSTART;TZID=America/Los_Angeles:20240408T010000
DTEND;TZID=America/Los_Angeles:20240408T040000
DTSTAMP:20260425T070135
CREATED:20240408T045340Z
LAST-MODIFIED:20240408T045340Z
UID:1911708-1712538000-1712548800@ramayogainstitute.com
SUMMARY:SOLAR ECLIPSE SPECIAL SADHANA with RA MA NYC CREW
DESCRIPTION:TUNE IN \n2.5 Guru Ram Das Healing Meditation
URL:https://ramayogainstitute.com/event/solar-eclipse-special-sadhana-with-ra-ma-nyc-crew/
LOCATION:RA MA New York & Online
CATEGORIES:Community Content,In Person,RA MA TV Live
ATTACH;FMTTYPE=image/jpeg:https://ramayogainstitute.com/wp-content/uploads/2023/08/RAMA_Sadhana_New_York.jpg
END:VEVENT
BEGIN:VEVENT
DTSTART;TZID=America/Los_Angeles:20240408T040000
DTEND;TZID=America/Los_Angeles:20240408T070000
DTSTAMP:20260425T070135
CREATED:20240329T040413Z
LAST-MODIFIED:20240408T050458Z
UID:1908996-1712548800-1712559600@ramayogainstitute.com
SUMMARY:SOLAR ECLIPSE SPECIAL  SADHANA
DESCRIPTION:TUNE IN \nJoin RA MA CREW for  Complimentary 2.5 Hours Guru Ram Das Meditation .
URL:https://ramayogainstitute.com/event/ra-ma-sadhana-11/
LOCATION:Online
CATEGORIES:Community Content,In Person,RA MA TV Live
ATTACH;FMTTYPE=image/jpeg:https://ramayogainstitute.com/wp-content/uploads/2023/08/RAMA_Sadhana_Los_Angeles.jpg
END:VEVENT
BEGIN:VEVENT
DTSTART;TZID=America/Los_Angeles:20240409T040000
DTEND;TZID=America/Los_Angeles:20240409T070000
DTSTAMP:20260425T070135
CREATED:20240408T044244Z
LAST-MODIFIED:20240408T044244Z
UID:1911693-1712635200-1712646000@ramayogainstitute.com
SUMMARY:RA MA Sadhana
DESCRIPTION:TUNE IN \nJoin RA MA CREW for  Complimentary 2.5 Hours Guru Ram Das Meditation .
URL:https://ramayogainstitute.com/event/ra-ma-sadhana-12/2024-04-09/
LOCATION:Online
CATEGORIES:Community Content,In Person,RA MA TV Live
ATTACH;FMTTYPE=image/jpeg:https://ramayogainstitute.com/wp-content/uploads/2023/08/RAMA_Sadhana_Los_Angeles.jpg
END:VEVENT
END:VCALENDAR