BEGIN:VCALENDAR
VERSION:2.0
PRODID:-//RA MA LIFE - ECPv6.15.15//NONSGML v1.0//EN
CALSCALE:GREGORIAN
METHOD:PUBLISH
X-WR-CALNAME:RA MA LIFE
X-ORIGINAL-URL:https://ramayogainstitute.com
X-WR-CALDESC:Events for RA MA LIFE
REFRESH-INTERVAL;VALUE=DURATION:PT1H
X-Robots-Tag:noindex
X-PUBLISHED-TTL:PT1H
BEGIN:VTIMEZONE
TZID:America/Los_Angeles
BEGIN:DAYLIGHT
TZOFFSETFROM:-0800
TZOFFSETTO:-0700
TZNAME:PDT
DTSTART:20230312T100000
END:DAYLIGHT
BEGIN:STANDARD
TZOFFSETFROM:-0700
TZOFFSETTO:-0800
TZNAME:PST
DTSTART:20231105T090000
END:STANDARD
BEGIN:DAYLIGHT
TZOFFSETFROM:-0800
TZOFFSETTO:-0700
TZNAME:PDT
DTSTART:20240310T100000
END:DAYLIGHT
BEGIN:STANDARD
TZOFFSETFROM:-0700
TZOFFSETTO:-0800
TZNAME:PST
DTSTART:20241103T090000
END:STANDARD
BEGIN:DAYLIGHT
TZOFFSETFROM:-0800
TZOFFSETTO:-0700
TZNAME:PDT
DTSTART:20250309T100000
END:DAYLIGHT
BEGIN:STANDARD
TZOFFSETFROM:-0700
TZOFFSETTO:-0800
TZNAME:PST
DTSTART:20251102T090000
END:STANDARD
END:VTIMEZONE
BEGIN:VEVENT
DTSTART;TZID=America/Los_Angeles:20241128T050000
DTEND;TZID=America/Los_Angeles:20241128T063000
DTSTAMP:20260423T101014
CREATED:20241127T021123Z
LAST-MODIFIED:20241127T023950Z
UID:1962194-1732770000-1732775400@ramayogainstitute.com
SUMMARY:Gratitude and Tradition | Thanksgiving Day with Teg Prakash
DESCRIPTION:
URL:https://ramayogainstitute.com/event/gratitude-thanksgiving-day-teg-prakash/
CATEGORIES:Community Content,In Person,RA MA TV Live
ATTACH;FMTTYPE=image/jpeg:https://ramayogainstitute.com/wp-content/uploads/2024/04/teg_prakash_AWAKEN_thumb_2.jpg
END:VEVENT
BEGIN:VEVENT
DTSTART;TZID=America/Los_Angeles:20241002T120000
DTEND;TZID=America/Los_Angeles:20241002T123000
DTSTAMP:20260423T101014
CREATED:20240926T030401Z
LAST-MODIFIED:20240926T030401Z
UID:1950906-1727870400-1727872200@ramayogainstitute.com
SUMMARY:Looking Up| Solar Eclipse New Moon in Libra Astrology
DESCRIPTION:TUNE IN\nTeg Prakash is a Kundalini Yoga teacher\, astrologer\, and intuitive sound healer with a passionate curiosity for the teachings of Kundalini Yoga\, as taught by Yogi Bhajan\, and seeks to bring people to a true sense of their soul through astrology\, their personal power through yoga\, and their peace through the power of sound.
URL:https://ramayogainstitute.com/event/looking-up-solar-eclipse-new-moon-in-libra-astrology/
LOCATION:Online
CATEGORIES:Community Content,In Person,RA MA TV Live
ATTACH;FMTTYPE=image/jpeg:https://ramayogainstitute.com/wp-content/uploads/2024/05/Teg_Prakash_meditation_5.2.24.jpeg
END:VEVENT
BEGIN:VEVENT
DTSTART;TZID=America/Los_Angeles:20241002T040000
DTEND;TZID=America/Los_Angeles:20241002T063000
DTSTAMP:20260423T101014
CREATED:20240926T032844Z
LAST-MODIFIED:20240926T032844Z
UID:1950924-1727841600-1727850600@ramayogainstitute.com
SUMMARY:Solar Eclipse Special Sadhana| White Sun Sadhana
DESCRIPTION:TUNE IN\n  \n 
URL:https://ramayogainstitute.com/event/solar-eclipse-special-sadhana-white-sun-sadhana/
LOCATION:Online
CATEGORIES:Community Content,In Person,RA MA TV Live
ATTACH;FMTTYPE=image/png:https://ramayogainstitute.com/wp-content/uploads/2023/07/white-sun-sadhana-1-1-1-1.png
END:VEVENT
BEGIN:VEVENT
DTSTART;TZID=America/Los_Angeles:20241002T010000
DTEND;TZID=America/Los_Angeles:20241002T033000
DTSTAMP:20260423T101014
CREATED:20240926T032400Z
LAST-MODIFIED:20240926T032531Z
UID:1950918-1727830800-1727839800@ramayogainstitute.com
SUMMARY:SOLAR ECLIPSE NEW MOON | Special Sadhana
DESCRIPTION:TUNE IN\n  \nAll Levels are welcome
URL:https://ramayogainstitute.com/event/solar-eclipse-new-moon-special-sadhana/
LOCATION:RA MA New York & Online
CATEGORIES:Community Content,In Person,RA MA TV Live
ATTACH;FMTTYPE=image/jpeg:https://ramayogainstitute.com/wp-content/uploads/2023/08/RAMA_Sadhana_New_York.jpg
END:VEVENT
BEGIN:VEVENT
DTSTART;TZID=America/Los_Angeles:20240925T080000
DTEND;TZID=America/Los_Angeles:20240925T170000
DTSTAMP:20260423T101014
CREATED:20240926T032018Z
LAST-MODIFIED:20240926T032153Z
UID:1950911-1727251200-1727283600@ramayogainstitute.com
SUMMARY:New Moon Special Sadhana| White Sun Sadhana
DESCRIPTION:TUNE IN\nThis dark moon acts as the first day of the lunar cycle. This is a good time to go inward\, reflect\, and set intentions for the coming month.
URL:https://ramayogainstitute.com/event/new-moon-special-sadhana-white-sun-sadhana/
LOCATION:Online
CATEGORIES:Community Content,In Person,RA MA TV Live
ATTACH;FMTTYPE=image/jpeg:https://ramayogainstitute.com/wp-content/uploads/2024/07/White-Sun-Sadhana-Album-Cover-2.jpg
END:VEVENT
BEGIN:VEVENT
DTSTART;TZID=America/Los_Angeles:20240922T040000
DTEND;TZID=America/Los_Angeles:20240922T063000
DTSTAMP:20260423T101014
CREATED:20240918T201418Z
LAST-MODIFIED:20240918T201418Z
UID:1948991-1726977600-1726986600@ramayogainstitute.com
SUMMARY:Special Equinox White Sun Sadhana
DESCRIPTION:TUNE IN\n  \n 
URL:https://ramayogainstitute.com/event/special-equinox-white-sun-sadhana/
LOCATION:Online
CATEGORIES:Community Content,In Person,RA MA TV Live
ATTACH;FMTTYPE=image/png:https://ramayogainstitute.com/wp-content/uploads/2023/07/white-sun-sadhana-1-1-1-1.png
END:VEVENT
BEGIN:VEVENT
DTSTART;TZID=America/Los_Angeles:20240922T010000
DTEND;TZID=America/Los_Angeles:20240922T033000
DTSTAMP:20260423T101014
CREATED:20240918T201530Z
LAST-MODIFIED:20240918T201530Z
UID:1948993-1726966800-1726975800@ramayogainstitute.com
SUMMARY:SPECIAL SADHANA | Autumnal Equinox Yoga & Mantra Meditation
DESCRIPTION:TUNE IN\n  \n 
URL:https://ramayogainstitute.com/event/special-sadhana-autumnal-equinox-yoga-mantra-meditation/
LOCATION:RA MA New York & Online
CATEGORIES:Community Content,In Person,RA MA TV Live
ATTACH;FMTTYPE=image/jpeg:https://ramayogainstitute.com/wp-content/uploads/2023/08/RAMA_Sadhana_New_York.jpg
END:VEVENT
BEGIN:VEVENT
DTSTART;TZID=America/Los_Angeles:20240917T080000
DTEND;TZID=America/Los_Angeles:20240917T083000
DTSTAMP:20260423T101014
CREATED:20240911T190333Z
LAST-MODIFIED:20240912T195327Z
UID:1946081-1726560000-1726561800@ramayogainstitute.com
SUMMARY:Pisces Lunar Eclipse | Looking Up
DESCRIPTION:TUNE IN\nTeg Prakash is a Kundalini Yoga teacher\, astrologer\, and intuitive sound healer with a passionate curiosity for the teachings of Kundalini Yoga\, as taught by Yogi Bhajan\, and seeks to bring people to a true sense of their soul through astrology\, their personal power through yoga\, and their peace through the power of sound.
URL:https://ramayogainstitute.com/event/looking-up-lunar-eclipse-full-moon-in-pisces/
LOCATION:Online
CATEGORIES:Community Content,In Person,RA MA TV Live
ATTACH;FMTTYPE=image/jpeg:https://ramayogainstitute.com/wp-content/uploads/2024/05/teg_prakash_taurus_thumb.jpeg
END:VEVENT
BEGIN:VEVENT
DTSTART;TZID=America/Los_Angeles:20240917T040000
DTEND;TZID=America/Los_Angeles:20240917T063000
DTSTAMP:20260423T101014
CREATED:20240911T182118Z
LAST-MODIFIED:20240911T185209Z
UID:1946070-1726545600-1726554600@ramayogainstitute.com
SUMMARY:Full Moon White Sun Sadhana
DESCRIPTION:TUNE IN\n  \n 
URL:https://ramayogainstitute.com/event/full-moon-white-sun-sadhana-2/
LOCATION:Online
CATEGORIES:Community Content,In Person,RA MA TV Live
ATTACH;FMTTYPE=image/png:https://ramayogainstitute.com/wp-content/uploads/2023/07/white-sun-sadhana-1-1-1-1.png
END:VEVENT
BEGIN:VEVENT
DTSTART;TZID=America/Los_Angeles:20240917T010000
DTEND;TZID=America/Los_Angeles:20240917T033000
DTSTAMP:20260423T101014
CREATED:20240911T185137Z
LAST-MODIFIED:20240911T185232Z
UID:1946073-1726534800-1726543800@ramayogainstitute.com
SUMMARY:Special Sadhana Bahota Karam  Prosperity Mantra Recitations
DESCRIPTION:TUNE IN\n  \n 
URL:https://ramayogainstitute.com/event/special-sadhana-bahota-karam-prosperity-mantra-recitations/
LOCATION:RA MA New York & Online
CATEGORIES:Community Content,In Person,RA MA TV Live
ATTACH;FMTTYPE=image/jpeg:https://ramayogainstitute.com/wp-content/uploads/2023/08/RAMA_Sadhana_New_York.jpg
END:VEVENT
BEGIN:VEVENT
DTSTART;TZID=America/Los_Angeles:20240915T040000
DTEND;TZID=America/Los_Angeles:20240915T063000
DTSTAMP:20260423T101014
CREATED:20240913T214926Z
LAST-MODIFIED:20240913T214926Z
UID:1946492-1726372800-1726381800@ramayogainstitute.com
SUMMARY:White Sun Sadhana
DESCRIPTION:TUNE IN\n  \n 
URL:https://ramayogainstitute.com/event/white-sun-sadhana-61/
LOCATION:Online
CATEGORIES:Community Content,In Person,RA MA TV Live
ATTACH;FMTTYPE=image/png:https://ramayogainstitute.com/wp-content/uploads/2023/07/white-sun-sadhana-1-1-1-1.png
END:VEVENT
BEGIN:VEVENT
DTSTART;TZID=America/Los_Angeles:20240914T040000
DTEND;TZID=America/Los_Angeles:20240914T063000
DTSTAMP:20260423T101014
CREATED:20240913T214855Z
LAST-MODIFIED:20240913T214855Z
UID:1946490-1726286400-1726295400@ramayogainstitute.com
SUMMARY:White Sun Sadhana
DESCRIPTION:TUNE IN\n  \n 
URL:https://ramayogainstitute.com/event/white-sun-sadhana-60/
LOCATION:Online
CATEGORIES:Community Content,In Person,RA MA TV Live
ATTACH;FMTTYPE=image/png:https://ramayogainstitute.com/wp-content/uploads/2023/07/white-sun-sadhana-1-1-1-1.png
END:VEVENT
BEGIN:VEVENT
DTSTART;TZID=America/Los_Angeles:20240913T203000
DTEND;TZID=America/Los_Angeles:20240913T210000
DTSTAMP:20260423T101014
CREATED:20240909T172500Z
LAST-MODIFIED:20240909T172500Z
UID:1945661-1726259400-1726261200@ramayogainstitute.com
SUMMARY:Healing Gong with Teg Prakash
DESCRIPTION:TUNE IN\nTeg Prakash is a Kundalini Yoga teacher\, astrologer\, and intuitive sound healer with a passionate curiosity for the teachings of Kundalini Yoga\, as taught by Yogi Bhajan\, and seeks to bring people to a true sense of their soul through astrology\, their personal power through yoga\, and their peace through the power of sound. \n 
URL:https://ramayogainstitute.com/event/healing-gong-with-teg-prakash-3/
LOCATION:Online
CATEGORIES:Community Content,In Person,RA MA TV Live
ATTACH;FMTTYPE=image/jpeg:https://ramayogainstitute.com/wp-content/uploads/2024/04/teg_prakash_scorpio_looking_up.jpg
END:VEVENT
BEGIN:VEVENT
DTSTART;TZID=America/Los_Angeles:20240912T190000
DTEND;TZID=America/Los_Angeles:20240912T203000
DTSTAMP:20260423T101014
CREATED:20240909T171131Z
LAST-MODIFIED:20240910T003411Z
UID:1945659-1726167600-1726173000@ramayogainstitute.com
SUMMARY:Kundalini Yoga & Meditation-120th Day Celebration  with Gurujas
DESCRIPTION:TUNE IN\nGurujas is a kundalini yoga teacher and a singer\, songwriter\, and musician. She has gained a worldwide reputation as the lead singer of White Sun\, a Grammy®-award winning band\, and a Billboard #1 artist. As a kundalini yoga teacher\, she is known as being intensely devoted to the accuracy of the teachings\, as well as incorporating contemporary science and practical every-day applications. As a singer\, she is known for her distinctive vocals\, her ethereal live performances\, and her ability to heal through song. \nAs a kundalini yoga teacher\, she is known as being intensely devoted to the accuracy of the teachings\, as well as incorporating contemporary science and practical every-day applications. As a singer\, she is known for her distinctive vocals\, her ethereal live performances\, and her ability to heal through song. She spends her time creating music\, teaching kundalini yoga\, working with clients\, and raising her two young daughters.
URL:https://ramayogainstitute.com/event/kundalini-yoga-meditation-120th-day-celebration-with-gurujas/
LOCATION:Online
CATEGORIES:Community Content,In Person,RA MA TV Live
ATTACH;FMTTYPE=image/jpeg:https://ramayogainstitute.com/wp-content/uploads/2023/10/Gurujas_10thDay_Header.jpg
END:VEVENT
BEGIN:VEVENT
DTSTART;TZID=America/Los_Angeles:20240905T031500
DTEND;TZID=America/Los_Angeles:20240905T063000
DTSTAMP:20260423T101014
CREATED:20240903T034632Z
LAST-MODIFIED:20240903T035103Z
UID:1944516-1725506100-1725517800@ramayogainstitute.com
SUMMARY:Special Sadhana| Harijiwan's Birthday
DESCRIPTION:TUNE IN\n3:15am-6:30am PDT\n3:15am Japji\n3:30am Yoga\n4:00am-6:30am 2.5 Hours of Long Ek Ong Kars\nComplementary in person\nAnd on RA MA TV Community Content Channel \nMany spiritual traditions recognize the early morning hours of the day as a potent and powerful time for deep meditation. The White Sun Sadhana consists of Jap-Ji\, Yoga\, 62 minutes of chanting the Aquarian Sadhana Mantras. Sadhana is always complimentary and open to the public. All level welcome\, no previous experience necessary. \n 
URL:https://ramayogainstitute.com/event/special-sadhana-harijiwans-birthday-2/
LOCATION:Online
CATEGORIES:Community Content,In Person,RA MA TV Live
ATTACH;FMTTYPE=image/jpeg:https://ramayogainstitute.com/wp-content/uploads/2023/08/RAMA_Sadhana_Los_Angeles.jpg
END:VEVENT
BEGIN:VEVENT
DTSTART;TZID=America/Los_Angeles:20240905T001500
DTEND;TZID=America/Los_Angeles:20240905T033000
DTSTAMP:20260423T101014
CREATED:20240903T034142Z
LAST-MODIFIED:20240903T234805Z
UID:1944513-1725495300-1725507000@ramayogainstitute.com
SUMMARY:Special Sadhana| Harijiwan's Birthday
DESCRIPTION:TUNE IN\n  \n2.5 Hours Long Ek Ong Kar
URL:https://ramayogainstitute.com/event/special-sadhana-harijiwans-birthday/
LOCATION:RA MA New York & Online
CATEGORIES:Community Content,In Person,RA MA TV Live
ATTACH;FMTTYPE=image/jpeg:https://ramayogainstitute.com/wp-content/uploads/2023/08/RAMA_Sadhana_New_York.jpg
END:VEVENT
BEGIN:VEVENT
DTSTART;TZID=America/Los_Angeles:20240902T040000
DTEND;TZID=America/Los_Angeles:20240902T063000
DTSTAMP:20260423T101014
CREATED:20240828T203218Z
LAST-MODIFIED:20240828T203218Z
UID:1943740-1725249600-1725258600@ramayogainstitute.com
SUMMARY:New Moon in Virgo| White Sun Sadhana
DESCRIPTION:TUNE IN\n4:00am-6:30am PST\nComplementary in person\nAnd on RA MA TV Community Content Channel \nMany spiritual traditions recognize the early morning hours of the day as a potent and powerful time for deep meditation. The White Sun Sadhana consists of Jap-Ji\, Yoga\, 62 minutes of chanting the Aquarian Sadhana Mantras. Sadhana is always complimentary and open to the public. All level welcome\, no previous experience necessary. \nThe front entrance is locked for this early morning practice. Please enter through the rear door\, 1729 21st Court\, which can be accessed via the back alley that runs parallel to 21st Street.
URL:https://ramayogainstitute.com/event/new-moon-in-virgo-white-sun-sadhana/
LOCATION:Online on RA MA TV
CATEGORIES:Community Content,RA MA TV Live
ATTACH;FMTTYPE=image/jpeg:https://ramayogainstitute.com/wp-content/uploads/2021/11/White-Sun-Sadhana-Album-Cover-2.jpg
END:VEVENT
BEGIN:VEVENT
DTSTART;TZID=America/Los_Angeles:20240902T010000
DTEND;TZID=America/Los_Angeles:20240902T033000
DTSTAMP:20260423T101014
CREATED:20240828T192514Z
LAST-MODIFIED:20240828T195544Z
UID:1943718-1725238800-1725247800@ramayogainstitute.com
SUMMARY:NEW MOON SPECIAL SADHANA
DESCRIPTION:TUNE IN\n4am-6:30am EDT\nIn-Person and Virtual\nComplimentary \nJoin complimentary early morning practice on this powerful day – \nExperience a short yoga set followed by mantra recitations. \nNo previous experience required. \n  \nAnt Na Siftee Mantra Recitations for Limitlessness \n  \n 
URL:https://ramayogainstitute.com/event/new-moon-special-sadhana/
LOCATION:RA MA New York & Online
CATEGORIES:Community Content,In Person,RA MA TV Live
ATTACH;FMTTYPE=image/jpeg:https://ramayogainstitute.com/wp-content/uploads/2023/08/RAMA_Sadhana_New_York.jpg
END:VEVENT
BEGIN:VEVENT
DTSTART;TZID=America/Los_Angeles:20240830T040000
DTEND;TZID=America/Los_Angeles:20240830T063000
DTSTAMP:20260423T101014
CREATED:20240821T171132Z
LAST-MODIFIED:20240821T171217Z
UID:1942241-1724990400-1724999400@ramayogainstitute.com
SUMMARY:Special Sadhana| Guru Jagat's Birthday
DESCRIPTION:TUNE IN\n4:00am – 6:30am PDT / EDT\nSpecial Sadhana\n2.5 Hours of Eka Mai Recitations
URL:https://ramayogainstitute.com/event/special-sadhana-guru-jagats-birthday/
LOCATION:Online
CATEGORIES:Community Content,In Person,RA MA TV Live
ATTACH;FMTTYPE=image/jpeg:https://ramayogainstitute.com/wp-content/uploads/2024/02/GoldenArchives_GuruJagat_RAMA_Header5.jpg
END:VEVENT
BEGIN:VEVENT
DTSTART;TZID=America/Los_Angeles:20240826T160000
DTEND;TZID=America/Los_Angeles:20240826T180000
DTSTAMP:20260423T101014
CREATED:20240816T223742Z
LAST-MODIFIED:20240821T185549Z
UID:1941466-1724688000-1724695200@ramayogainstitute.com
SUMMARY:How Much Can You Love? | Yogi Bhajan Birthday Class with Pritam Siri
DESCRIPTION:TUNE IN \nPritam  Siri is an artist and yogi based in New York City and the lead teacher and director at RA MA New York\, a global crossroads of new social\, artistic\, and cultural experiences\, hosting daily Kundalini Yoga\, Meditation\, Gong and Breathwork classes. Pritam Siri is an active student of Kundalini Yoga and Meditation and has been committed to practicing and sharing kundalini yoga technology since 2016. She recently launched The Pritam Siri Show: Conversations with Creatives\, Leaders and Change Makers who are reaching new terrains of living beyond fear\, accessing supra-creativity\, and ushering in new collaborative worlds in art\, fashion\, spirituality and more.
URL:https://ramayogainstitute.com/event/how-much-can-you-love-yogi-bhajan-birthday-class-with-pritam-siri/
LOCATION:RA MA New York & Online
CATEGORIES:Community Content,In Person,RA MA TV Live
ATTACH;FMTTYPE=image/jpeg:https://ramayogainstitute.com/wp-content/uploads/2024/07/IMG_0700.jpg
END:VEVENT
BEGIN:VEVENT
DTSTART;TZID=America/Los_Angeles:20240826T030000
DTEND;TZID=America/Los_Angeles:20240826T063000
DTSTAMP:20260423T101014
CREATED:20240818T023704Z
LAST-MODIFIED:20240824T034615Z
UID:1941713-1724641200-1724653800@ramayogainstitute.com
SUMMARY:Special Sadhana -  Yogi Bhajan's Birthday
DESCRIPTION:TUNE IN\n3:15am PDT Japji\n3:30am PDT Yoga \n4:00am-6:30am PST- 2.5 Hours of Long Ek Ong Kar \nComplementary in person\nAnd on RA MA TV Community Content Channel \nSadhana is always complimentary and open to the public. All level welcome\, no previous experience necessary. \nThe front entrance is locked for this early morning practice. Please enter through the rear door\, 1729 21st Court\, which can be accessed via the back alley that runs parallel to 21st Street.
URL:https://ramayogainstitute.com/event/special-sadhana-yogi-bhajans-birthday/
LOCATION:Online on RA MA TV
CATEGORIES:Community Content,In Person,RA MA TV Live
ATTACH;FMTTYPE=image/jpeg:https://ramayogainstitute.com/wp-content/uploads/2023/09/YogiBhajanBday_Header.jpg
END:VEVENT
BEGIN:VEVENT
DTSTART;TZID=America/Los_Angeles:20240826T001500
DTEND;TZID=America/Los_Angeles:20240826T033000
DTSTAMP:20260423T101014
CREATED:20240818T024613Z
LAST-MODIFIED:20240818T024613Z
UID:1941715-1724631300-1724643000@ramayogainstitute.com
SUMMARY:Special Sadhana| Yogi Bhajan's Birthday
DESCRIPTION:TUNE IN \n3:00am EDT Japji\n3:15am EDT Yoga\n3:25am – 3:55am EDT 2.5 Hours of Long Ek Ong Kar \nComplementary in person\nAnd on RA MA TV Community Content Channel \n 
URL:https://ramayogainstitute.com/event/special-sadhana-yogi-bhajans-birthday-2/
LOCATION:RA MA New York & Online
CATEGORIES:Community Content,In Person,RA MA TV Live
ATTACH;FMTTYPE=image/jpeg:https://ramayogainstitute.com/wp-content/uploads/2023/08/RAMA_Sadhana_New_York.jpg
END:VEVENT
BEGIN:VEVENT
DTSTART;TZID=America/Los_Angeles:20240822T160000
DTEND;TZID=America/Los_Angeles:20240822T173000
DTSTAMP:20260423T101014
CREATED:20240817T202715Z
LAST-MODIFIED:20240819T193842Z
UID:1941622-1724342400-1724347800@ramayogainstitute.com
SUMMARY:AURA SERIES| Kundalini Yoga & Meditation with Pritam Siri
DESCRIPTION:TUNE IN \nShe is an artist and yogi based in New York City and the lead teacher and director at RA MA New York\, a global crossroads of new social\, artistic\, and cultural experiences\, hosting daily Kundalini Yoga\, Meditation\, Gong and Breathwork classes. Pritam Siri is an active student of Kundalini Yoga and Meditation and has been committed to practicing and sharing kundalini yoga technology since 2016. She recently launched The Pritam Siri Show: Conversations with Creatives\, Leaders and Change Makers who are reaching new terrains of living beyond fear\, accessing supra-creativity\, and ushering in new collaborative worlds in art\, fashion\, spirituality and more.
URL:https://ramayogainstitute.com/event/radiance-kundalini-yoga-meditation-with-pritam-siri-15/
LOCATION:RA MA New York & Online
CATEGORIES:Community Content,In Person,RA MA TV Live
ATTACH;FMTTYPE=image/jpeg:https://ramayogainstitute.com/wp-content/uploads/2024/07/IMG_0700.jpg
END:VEVENT
BEGIN:VEVENT
DTSTART;TZID=America/Los_Angeles:20240819T080000
DTEND;TZID=America/Los_Angeles:20240819T083000
DTSTAMP:20260423T101014
CREATED:20240812T221938Z
LAST-MODIFIED:20240812T221938Z
UID:1940867-1724054400-1724056200@ramayogainstitute.com
SUMMARY:Looking UP| Aquarius Full Moon Astrology
DESCRIPTION:TUNE IN\nTeg Prakash is a Kundalini Yoga teacher\, astrologer\, and intuitive sound healer with a passionate curiosity for the teachings of Kundalini Yoga\, as taught by Yogi Bhajan\, and seeks to bring people to a true sense of their soul through astrology\, their personal power through yoga\, and their peace through the power of sound.
URL:https://ramayogainstitute.com/event/looking-up-aquarius-full-moon-astrology/
LOCATION:Online
CATEGORIES:Community Content,In Person,RA MA TV Live
ATTACH;FMTTYPE=image/jpeg:https://ramayogainstitute.com/wp-content/uploads/2024/04/Teg_Prakash_4.22.24.jpeg
END:VEVENT
BEGIN:VEVENT
DTSTART;TZID=America/Los_Angeles:20240819T040000
DTEND;TZID=America/Los_Angeles:20240819T063000
DTSTAMP:20260423T101014
CREATED:20240812T225629Z
LAST-MODIFIED:20240812T225629Z
UID:1940964-1724040000-1724049000@ramayogainstitute.com
SUMMARY:Full Moon White Sun Sadhana
DESCRIPTION:TUNE IN\nDaily\, 4:00am-6:30am PST\nComplementary in person\nAnd on RA MA TV Community Content Channel \nMany spiritual traditions recognize the early morning hours of the day as a potent and powerful time for deep meditation. The White Sun Sadhana consists of Jap-Ji\, Yoga\, 62 minutes of chanting the Aquarian Sadhana Mantras. Sadhana is always complimentary and open to the public. All level welcome\, no previous experience necessary. \nThe front entrance is locked for this early morning practice. Please enter through the rear door\, 1729 21st Court\, which can be accessed via the back alley that runs parallel to 21st Street.
URL:https://ramayogainstitute.com/event/full-moon-white-sun-sadhana/
LOCATION:Online
CATEGORIES:Community Content,In Person,RA MA TV Live
ATTACH;FMTTYPE=image/jpeg:https://ramayogainstitute.com/wp-content/uploads/2021/11/White-Sun-Sadhana-Album-Cover-2.jpg
END:VEVENT
BEGIN:VEVENT
DTSTART;TZID=America/Los_Angeles:20240819T010000
DTEND;TZID=America/Los_Angeles:20240819T033000
DTSTAMP:20260423T101014
CREATED:20240812T225905Z
LAST-MODIFIED:20240812T225905Z
UID:1940966-1724029200-1724038200@ramayogainstitute.com
SUMMARY:Full Moon Special Sadhan| Bahota Karam Prosperity Mantra Recitations
DESCRIPTION:TUNE IN\nComplimentary Sadhana
URL:https://ramayogainstitute.com/event/full-moon-special-sadhan-bahota-karam-prosperity-mantra-recitations/
LOCATION:RA MA New York & Online
CATEGORIES:Community Content,In Person,RA MA TV Live
ATTACH;FMTTYPE=image/jpeg:https://ramayogainstitute.com/wp-content/uploads/2023/08/RAMA_Sadhana_New_York.jpg
END:VEVENT
BEGIN:VEVENT
DTSTART;TZID=America/Los_Angeles:20240818T040000
DTEND;TZID=America/Los_Angeles:20240818T063000
DTSTAMP:20260423T101014
CREATED:20240729T171525Z
LAST-MODIFIED:20240811T213023Z
UID:1938050-1723953600-1723962600@ramayogainstitute.com
SUMMARY:White Sun Sadhana
DESCRIPTION:TUNE IN\nDaily\, 4:00am-6:30am PST\nComplementary in person\nAnd on RA MA TV Community Content Channel \nMany spiritual traditions recognize the early morning hours of the day as a potent and powerful time for deep meditation. The White Sun Sadhana consists of Jap-Ji\, Yoga\, 62 minutes of chanting the Aquarian Sadhana Mantras. Sadhana is always complimentary and open to the public. All level welcome\, no previous experience necessary. \nThe front entrance is locked for this early morning practice. Please enter through the rear door\, 1729 21st Court\, which can be accessed via the back alley that runs parallel to 21st Street.
URL:https://ramayogainstitute.com/event/white-sun-sadhana-59/
LOCATION:Online on RA MA TV
CATEGORIES:Community Content,RA MA TV Live
ATTACH;FMTTYPE=image/jpeg:https://ramayogainstitute.com/wp-content/uploads/2021/11/White-Sun-Sadhana-Album-Cover-2.jpg
END:VEVENT
BEGIN:VEVENT
DTSTART;TZID=America/Los_Angeles:20240817T040000
DTEND;TZID=America/Los_Angeles:20240817T063000
DTSTAMP:20260423T101014
CREATED:20240729T171455Z
LAST-MODIFIED:20240811T213005Z
UID:1938048-1723867200-1723876200@ramayogainstitute.com
SUMMARY:White Sun Sadhana
DESCRIPTION:TUNE IN\nDaily\, 4:00am-6:30am PST\nComplementary in person\nAnd on RA MA TV Community Content Channel \nMany spiritual traditions recognize the early morning hours of the day as a potent and powerful time for deep meditation. The White Sun Sadhana consists of Jap-Ji\, Yoga\, 62 minutes of chanting the Aquarian Sadhana Mantras. Sadhana is always complimentary and open to the public. All level welcome\, no previous experience necessary. \nThe front entrance is locked for this early morning practice. Please enter through the rear door\, 1729 21st Court\, which can be accessed via the back alley that runs parallel to 21st Street.
URL:https://ramayogainstitute.com/event/white-sun-sadhana-58/
LOCATION:Online on RA MA TV
CATEGORIES:Community Content,RA MA TV Live
ATTACH;FMTTYPE=image/jpeg:https://ramayogainstitute.com/wp-content/uploads/2021/11/White-Sun-Sadhana-Album-Cover-2.jpg
END:VEVENT
BEGIN:VEVENT
DTSTART;TZID=America/Los_Angeles:20240816T040000
DTEND;TZID=America/Los_Angeles:20240816T063000
DTSTAMP:20260423T101014
CREATED:20240729T171426Z
LAST-MODIFIED:20240811T212920Z
UID:1938045-1723780800-1723789800@ramayogainstitute.com
SUMMARY:White Sun Sadhana
DESCRIPTION:TUNE IN\nDaily\, 4:00am-6:30am PST\nComplementary in person\nAnd on RA MA TV Community Content Channel \nMany spiritual traditions recognize the early morning hours of the day as a potent and powerful time for deep meditation. The White Sun Sadhana consists of Jap-Ji\, Yoga\, 62 minutes of chanting the Aquarian Sadhana Mantras. Sadhana is always complimentary and open to the public. All level welcome\, no previous experience necessary. \nThe front entrance is locked for this early morning practice. Please enter through the rear door\, 1729 21st Court\, which can be accessed via the back alley that runs parallel to 21st Street.
URL:https://ramayogainstitute.com/event/white-sun-sadhana-57/
LOCATION:Online on RA MA TV
CATEGORIES:Community Content,RA MA TV Live
ATTACH;FMTTYPE=image/jpeg:https://ramayogainstitute.com/wp-content/uploads/2021/11/White-Sun-Sadhana-Album-Cover-2.jpg
END:VEVENT
BEGIN:VEVENT
DTSTART;TZID=America/Los_Angeles:20240815T040000
DTEND;TZID=America/Los_Angeles:20240815T063000
DTSTAMP:20260423T101014
CREATED:20240729T171349Z
LAST-MODIFIED:20240811T212839Z
UID:1938043-1723694400-1723703400@ramayogainstitute.com
SUMMARY:White Sun Sadhana
DESCRIPTION:TUNE IN\nDaily\, 4:00am-6:30am PST\nComplementary in person\nAnd on RA MA TV Community Content Channel \nMany spiritual traditions recognize the early morning hours of the day as a potent and powerful time for deep meditation. The White Sun Sadhana consists of Jap-Ji\, Yoga\, 62 minutes of chanting the Aquarian Sadhana Mantras. Sadhana is always complimentary and open to the public. All level welcome\, no previous experience necessary. \nThe front entrance is locked for this early morning practice. Please enter through the rear door\, 1729 21st Court\, which can be accessed via the back alley that runs parallel to 21st Street.
URL:https://ramayogainstitute.com/event/white-sun-sadhana-56/
LOCATION:Online on RA MA TV
CATEGORIES:Community Content,RA MA TV Live
ATTACH;FMTTYPE=image/jpeg:https://ramayogainstitute.com/wp-content/uploads/2021/11/White-Sun-Sadhana-Album-Cover-2.jpg
END:VEVENT
END:VCALENDAR