BEGIN:VCALENDAR
VERSION:2.0
PRODID:-//RA MA LIFE - ECPv6.15.15//NONSGML v1.0//EN
CALSCALE:GREGORIAN
METHOD:PUBLISH
X-WR-CALNAME:RA MA LIFE
X-ORIGINAL-URL:https://ramayogainstitute.com
X-WR-CALDESC:Events for RA MA LIFE
REFRESH-INTERVAL;VALUE=DURATION:PT1H
X-Robots-Tag:noindex
X-PUBLISHED-TTL:PT1H
BEGIN:VTIMEZONE
TZID:America/Los_Angeles
BEGIN:DAYLIGHT
TZOFFSETFROM:-0800
TZOFFSETTO:-0700
TZNAME:PDT
DTSTART:20230312T100000
END:DAYLIGHT
BEGIN:STANDARD
TZOFFSETFROM:-0700
TZOFFSETTO:-0800
TZNAME:PST
DTSTART:20231105T090000
END:STANDARD
BEGIN:DAYLIGHT
TZOFFSETFROM:-0800
TZOFFSETTO:-0700
TZNAME:PDT
DTSTART:20240310T100000
END:DAYLIGHT
BEGIN:STANDARD
TZOFFSETFROM:-0700
TZOFFSETTO:-0800
TZNAME:PST
DTSTART:20241103T090000
END:STANDARD
BEGIN:DAYLIGHT
TZOFFSETFROM:-0800
TZOFFSETTO:-0700
TZNAME:PDT
DTSTART:20250309T100000
END:DAYLIGHT
BEGIN:STANDARD
TZOFFSETFROM:-0700
TZOFFSETTO:-0800
TZNAME:PST
DTSTART:20251102T090000
END:STANDARD
END:VTIMEZONE
BEGIN:VEVENT
DTSTART;TZID=America/Los_Angeles:20241002T010000
DTEND;TZID=America/Los_Angeles:20241002T033000
DTSTAMP:20260424T090629
CREATED:20240926T032400Z
LAST-MODIFIED:20240926T032531Z
UID:1950918-1727830800-1727839800@ramayogainstitute.com
SUMMARY:SOLAR ECLIPSE NEW MOON | Special Sadhana
DESCRIPTION:TUNE IN\n  \nAll Levels are welcome
URL:https://ramayogainstitute.com/event/solar-eclipse-new-moon-special-sadhana/
LOCATION:RA MA New York & Online
CATEGORIES:Community Content,In Person,RA MA TV Live
ATTACH;FMTTYPE=image/jpeg:https://ramayogainstitute.com/wp-content/uploads/2023/08/RAMA_Sadhana_New_York.jpg
END:VEVENT
BEGIN:VEVENT
DTSTART;TZID=America/Los_Angeles:20241002T040000
DTEND;TZID=America/Los_Angeles:20241002T063000
DTSTAMP:20260424T090629
CREATED:20240926T032844Z
LAST-MODIFIED:20240926T032844Z
UID:1950924-1727841600-1727850600@ramayogainstitute.com
SUMMARY:Solar Eclipse Special Sadhana| White Sun Sadhana
DESCRIPTION:TUNE IN\n  \n 
URL:https://ramayogainstitute.com/event/solar-eclipse-special-sadhana-white-sun-sadhana/
LOCATION:Online
CATEGORIES:Community Content,In Person,RA MA TV Live
ATTACH;FMTTYPE=image/png:https://ramayogainstitute.com/wp-content/uploads/2023/07/white-sun-sadhana-1-1-1-1.png
END:VEVENT
BEGIN:VEVENT
DTSTART;TZID=America/Los_Angeles:20241002T120000
DTEND;TZID=America/Los_Angeles:20241002T123000
DTSTAMP:20260424T090629
CREATED:20240926T030401Z
LAST-MODIFIED:20240926T030401Z
UID:1950906-1727870400-1727872200@ramayogainstitute.com
SUMMARY:Looking Up| Solar Eclipse New Moon in Libra Astrology
DESCRIPTION:TUNE IN\nTeg Prakash is a Kundalini Yoga teacher\, astrologer\, and intuitive sound healer with a passionate curiosity for the teachings of Kundalini Yoga\, as taught by Yogi Bhajan\, and seeks to bring people to a true sense of their soul through astrology\, their personal power through yoga\, and their peace through the power of sound.
URL:https://ramayogainstitute.com/event/looking-up-solar-eclipse-new-moon-in-libra-astrology/
LOCATION:Online
CATEGORIES:Community Content,In Person,RA MA TV Live
ATTACH;FMTTYPE=image/jpeg:https://ramayogainstitute.com/wp-content/uploads/2024/05/Teg_Prakash_meditation_5.2.24.jpeg
END:VEVENT
END:VCALENDAR