BEGIN:VCALENDAR
VERSION:2.0
PRODID:-//RA MA LIFE - ECPv6.15.15//NONSGML v1.0//EN
CALSCALE:GREGORIAN
METHOD:PUBLISH
X-WR-CALNAME:RA MA LIFE
X-ORIGINAL-URL:https://ramayogainstitute.com
X-WR-CALDESC:Events for RA MA LIFE
REFRESH-INTERVAL;VALUE=DURATION:PT1H
X-Robots-Tag:noindex
X-PUBLISHED-TTL:PT1H
BEGIN:VTIMEZONE
TZID:America/Los_Angeles
BEGIN:DAYLIGHT
TZOFFSETFROM:-0800
TZOFFSETTO:-0700
TZNAME:PDT
DTSTART:20230312T100000
END:DAYLIGHT
BEGIN:STANDARD
TZOFFSETFROM:-0700
TZOFFSETTO:-0800
TZNAME:PST
DTSTART:20231105T090000
END:STANDARD
BEGIN:DAYLIGHT
TZOFFSETFROM:-0800
TZOFFSETTO:-0700
TZNAME:PDT
DTSTART:20240310T100000
END:DAYLIGHT
BEGIN:STANDARD
TZOFFSETFROM:-0700
TZOFFSETTO:-0800
TZNAME:PST
DTSTART:20241103T090000
END:STANDARD
BEGIN:DAYLIGHT
TZOFFSETFROM:-0800
TZOFFSETTO:-0700
TZNAME:PDT
DTSTART:20250309T100000
END:DAYLIGHT
BEGIN:STANDARD
TZOFFSETFROM:-0700
TZOFFSETTO:-0800
TZNAME:PST
DTSTART:20251102T090000
END:STANDARD
END:VTIMEZONE
BEGIN:VEVENT
DTSTART;TZID=America/Los_Angeles:20240109T173000
DTEND;TZID=America/Los_Angeles:20240109T190000
DTSTAMP:20260425T041349
CREATED:20230326T190525Z
LAST-MODIFIED:20240108T085641Z
UID:1783862-1704821400-1704826800@ramayogainstitute.com
SUMMARY:The Golden Archives with Guru Jagat
DESCRIPTION:TUNE IN\n 
URL:https://ramayogainstitute.com/event/the-golden-archives-with-guru-jagat/
LOCATION:Online on RA MA TV
CATEGORIES:Community Content,RA MA TV Live
ATTACH;FMTTYPE=image/jpeg:https://ramayogainstitute.com/wp-content/uploads/2021/03/guru-jagat-cal-icon-3.jpg
END:VEVENT
BEGIN:VEVENT
DTSTART;TZID=America/Los_Angeles:20240116T173000
DTEND;TZID=America/Los_Angeles:20240116T190000
DTSTAMP:20260425T041349
CREATED:20240112T130856Z
LAST-MODIFIED:20240112T130856Z
UID:1888153-1705426200-1705431600@ramayogainstitute.com
SUMMARY:The Golden Archives with Guru Jagat
DESCRIPTION:TUNE IN\n 
URL:https://ramayogainstitute.com/event/the-golden-archives-with-guru-jagat-2/
LOCATION:Online on RA MA TV
CATEGORIES:Community Content,RA MA TV Live
ATTACH;FMTTYPE=image/jpeg:https://ramayogainstitute.com/wp-content/uploads/2021/03/guru-jagat-cal-icon-3.jpg
END:VEVENT
BEGIN:VEVENT
DTSTART;TZID=America/Los_Angeles:20240123T173000
DTEND;TZID=America/Los_Angeles:20240123T190000
DTSTAMP:20260425T041349
CREATED:20240117T131012Z
LAST-MODIFIED:20240117T131012Z
UID:1889477-1706031000-1706036400@ramayogainstitute.com
SUMMARY:The Golden Archives with Guru Jagat
DESCRIPTION:TUNE IN\n 
URL:https://ramayogainstitute.com/event/the-golden-archives-with-guru-jagat-3/
LOCATION:Online on RA MA TV
CATEGORIES:Community Content,RA MA TV Live
ATTACH;FMTTYPE=image/jpeg:https://ramayogainstitute.com/wp-content/uploads/2021/03/guru-jagat-cal-icon-3.jpg
END:VEVENT
BEGIN:VEVENT
DTSTART;TZID=America/Los_Angeles:20240125T121500
DTEND;TZID=America/Los_Angeles:20240125T124500
DTSTAMP:20260425T041349
CREATED:20240122T194819Z
LAST-MODIFIED:20240122T195721Z
UID:1891095-1706184900-1706186700@ramayogainstitute.com
SUMMARY:Looking Up| Full Moon in Leo Astrology with Teg Prakash
DESCRIPTION:TUNE IN\nTeg Prakash is a Kundalini Yoga teacher\, astrologer\, and intuitive sound healer with a passionate curiosity for the teachings of Kundalini Yoga\, as taught by Yogi Bhajan\, and seeks to bring people to a true sense of their soul through astrology\, their personal power through yoga\, and their peace through the power of sound.
URL:https://ramayogainstitute.com/event/looking-up-full-moon-in-leo-astrology-with-teg-prakash/
LOCATION:Online
CATEGORIES:Community Content,In Person,RA MA TV Live
ATTACH;FMTTYPE=image/jpeg:https://ramayogainstitute.com/wp-content/uploads/2023/01/Teg_Prakash_Website_Pic.jpg
END:VEVENT
BEGIN:VEVENT
DTSTART;TZID=America/Los_Angeles:20240128T104500
DTEND;TZID=America/Los_Angeles:20240128T110000
DTSTAMP:20260425T041349
CREATED:20231223T193112Z
LAST-MODIFIED:20240127T234347Z
UID:1882288-1706438700-1706439600@ramayogainstitute.com
SUMMARY:Aap Sahaaee Hoaa| Meditation for Prosperity
DESCRIPTION:TUNE IN\nDaily Complimentary Meditation with RA MA CREW
URL:https://ramayogainstitute.com/event/aap-sahaaee-hoaa-meditation-for-prosperity-2/2024-01-28/
LOCATION:Online
CATEGORIES:Community Content,In Person,RA MA TV Live
ATTACH;FMTTYPE=image/jpeg:https://ramayogainstitute.com/wp-content/uploads/2023/01/Los-Angeles-Banner-Yoga-New_Header.jpg
END:VEVENT
BEGIN:VEVENT
DTSTART;TZID=America/Los_Angeles:20240129T190000
DTEND;TZID=America/Los_Angeles:20240129T220000
DTSTAMP:20260425T041349
CREATED:20240120T090141Z
LAST-MODIFIED:20240120T093937Z
UID:1890320-1706554800-1706565600@ramayogainstitute.com
SUMMARY:THE FLOW OF GRACE| PUJYIA with SADHVI BHAGAWATI SARASWATIJI
DESCRIPTION:TUNE IN \nA PRE-SHAKTI FEST EVENT: THE FLOW OF GRACE WITH SADHVI BHAGAWATI SARASWATIJI \nBhakti Fest is thrilled to present Sadhvi Bhagawati Saraswatiji\, a renowned spiritual leader\, bestselling author\, motivational speaker\, and social activist from Rishikesh\, Himalayas\, India at RA MALos Angeles on Monday\, January 29\, 2024 Join us for a very special evening on opening and connecting to the Flow of Grace in a beautiful lead-up to the Shakti Fest mega event at which Sadhviji will be speaking. If you’re looking to deepen your spiritual practice and connect with the flow of divine grace\, then you won’t want to miss this transformative evening. \nSadhviji will lead us in inspiring wisdom talks\, meditation and sacred chanting to open our hearts and minds\, satsang\, and divine blessings. So many of us can’t travel all the way to the Himalayas\, to the banks of the sacred Ganga (Ganges)\, to Rishikesh – but now Rishikesh is coming to Los Angeles! \nDon’t miss this special opportunity to experience the holy presence of a spiritual master\, expand your consciousness\, and learn specific tools of how you can connect more fully with the flow of Divine Grace. For a little preview of what’s in store\, copy the link to the browser\nhttps://youtu.be/_nECDOzEznQ?si=roFssBGI-xPpiPVr to watch our Bhakti Speaks interview with Sadhviji! \nThere will also be a beautiful kirtan with Govindas and Jacqueline of Bhakti Yoga Shala! \nThis is a donation-based event
URL:https://ramayogainstitute.com/event/the-flow-of-grace-pujyia-with-sadhvi-bhagawati-saraswatiji/
LOCATION:Online
CATEGORIES:Community Content,In Person
ATTACH;FMTTYPE=image/png:https://ramayogainstitute.com/wp-content/uploads/2024/01/RamaeventQR.png
END:VEVENT
BEGIN:VEVENT
DTSTART;TZID=America/Los_Angeles:20240130T173000
DTEND;TZID=America/Los_Angeles:20240130T190000
DTSTAMP:20260425T041349
CREATED:20240121T183954Z
LAST-MODIFIED:20240121T183954Z
UID:1890752-1706635800-1706641200@ramayogainstitute.com
SUMMARY:The Golden Archives with Guru Jagat
DESCRIPTION:TUNE IN\n 
URL:https://ramayogainstitute.com/event/the-golden-archives-with-guru-jagat-4/
LOCATION:Online on RA MA TV
CATEGORIES:Community Content,RA MA TV Live
ATTACH;FMTTYPE=image/jpeg:https://ramayogainstitute.com/wp-content/uploads/2021/03/guru-jagat-cal-icon-3.jpg
END:VEVENT
END:VCALENDAR