BEGIN:VCALENDAR
VERSION:2.0
PRODID:-//RA MA LIFE - ECPv6.15.15//NONSGML v1.0//EN
CALSCALE:GREGORIAN
METHOD:PUBLISH
X-WR-CALNAME:RA MA LIFE
X-ORIGINAL-URL:https://ramayogainstitute.com
X-WR-CALDESC:Events for RA MA LIFE
REFRESH-INTERVAL;VALUE=DURATION:PT1H
X-Robots-Tag:noindex
X-PUBLISHED-TTL:PT1H
BEGIN:VTIMEZONE
TZID:America/Los_Angeles
BEGIN:DAYLIGHT
TZOFFSETFROM:-0800
TZOFFSETTO:-0700
TZNAME:PDT
DTSTART:20250309T100000
END:DAYLIGHT
BEGIN:STANDARD
TZOFFSETFROM:-0700
TZOFFSETTO:-0800
TZNAME:PST
DTSTART:20251102T090000
END:STANDARD
BEGIN:DAYLIGHT
TZOFFSETFROM:-0800
TZOFFSETTO:-0700
TZNAME:PDT
DTSTART:20260308T100000
END:DAYLIGHT
BEGIN:STANDARD
TZOFFSETFROM:-0700
TZOFFSETTO:-0800
TZNAME:PST
DTSTART:20261101T090000
END:STANDARD
BEGIN:DAYLIGHT
TZOFFSETFROM:-0800
TZOFFSETTO:-0700
TZNAME:PDT
DTSTART:20270314T100000
END:DAYLIGHT
BEGIN:STANDARD
TZOFFSETFROM:-0700
TZOFFSETTO:-0800
TZNAME:PST
DTSTART:20271107T090000
END:STANDARD
END:VTIMEZONE
BEGIN:VEVENT
DTSTART;TZID=America/Los_Angeles:20260420T190000
DTEND;TZID=America/Los_Angeles:20260421T080000
DTSTAMP:20260421T020827
CREATED:20260416T141948Z
LAST-MODIFIED:20260416T141948Z
UID:2018468-1776711600-1776758400@ramayogainstitute.com
SUMMARY:AQUARIAN SADHANA
DESCRIPTION:2.5 hours of deep Kundalini Yoga and meditation practice in devotion to self.
URL:https://ramayogainstitute.com/event/aquarian-sadhana-18/2026-04-21/
LOCATION:Online on RA MA TV
CATEGORIES:RA MA TV Live
ATTACH;FMTTYPE=image/jpeg:https://ramayogainstitute.com/wp-content/uploads/2026/03/69-RamaXMondkind-69.jpg
END:VEVENT
BEGIN:VEVENT
DTSTART;TZID=America/Los_Angeles:20260421T003000
DTEND;TZID=America/Los_Angeles:20260421T020000
DTSTAMP:20260421T020827
CREATED:20260206T154522Z
LAST-MODIFIED:20260415T221201Z
UID:2013470-1776731400-1776736800@ramayogainstitute.com
SUMMARY:LETTING LIGHT IN | Kundalini Yoga & Meditation
DESCRIPTION:Kundalini yoga and meditation for a soft morning.
URL:https://ramayogainstitute.com/event/letting-light-in-kundalini-yoga-meditation/2026-04-21/
LOCATION:Online on Zoom
CATEGORIES:RA MA TV Live,RA MA TV ZOOM
ATTACH;FMTTYPE=image/jpeg:https://ramayogainstitute.com/wp-content/uploads/2023/03/Johanna.jpeg
END:VEVENT
BEGIN:VEVENT
DTSTART;TZID=America/Los_Angeles:20260421T083000
DTEND;TZID=America/Los_Angeles:20260421T090000
DTSTAMP:20260421T020827
CREATED:20260223T162404Z
LAST-MODIFIED:20260415T213900Z
UID:2011452-1776760200-1776762000@ramayogainstitute.com
SUMMARY:GLOBAL MEDITATION
DESCRIPTION:
URL:https://ramayogainstitute.com/event/global-meditation-2026-02-25/2026-04-21/
LOCATION:Online on RA MA TV
CATEGORIES:In Person,RA MA TV Live,RA MA TV ZOOM
ATTACH;FMTTYPE=image/jpeg:https://ramayogainstitute.com/wp-content/uploads/2026/02/Sat_Kriya_1-e1773928469437.jpg
END:VEVENT
BEGIN:VEVENT
DTSTART;TZID=America/Los_Angeles:20260421T090000
DTEND;TZID=America/Los_Angeles:20260421T103000
DTSTAMP:20260421T020827
CREATED:20260415T143723Z
LAST-MODIFIED:20260415T151223Z
UID:2017610-1776762000-1776767400@ramayogainstitute.com
SUMMARY:FOR THE NERVES | With Teg Prakash
DESCRIPTION:Kundalini Yoga and Meditation to calm\, balance\, and nourish the nervous system.
URL:https://ramayogainstitute.com/event/for-the-nerves-with-teg-prakash/2026-04-21/
LOCATION:Online on RA MA TV
CATEGORIES:In Person,RA MA TV Live
ATTACH;FMTTYPE=image/jpeg:https://ramayogainstitute.com/wp-content/uploads/2025/07/teg_prakash_thumb_6.jpg
END:VEVENT
BEGIN:VEVENT
DTSTART;TZID=America/Los_Angeles:20260421T190000
DTEND;TZID=America/Los_Angeles:20260422T080000
DTSTAMP:20260421T020827
CREATED:20260416T141948Z
LAST-MODIFIED:20260416T141948Z
UID:2018469-1776798000-1776844800@ramayogainstitute.com
SUMMARY:AQUARIAN SADHANA
DESCRIPTION:2.5 hours of deep Kundalini Yoga and meditation practice in devotion to self.
URL:https://ramayogainstitute.com/event/aquarian-sadhana-18/2026-04-22/
LOCATION:Online on RA MA TV
CATEGORIES:RA MA TV Live
ATTACH;FMTTYPE=image/jpeg:https://ramayogainstitute.com/wp-content/uploads/2026/03/69-RamaXMondkind-69.jpg
END:VEVENT
END:VCALENDAR