BEGIN:VCALENDAR
VERSION:2.0
PRODID:-//RA MA LIFE - ECPv6.15.15//NONSGML v1.0//EN
CALSCALE:GREGORIAN
METHOD:PUBLISH
X-WR-CALNAME:RA MA LIFE
X-ORIGINAL-URL:https://ramayogainstitute.com
X-WR-CALDESC:Events for RA MA LIFE
REFRESH-INTERVAL;VALUE=DURATION:PT1H
X-Robots-Tag:noindex
X-PUBLISHED-TTL:PT1H
BEGIN:VTIMEZONE
TZID:America/Los_Angeles
BEGIN:DAYLIGHT
TZOFFSETFROM:-0800
TZOFFSETTO:-0700
TZNAME:PDT
DTSTART:20210314T100000
END:DAYLIGHT
BEGIN:STANDARD
TZOFFSETFROM:-0700
TZOFFSETTO:-0800
TZNAME:PST
DTSTART:20211107T090000
END:STANDARD
BEGIN:DAYLIGHT
TZOFFSETFROM:-0800
TZOFFSETTO:-0700
TZNAME:PDT
DTSTART:20220313T100000
END:DAYLIGHT
BEGIN:STANDARD
TZOFFSETFROM:-0700
TZOFFSETTO:-0800
TZNAME:PST
DTSTART:20221106T090000
END:STANDARD
BEGIN:DAYLIGHT
TZOFFSETFROM:-0800
TZOFFSETTO:-0700
TZNAME:PDT
DTSTART:20230312T100000
END:DAYLIGHT
BEGIN:STANDARD
TZOFFSETFROM:-0700
TZOFFSETTO:-0800
TZNAME:PST
DTSTART:20231105T090000
END:STANDARD
END:VTIMEZONE
BEGIN:VEVENT
DTSTART;TZID=America/Los_Angeles:20221202T090000
DTEND;TZID=America/Los_Angeles:20221202T103000
DTSTAMP:20260423T031445
CREATED:20221201T225538Z
LAST-MODIFIED:20221201T230158Z
UID:1755722-1669971600-1669977000@ramayogainstitute.com
SUMMARY:The Attitude of Gratitude: Opening the Channels of Giving & Receiving
DESCRIPTION:TUNE IN  \nGratitude is an expression of Divine intent\, and the optimum way to navigate through time and space. \nEverything you give and receive needs to be blessed with gratitude so the positive polarity can be activated. By giving in the finite form\, you receive from the Infinite. Acts of giving and receiving are opportunities to create more harmonious relationships and environments and enter the natural flow of positive intention. This heart-centered state of reciprocity is the foundation of the Aquarian Age\, a time of accelerated consciousness and unprecedented levels of communication. Join Mandev as she uses Kundalini Yoga\, deep Meditation and the Gong to balance and synchronize your mind\, body and spirit with the cosmic flow of gratitude. Release your deep subconscious blocks\, which will enhance your self-worth\, expand your capacity to receive\, and increase your ability to give and excel.
URL:https://ramayogainstitute.com/event/the-attitude-of-gratitude-opening-the-channels-of-giving-receiving/2022-12-02/
LOCATION:Online
CATEGORIES:In Person,RA MA TV Live
ATTACH;FMTTYPE=image/jpeg:https://ramayogainstitute.com/wp-content/uploads/2022/08/Mandev-Stage-Photo-small.jpg
END:VEVENT
END:VCALENDAR