BEGIN:VCALENDAR
VERSION:2.0
PRODID:-//RA MA LIFE - ECPv6.15.15//NONSGML v1.0//EN
CALSCALE:GREGORIAN
METHOD:PUBLISH
X-WR-CALNAME:RA MA LIFE
X-ORIGINAL-URL:https://ramayogainstitute.com
X-WR-CALDESC:Events for RA MA LIFE
REFRESH-INTERVAL;VALUE=DURATION:PT1H
X-Robots-Tag:noindex
X-PUBLISHED-TTL:PT1H
BEGIN:VTIMEZONE
TZID:America/Los_Angeles
BEGIN:DAYLIGHT
TZOFFSETFROM:-0800
TZOFFSETTO:-0700
TZNAME:PDT
DTSTART:20220313T100000
END:DAYLIGHT
BEGIN:STANDARD
TZOFFSETFROM:-0700
TZOFFSETTO:-0800
TZNAME:PST
DTSTART:20221106T090000
END:STANDARD
BEGIN:DAYLIGHT
TZOFFSETFROM:-0800
TZOFFSETTO:-0700
TZNAME:PDT
DTSTART:20230312T100000
END:DAYLIGHT
BEGIN:STANDARD
TZOFFSETFROM:-0700
TZOFFSETTO:-0800
TZNAME:PST
DTSTART:20231105T090000
END:STANDARD
BEGIN:DAYLIGHT
TZOFFSETFROM:-0800
TZOFFSETTO:-0700
TZNAME:PDT
DTSTART:20240310T100000
END:DAYLIGHT
BEGIN:STANDARD
TZOFFSETFROM:-0700
TZOFFSETTO:-0800
TZNAME:PST
DTSTART:20241103T090000
END:STANDARD
END:VTIMEZONE
BEGIN:VEVENT
DTSTART;TZID=America/Los_Angeles:20231103T060000
DTEND;TZID=America/Los_Angeles:20231103T073000
DTSTAMP:20260422T024619
CREATED:20231025T190431Z
LAST-MODIFIED:20231101T181817Z
UID:1863837-1698991200-1698996600@ramayogainstitute.com
SUMMARY:Social Reform Series with Melissa Wu
DESCRIPTION:TUNE IN\nMelissa aims to share practical tools and be an example of how one can elevate and propel beyond sufferings and alchemize one’s life circumstance into its fullest potential. Melissa combines her research and studies in movement/somatics\, psychology\, reiki\, biology\, quantum physics\, archeology and eastern medicine\, into the systemic teachings of Kundalini Yoga and her own movement practice. \n 
URL:https://ramayogainstitute.com/event/social-reform-series-with-melissa-wu/2023-11-03/
LOCATION:RA MA Intitute New York and online
CATEGORIES:In Person,RA MA TV Live
ATTACH;FMTTYPE=image/jpeg:https://ramayogainstitute.com/wp-content/uploads/2023/09/RAMA_Melissa_Wu_Header.jpg
END:VEVENT
END:VCALENDAR