BEGIN:VCALENDAR
VERSION:2.0
PRODID:-//RA MA LIFE - ECPv6.15.15//NONSGML v1.0//EN
CALSCALE:GREGORIAN
METHOD:PUBLISH
X-ORIGINAL-URL:https://ramayogainstitute.com
X-WR-CALDESC:Events for RA MA LIFE
REFRESH-INTERVAL;VALUE=DURATION:PT1H
X-Robots-Tag:noindex
X-PUBLISHED-TTL:PT1H
BEGIN:VTIMEZONE
TZID:America/Los_Angeles
BEGIN:DAYLIGHT
TZOFFSETFROM:-0800
TZOFFSETTO:-0700
TZNAME:PDT
DTSTART:20230312T100000
END:DAYLIGHT
BEGIN:STANDARD
TZOFFSETFROM:-0700
TZOFFSETTO:-0800
TZNAME:PST
DTSTART:20231105T090000
END:STANDARD
BEGIN:DAYLIGHT
TZOFFSETFROM:-0800
TZOFFSETTO:-0700
TZNAME:PDT
DTSTART:20240310T100000
END:DAYLIGHT
BEGIN:STANDARD
TZOFFSETFROM:-0700
TZOFFSETTO:-0800
TZNAME:PST
DTSTART:20241103T090000
END:STANDARD
BEGIN:DAYLIGHT
TZOFFSETFROM:-0800
TZOFFSETTO:-0700
TZNAME:PDT
DTSTART:20250309T100000
END:DAYLIGHT
BEGIN:STANDARD
TZOFFSETFROM:-0700
TZOFFSETTO:-0800
TZNAME:PST
DTSTART:20251102T090000
END:STANDARD
BEGIN:DAYLIGHT
TZOFFSETFROM:-0800
TZOFFSETTO:-0700
TZNAME:PDT
DTSTART:20260308T100000
END:DAYLIGHT
BEGIN:STANDARD
TZOFFSETFROM:-0700
TZOFFSETTO:-0800
TZNAME:PST
DTSTART:20261101T090000
END:STANDARD
END:VTIMEZONE
BEGIN:VEVENT
DTSTART;TZID=America/Los_Angeles:20250508T150000
DTEND;TZID=America/Los_Angeles:20250508T155500
DTSTAMP:20260421T131954
CREATED:20240926T021711Z
LAST-MODIFIED:20240926T021711Z
UID:1983480-1746716400-1746719700@ramayogainstitute.com
SUMMARY:RESTORE |  Kundalini Yoga & Meditation with Sher Kirtan
DESCRIPTION:TUNE IN\nAll Levels Kundalini Yoga & Meditation
URL:https://ramayogainstitute.com/event/restore-kundalini-yoga-meditation-with-sher-kirtan-6/2025-05-08/
LOCATION:RA MA New York & Online
CATEGORIES:In Person,RA MA TV Live
ATTACH;FMTTYPE=image/jpeg:https://ramayogainstitute.com/wp-content/uploads/2022/08/Sher-Kirtan-NY-Teacher.jpg
END:VEVENT
BEGIN:VEVENT
DTSTART;TZID=America/Los_Angeles:20240926T150000
DTEND;TZID=America/Los_Angeles:20240926T155500
DTSTAMP:20260421T131954
CREATED:20240926T021711Z
LAST-MODIFIED:20241108T044946Z
UID:1950632-1727362800-1727366100@ramayogainstitute.com
SUMMARY:RESTORE |  Kundalini Yoga & Meditation with Sher Kirtan
DESCRIPTION:TUNE IN\nAll Levels Kundalini Yoga & Meditation
URL:https://ramayogainstitute.com/event/restore-kundalini-yoga-meditation-with-sher-kirtan-6/2024-09-26/
LOCATION:RA MA New York & Online
CATEGORIES:In Person,RA MA TV Live
ATTACH;FMTTYPE=image/jpeg:https://ramayogainstitute.com/wp-content/uploads/2022/08/Sher-Kirtan-NY-Teacher.jpg
END:VEVENT
END:VCALENDAR