BEGIN:VCALENDAR
VERSION:2.0
PRODID:-//RA MA LIFE - ECPv6.15.15//NONSGML v1.0//EN
CALSCALE:GREGORIAN
METHOD:PUBLISH
X-ORIGINAL-URL:https://ramayogainstitute.com
X-WR-CALDESC:Events for RA MA LIFE
REFRESH-INTERVAL;VALUE=DURATION:PT1H
X-Robots-Tag:noindex
X-PUBLISHED-TTL:PT1H
BEGIN:VTIMEZONE
TZID:America/Los_Angeles
BEGIN:DAYLIGHT
TZOFFSETFROM:-0800
TZOFFSETTO:-0700
TZNAME:PDT
DTSTART:20220313T100000
END:DAYLIGHT
BEGIN:STANDARD
TZOFFSETFROM:-0700
TZOFFSETTO:-0800
TZNAME:PST
DTSTART:20221106T090000
END:STANDARD
BEGIN:DAYLIGHT
TZOFFSETFROM:-0800
TZOFFSETTO:-0700
TZNAME:PDT
DTSTART:20230312T100000
END:DAYLIGHT
BEGIN:STANDARD
TZOFFSETFROM:-0700
TZOFFSETTO:-0800
TZNAME:PST
DTSTART:20231105T090000
END:STANDARD
BEGIN:DAYLIGHT
TZOFFSETFROM:-0800
TZOFFSETTO:-0700
TZNAME:PDT
DTSTART:20240310T100000
END:DAYLIGHT
BEGIN:STANDARD
TZOFFSETFROM:-0700
TZOFFSETTO:-0800
TZNAME:PST
DTSTART:20241103T090000
END:STANDARD
END:VTIMEZONE
BEGIN:VEVENT
DTSTART;TZID=America/Los_Angeles:20230916T080000
DTEND;TZID=America/Los_Angeles:20230916T093000
DTSTAMP:20260422T142747
CREATED:20230914T013309Z
LAST-MODIFIED:20230928T234415Z
UID:1840738-1694851200-1694856600@ramayogainstitute.com
SUMMARY:Mind Mastery — Kundalini Yoga & Meditation with Kelle Jacob
DESCRIPTION:TUNE IN VIRTUALLY\nOR \nIN PERSON\nA 5-Part Class Series To Conquer Self-Doubt and Tame Your Inner Critic\n \n\nDiscover powerful tools to manage stress\, anxiety and find more joy. Attract abundance and optimism into your life with a radiant mindset. When you are able to master your mind and yourself\, watch how greatly you can change and optimize your life. \n\nSESSIONS\nSaturdays 11:00am – 12:30pm EDT\nVirtually on RA MA TV Live\nIn Person @RA MA New York \nSEPT 16 | Taming The Inner Critic:\nBalancing the Negative Mind \nSEPT 23 | Cultivating Positivity:\nEmpowering the Positive Mind \nSEPT 30 | Neutral Mind Activation:\nEmbrace the Power of Equanimity \nOCT 7 | Conquering Mental Chaos:\nHarmonizing the Minds \nOCT 14 | Mind Mastery Unleashed:\nEmbrace Your Infinite Power \n+ In Person Only Sessions\nThursdays 11am – 12:30 & 5:30 – 6:30pm EDT \nABOUT KELLE JACOB \nIntroducing Kelle Jacob\, a catalyst for profound personal transformation\, guiding seekers on a path of power\, wisdom\, and growth through Kundalini yoga and meditation. With a multidisciplinary background in neuroscience\, integrative nutrition\, and ancient technologies\, Kelle merges ancient wisdom with modern science to ignite the dormant potential within individuals. Together\, Kelle and their students explore the intricate landscapes of the human spirit\, unlocking creativity\, vitality\, and purpose. Whether one is an executive\, a high-performing professional\, or simply seeking inner alignment\, Kelle surpasses expectations and leads individuals to new heights of success and self-mastery. Join Kelle on this extraordinary journey to unlock true potential and embrace the boundless power within\, manifesting a life of limitless possibilities together. \n@kellejacob \n 
URL:https://ramayogainstitute.com/event/mind-mastery/2023-09-16/
LOCATION:RA MA New York & Online
CATEGORIES:In Person,RA MA TV Live
ATTACH;FMTTYPE=image/jpeg:https://ramayogainstitute.com/wp-content/uploads/2023/09/Kelle-Mind-Mastery-YouTube-Thumbnail.jpg
END:VEVENT
END:VCALENDAR