BEGIN:VCALENDAR
VERSION:2.0
PRODID:-//RA MA LIFE - ECPv6.15.15//NONSGML v1.0//EN
CALSCALE:GREGORIAN
METHOD:PUBLISH
X-ORIGINAL-URL:https://ramayogainstitute.com
X-WR-CALDESC:Events for RA MA LIFE
REFRESH-INTERVAL;VALUE=DURATION:PT1H
X-Robots-Tag:noindex
X-PUBLISHED-TTL:PT1H
BEGIN:VTIMEZONE
TZID:America/Los_Angeles
BEGIN:DAYLIGHT
TZOFFSETFROM:-0800
TZOFFSETTO:-0700
TZNAME:PDT
DTSTART:20210314T100000
END:DAYLIGHT
BEGIN:STANDARD
TZOFFSETFROM:-0700
TZOFFSETTO:-0800
TZNAME:PST
DTSTART:20211107T090000
END:STANDARD
BEGIN:DAYLIGHT
TZOFFSETFROM:-0800
TZOFFSETTO:-0700
TZNAME:PDT
DTSTART:20220313T100000
END:DAYLIGHT
BEGIN:STANDARD
TZOFFSETFROM:-0700
TZOFFSETTO:-0800
TZNAME:PST
DTSTART:20221106T090000
END:STANDARD
BEGIN:DAYLIGHT
TZOFFSETFROM:-0800
TZOFFSETTO:-0700
TZNAME:PDT
DTSTART:20230312T100000
END:DAYLIGHT
BEGIN:STANDARD
TZOFFSETFROM:-0700
TZOFFSETTO:-0800
TZNAME:PST
DTSTART:20231105T090000
END:STANDARD
END:VTIMEZONE
BEGIN:VEVENT
DTSTART;TZID=America/Los_Angeles:20221107T190000
DTEND;TZID=America/Los_Angeles:20221107T201500
DTSTAMP:20260422T090323
CREATED:20221105T223004Z
LAST-MODIFIED:20221114T005637Z
UID:1748905-1667847600-1667852100@ramayogainstitute.com
SUMMARY:Kundalini Yoga & Meditation with Jen Saltiel
DESCRIPTION:TUNE IN
URL:https://ramayogainstitute.com/event/kundalini-yoga-meditation-with-ray/2022-11-07/
LOCATION:Online
CATEGORIES:In Person,RA MA TV Live
ATTACH;FMTTYPE=image/jpeg:https://ramayogainstitute.com/wp-content/uploads/2022/06/Jen-Saltiel-Vimeo-Thumbnail.jpg
END:VEVENT
END:VCALENDAR